Workbook

Sheet Izvori financiranja
A2: JEDINSTVENE OZNAKE IZVORA FINANCIRANJA ZA PRAĆENJE EU SREDSTAVA
A3: Brojčana oznaka | B3: Naziv fonda/programa
A4: 510 | B4: Programi Unije
A5: 561 | B5: Europski socijalni fond plus
A6: 562 | B6: Kohezijski fond
A7: 563 | B7: Europski fond za regionalni razvoj
A8: 564 | B8: Fond za pomorstvo, ribarstvo i akvakulturu
A9: 565 | B9: Europski poljoprivredni fond za ruralni razvoj
A10: 566 | B10: Modernizacijski fond
A11: 567 | B11: Socijalni fond za klimatsku politiku
A12: 575 | B12: Fond za azil, migracije i integraciju
A13: 577 | B13: Fond za pravednu tranziciju
A14: 578 | B14: Fond za unutarnju sigurnost
A15: 579 | B15: Fond za integrirano upravljanje granicama
... A18: 816 | B18: Sigurnosna akcija za Europu (SAFE - zajam)

Sheet Ukupno
A1: Obveznik: | B1: OPĆINA DONJA MOTIČINA | C1: Razina: | D1: 22 | H1: Razdoblje: | I1: 2026-09
A2: EU IZVJEŠTAJ PO IZVORIMA FINANCIRANJA
A3: Račun iz Rač. plana | B3: Opis stavke | C3: Šifra | D3: Ukupno izvor financiranja za praćenje EU sredstava | F3: Nacionalno sufinanciranje | H3: Ukupno | J3: Indeks (8/9)
A4: 1 | B4: 2 | C4: 3 | D4: 4 | E4: 5 | F4: 6 | G4: 7 | H4: 8=4+6 | I4: 9=5+7 | J4: 10
A5: PRIHODI I PRIMICI | D5: Ostvareno u izvještajnom razdoblju prethodne godine | E5: Ostvareno u izvještajnom razdoblju tekuće godine | F5: Ostvareno u izvještajnom razdoblju prethodne godine | G5: Ostvareno u izvještajnom razdoblju tekuće godine | H5: Ostvareno u izvještajnom razdoblju prethodne godine | I5: Ostvareno u izvještajnom razdoblju tekuće godine
A6: 6 | B6: PRIHODI POSLOVANJA (šifre 631+632+638+639+671) | C6: 6 | D6: =+D7+D14+D19+D30+D35 -> 0 | E6: =+E7+E14+E19+E30+E35 -> 475122.36 | F6: =+F7+F14+F19+F30+F35 -> 0 | G6: =+G7+G14+G19+G30+G35 -> 62765.21 | H6: =+H7+H14+H19+H30+H35 -> 0 | I6: =+I7+I14+I19+I30+I35 -> 537887.57 | J6: =IF(H6<>0,IF(I6/H6>=100,">>100",I6/H6*100),"-") -> -
A7: 631 | B7: Pomoći od inozemnih vlada (šifre 6311+6312) | C7: 631 | D7: =D8+D11 -> 0 | E7: =E8+E11 -> 0 | F7: =F8+F11 -> 0 | G7: =G8+G11 -> 0 | H7: =H8+H11 -> 0 | I7: =I8+I11 -> 0 | J7: =IF(H7<>0,IF(I7/H7>=100,">>100",I7/H7*100),"-") -> -
A8: 6311 | B8: Tekuće pomoći od inozemnih vlada (šifre 63111+63112) | C8: 6311 | D8: =SUM(D9:D10) -> 0 | E8: =SUM(E9:E10) -> 0 | F8: =SUM(F9:F10) -> 0 | G8: =SUM(G9:G10) -> 0 | H8: =SUM(H9:H10) -> 0 | I8: =SUM(I9:I10) -> 0 | J8: =IF(H8<>0,IF(I8/H8>=100,">>100",I8/H8*100),"-") -> -
A9: 63111 | B9: Tekuće pomoći od inozemnih vlada u EU | C9: 63111 | D9: =SUM('510:816'!D9) -> 0 | E9: =SUM('510:816'!E9) -> 0 | F9: ='Nacionalno sufinanciranje'!D9 -> 0 | G9: ='Nacionalno sufinanciranje'!E9 -> 0 | H9: =D9+F9 -> 0 | I9: =E9+G9 -> 0 | J9: =IF(H9<>0,IF(I9/H9>=100,">>100",I9/H9*100),"-") -> -
A10: 63112 | B10: Tekuće pomoći od inozemnih vlada izvan EU | C10: 63112 | D10: =SUM('510:816'!D10) -> 0 | E10: =SUM('510:816'!E10) -> 0 | F10: ='Nacionalno sufinanciranje'!D10 -> 0 | G10: ='Nacionalno sufinanciranje'!E10 -> 0 | H10: =D10+F10 -> 0 | I10: =E10+G10 -> 0 | J10: =IF(H10<>0,IF(I10/H10>=100,">>100",I10/H10*100),"-") -> -
A11: 6312 | B11: Kapitalne pomoći od inozemnih vlada (šifre 63121+63122) | C11: 6312 | D11: =SUM(D12:D13) -> 0 | E11: =SUM(E12:E13) -> 0 | F11: =SUM(F12:F13) -> 0 | G11: =SUM(G12:G13) -> 0 | H11: =SUM(H12:H13) -> 0 | I11: =SUM(I12:I13) -> 0 | J11: =IF(H11<>0,IF(I11/H11>=100,">>100",I11/H11*100),"-") -> -
A12: 63121 | B12: Kapitalne pomoći od inozemnih vlada u EU | C12: 63121 | D12: =SUM('510:816'!D12) -> 0 | E12: =SUM('510:816'!E12) -> 0 | F12: ='Nacionalno sufinanciranje'!D12 -> 0 | G12: ='Nacionalno sufinanciranje'!E12 -> 0 | H12: =D12+F12 -> 0 | I12: =E12+G12 -> 0 | J12: =IF(H12<>0,IF(I12/H12>=100,">>100",I12/H12*100),"-") -> -
A13: 63122 | B13: Kapitalne pomoći od inozemnih vlada izvan EU | C13: 63122 | D13: =SUM('510:816'!D13) -> 0 | E13: =SUM('510:816'!E13) -> 0 | F13: ='Nacionalno sufinanciranje'!D13 -> 0 | G13: ='Nacionalno sufinanciranje'!E13 -> 0 | H13: =D13+F13 -> 0 | I13: =E13+G13 -> 0 | J13: =IF(H13<>0,IF(I13/H13>=100,">>100",I13/H13*100),"-") -> -
A14: 632 | B14: Pomoći od međunarodnih organizacija te institucija i tijela EU (šifre 6321 do 6324) | C14: 632 | D14: =SUM(D15:D18) -> 0 | E14: =SUM(E15:E18) -> 0 | F14: =SUM(F15:F18) -> 0 | G14: =SUM(G15:G18) -> 0 | H14: =SUM(H15:H18) -> 0 | I14: =SUM(I15:I18) -> 0 | J14: =IF(H14<>0,IF(I14/H14>=100,">>100",I14/H14*100),"-") -> -
A15: 6321 | B15: Tekuće pomoći od međunarodnih organizacija | C15: 6321 | D15: =SUM('510:816'!D15) -> 0 | E15: =SUM('510:816'!E15) -> 0 | F15: ='Nacionalno sufinanciranje'!D15 -> 0 | G15: ='Nacionalno sufinanciranje'!E15 -> 0 | H15: =D15+F15 -> 0 | I15: =E15+G15 -> 0 | J15: =IF(H15<>0,IF(I15/H15>=100,">>100",I15/H15*100),"-") -> -
A16: 6322 | B16: Kapitalne pomoći od međunarodnih organizacija | C16: 6322 | D16: =SUM('510:816'!D16) -> 0 | E16: =SUM('510:816'!E16) -> 0 | F16: ='Nacionalno sufinanciranje'!D16 -> 0 | G16: ='Nacionalno sufinanciranje'!E16 -> 0 | H16: =D16+F16 -> 0 | I16: =E16+G16 -> 0 | J16: =IF(H16<>0,IF(I16/H16>=100,">>100",I16/H16*100),"-") -> -
A17: 6323 | B17: Tekuće pomoći od institucija i tijela EU | C17: 6323 | D17: =SUM('510:816'!D17) -> 0 | E17: =SUM('510:816'!E17) -> 0 | F17: ='Nacionalno sufinanciranje'!D17 -> 0 | G17: ='Nacionalno sufinanciranje'!E17 -> 0 | H17: =D17+F17 -> 0 | I17: =E17+G17 -> 0 | J17: =IF(H17<>0,IF(I17/H17>=100,">>100",I17/H17*100),"-") -> -
A18: 6324 | B18: Kapitalne pomoći od institucija i tijela EU | C18: 6324 | D18: =SUM('510:816'!D18) -> 0 | E18: =SUM('510:816'!E18) -> 0 | F18: ='Nacionalno sufinanciranje'!D18 -> 0 | G18: ='Nacionalno sufinanciranje'!E18 -> 0 | H18: =D18+F18 -> 0 | I18: =E18+G18 -> 0 | J18: =IF(H18<>0,IF(I18/H18>=100,">>100",I18/H18*100),"-") -> -
A19: 638 | B19: Pomoći temeljem prijenosa EU sredstava (šifre 6381+6382) | C19: 638 | D19: =D20+D25 -> 0 | E19: =E20+E25 -> 475122.36 | F19: =F20+F25 -> 0 | G19: =G20+G25 -> 62765.21 | H19: =H20+H25 -> 0 | I19: =I20+I25 -> 537887.57 | J19: =IF(H19<>0,IF(I19/H19>=100,">>100",I19/H19*100),"-") -> -
A20: 6381 | B20: Tekuće pomoći temeljem prijenosa EU sredstava (šifre 63811 do 63814) | C20: 6381 | D20: =SUM(D21:D24) -> 0 | E20: =SUM(E21:E24) -> 475122.36 | F20: =SUM(F21:F24) -> 0 | G20: =SUM(G21:G24) -> 62765.21 | H20: =SUM(H21:H24) -> 0 | I20: =SUM(I21:I24) -> 537887.57 | J20: =IF(H20<>0,IF(I20/H20>=100,">>100",I20/H20*100),"-") -> -
A21: 63811 | B21: Tekuće pomoći iz državnog proračuna temeljem prijenosa EU sredstava | C21: 63811 | D21: =SUM('510:816'!D21) -> 0 | E21: =SUM('510:816'!E21) -> 475122.36 | F21: ='Nacionalno sufinanciranje'!D21 -> 0 | G21: ='Nacionalno sufinanciranje'!E21 -> 62765.21 | H21: =D21+F21 -> 0 | I21: =E21+G21 -> 537887.57 | J21: =IF(H21<>0,IF(I21/H21>=100,">>100",I21/H21*100),"-") -> -
A22: 63812 | B22: Tekuće pomoći iz proračuna JLP(R)S temeljem prijenosa EU sredstava | C22: 63812 | D22: =SUM('510:816'!D22) -> 0 | E22: =SUM('510:816'!E22) -> 0 | F22: ='Nacionalno sufinanciranje'!D22 -> 0 | G22: ='Nacionalno sufinanciranje'!E22 -> 0 | H22: =D22+F22 -> 0 | I22: =E22+G22 -> 0 | J22: =IF(H22<>0,IF(I22/H22>=100,">>100",I22/H22*100),"-") -> -
A23: 63813 | B23: Tekuće pomoći od proračunskog korisnika drugog proračuna temeljem prijenosa EU sredstava | C23: 63813 | D23: =SUM('510:816'!D23) -> 0 | E23: =SUM('510:816'!E23) -> 0 | F23: ='Nacionalno sufinanciranje'!D23 -> 0 | G23: ='Nacionalno sufinanciranje'!E23 -> 0 | H23: =D23+F23 -> 0 | I23: =E23+G23 -> 0 | J23: =IF(H23<>0,IF(I23/H23>=100,">>100",I23/H23*100),"-") -> -
A24: 63814 | B24: Tekuće pomoći od izvaproračunskog korisnika temeljem prijenosa EU sredstava | C24: 63814 | D24: =SUM('510:816'!D24) -> 0 | E24: =SUM('510:816'!E24) -> 0 | F24: ='Nacionalno sufinanciranje'!D24 -> 0 | G24: ='Nacionalno sufinanciranje'!E24 -> 0 | H24: =D24+F24 -> 0 | I24: =E24+G24 -> 0 | J24: =IF(H24<>0,IF(I24/H24>=100,">>100",I24/H24*100),"-") -> -
A25: 6382 | B25: Kapitalne pomoći temeljem prijenosa EU sredstava (šifre 63821 do 63824) | C25: 6382 | D25: =SUM(D26:D29) -> 0 | E25: =SUM(E26:E29) -> 0 | F25: =SUM(F26:F29) -> 0 | G25: =SUM(G26:G29) -> 0 | H25: =SUM(H26:H29) -> 0 | I25: =SUM(I26:I29) -> 0 | J25: =IF(H25<>0,IF(I25/H25>=100,">>100",I25/H25*100),"-") -> -
A26: 63821 | B26: Kapitalne pomoći iz državnog proračuna temeljem prijenosa EU sredstava | C26: 63821 | D26: =SUM('510:816'!D26) -> 0 | E26: =SUM('510:816'!E26) -> 0 | F26: ='Nacionalno sufinanciranje'!D26 -> 0 | G26: ='Nacionalno sufinanciranje'!E26 -> 0 | H26: =D26+F26 -> 0 | I26: =E26+G26 -> 0 | J26: =IF(H26<>0,IF(I26/H26>=100,">>100",I26/H26*100),"-") -> -
A27: 63822 | B27: Kapitalne pomoći iz proračuna JLP(R)S temeljem prijenosa EU sredstava | C27: 63822 | D27: =SUM('510:816'!D27) -> 0 | E27: =SUM('510:816'!E27) -> 0 | F27: ='Nacionalno sufinanciranje'!D27 -> 0 | G27: ='Nacionalno sufinanciranje'!E27 -> 0 | H27: =D27+F27 -> 0 | I27: =E27+G27 -> 0 | J27: =IF(H27<>0,IF(I27/H27>=100,">>100",I27/H27*100),"-") -> -
A28: 63823 | B28: Kapitalne pomoći od proračunskog korisnika drugog proračuna temeljem prijenosa EU sredstava | C28: 63823 | D28: =SUM('510:816'!D28) -> 0 | E28: =SUM('510:816'!E28) -> 0 | F28: ='Nacionalno sufinanciranje'!D28 -> 0 | G28: ='Nacionalno sufinanciranje'!E28 -> 0 | H28: =D28+F28 -> 0 | I28: =E28+G28 -> 0 | J28: =IF(H28<>0,IF(I28/H28>=100,">>100",I28/H28*100),"-") -> -
A29: 63824 | B29: Kapitalne pomoći od izvaproračunskog korisnika temeljem prijenosa EU sredstava | C29: 63824 | D29: =SUM('510:816'!D29) -> 0 | E29: =SUM('510:816'!E29) -> 0 | F29: ='Nacionalno sufinanciranje'!D29 -> 0 | G29: ='Nacionalno sufinanciranje'!E29 -> 0 | H29: =D29+F29 -> 0 | I29: =E29+G29 -> 0 | J29: =IF(H29<>0,IF(I29/H29>=100,">>100",I29/H29*100),"-") -> -
A30: 639 | B30: Prijenosi između proračunskih korisnika istog proračuna (šifre 6391 do 6394) | C30: 639 | D30: =SUM(D31:D34) -> 0 | E30: =SUM(E31:E34) -> 0 | F30: =SUM(F31:F34) -> 0 | G30: =SUM(G31:G34) -> 0 | H30: =SUM(H31:H34) -> 0 | I30: =SUM(I31:I34) -> 0 | J30: =IF(H30<>0,IF(I30/H30>=100,">>100",I30/H30*100),"-") -> -
A31: 6391 | B31: Tekući prijenosi između proračunskih korisnika istog proračuna | C31: 6391 | D31: =SUM('510:816'!D31) -> 0 | E31: =SUM('510:816'!E31) -> 0 | F31: ='Nacionalno sufinanciranje'!D31 -> 0 | G31: ='Nacionalno sufinanciranje'!E31 -> 0 | H31: =D31+F31 -> 0 | I31: =E31+G31 -> 0 | J31: =IF(H31<>0,IF(I31/H31>=100,">>100",I31/H31*100),"-") -> -
A32: 6392 | B32: Kapitalni prijenosi između proračunskih korisnika istog proračuna | C32: 6392 | D32: =SUM('510:816'!D32) -> 0 | E32: =SUM('510:816'!E32) -> 0 | F32: ='Nacionalno sufinanciranje'!D32 -> 0 | G32: ='Nacionalno sufinanciranje'!E32 -> 0 | H32: =D32+F32 -> 0 | I32: =E32+G32 -> 0 | J32: =IF(H32<>0,IF(I32/H32>=100,">>100",I32/H32*100),"-") -> -
A33: 6393 | B33: Tekući prijenosi između proračunskih korisnika istog proračuna temeljem prijenosa EU sredstava | C33: 6393 | D33: =SUM('510:816'!D33) -> 0 | E33: =SUM('510:816'!E33) -> 0 | F33: ='Nacionalno sufinanciranje'!D33 -> 0 | G33: ='Nacionalno sufinanciranje'!E33 -> 0 | H33: =D33+F33 -> 0 | I33: =E33+G33 -> 0 | J33: =IF(H33<>0,IF(I33/H33>=100,">>100",I33/H33*100),"-") -> -
A34: 6394 | B34: Kapitalni prijenosi između proračunskih korisnika istog proračuna temeljem prijenosa EU sredstava | C34: 6394 | D34: =SUM('510:816'!D34) -> 0 | E34: =SUM('510:816'!E34) -> 0 | F34: ='Nacionalno sufinanciranje'!D34 -> 0 | G34: ='Nacionalno sufinanciranje'!E34 -> 0 | H34: =D34+F34 -> 0 | I34: =E34+G34 -> 0 | J34: =IF(H34<>0,IF(I34/H34>=100,">>100",I34/H34*100),"-") -> -
A35: 671 | B35: Prihodi iz nadležnog proračuna za financiranje redovne djelatnosti proračunskih korisnika (šifre 6711 do 6714) | C35: 671 | D35: =SUM(D36:D38) -> 0 | E35: =SUM(E36:E38) -> 0 | F35: =SUM(F36:F38) -> 0 | G35: =SUM(G36:G38) -> 0 | H35: =SUM(H36:H38) -> 0 | I35: =SUM(I36:I38) -> 0 | J35: =IF(H35<>0,IF(I35/H35>=100,">>100",I35/H35*100),"-") -> -
A36: 6711 | B36: Prihodi iz nadležnog proračuna za financiranje rashoda poslovanja | C36: 6711 | D36: =SUM('510:816'!D36) -> 0 | E36: =SUM('510:816'!E36) -> 0 | F36: ='Nacionalno sufinanciranje'!D36 -> 0 | G36: ='Nacionalno sufinanciranje'!E36 -> 0 | H36: =D36+F36 -> 0 | I36: =E36+G36 -> 0 | J36: =IF(H36<>0,IF(I36/H36>=100,">>100",I36/H36*100),"-") -> -
A37: 6712 | B37: Prihodi iz nadležnog proračuna za financiranje rashoda za nabavu nefinancijske imovine | C37: 6712 | D37: =SUM('510:816'!D37) -> 0 | E37: =SUM('510:816'!E37) -> 0 | F37: ='Nacionalno sufinanciranje'!D37 -> 0 | G37: ='Nacionalno sufinanciranje'!E37 -> 0 | H37: =D37+F37 -> 0 | I37: =E37+G37 -> 0 | J37: =IF(H37<>0,IF(I37/H37>=100,">>100",I37/H37*100),"-") -> -
A38: 6714 | B38: Prihodi iz nadležnog proračuna za financiranje izdataka za financijsku imovinu i otplatu zajmova | C38: 6714 | D38: =SUM('510:816'!D38) -> 0 | E38: =SUM('510:816'!E38) -> 0 | F38: ='Nacionalno sufinanciranje'!D38 -> 0 | G38: ='Nacionalno sufinanciranje'!E38 -> 0 | H38: =D38+F38 -> 0 | I38: =E38+G38 -> 0 | J38: =IF(H38<>0,IF(I38/H38>=100,">>100",I38/H38*100),"-") -> -
A39: 8 | B39: PRIMICI OD FINANCIJSKE IMOVINE I ZADUŽIVANJA (šifra 841) | C39: 8 | D39: =D40 -> 0 | E39: =E40 -> 0 | F39: =F40 -> 0 | G39: =G40 -> 0 | H39: =+D39+F39 -> 0 | I39: =+E39+G39 -> 0 | J39: =IF(H39<>0,IF(I39/H39>=100,">>100",I39/H39*100),"-") -> -
A40: 841 | B40: Primljeni krediti i zajmovi od međunarodnih organizacija, institucija i tijela EU te inozemnih vlada (šifre 8413+8414) | C40: 841 | D40: =SUM(D41:D42) -> 0 | E40: =SUM(E41:E42) -> 0 | F40: =SUM(F41:F42) -> 0 | G40: =SUM(G41:G42) -> 0 | H40: =SUM(H41:H42) -> 0 | I40: =SUM(I41:I42) -> 0 | J40: =IF(H40<>0,IF(I40/H40>=100,">>100",I40/H40*100),"-") -> -
A41: 8413 | B41: Primljeni zajmovi od međunarodnih organizacija | C41: 8413 | D41: =SUM('510:816'!D41) -> 0 | E41: =SUM('510:816'!E41) -> 0 | F41: ='Nacionalno sufinanciranje'!D41 -> 0 | G41: ='Nacionalno sufinanciranje'!E41 -> 0 | H41: =D41+F41 -> 0 | I41: =E41+G41 -> 0 | J41: =IF(H41<>0,IF(I41/H41>=100,">>100",I41/H41*100),"-") -> -
A42: 8414 | B42: Primljeni krediti i zajmovi od institucija i tijela EU | C42: 8414 | D42: =SUM('510:816'!D42) -> 0 | E42: =SUM('510:816'!E42) -> 0 | F42: ='Nacionalno sufinanciranje'!D42 -> 0 | G42: ='Nacionalno sufinanciranje'!E42 -> 0 | H42: =D42+F42 -> 0 | I42: =E42+G42 -> 0 | J42: =IF(H42<>0,IF(I42/H42>=100,">>100",I42/H42*100),"-") -> -
A43: RASHODI I IZDACI | D43: Ostvareno u izvještajnom razdoblju prethodne godine | E43: Ostvareno u izvještajnom razdoblju tekuće godine | F43: Ostvareno u izvještajnom razdoblju prethodne godine | G43: Ostvareno u izvještajnom razdoblju tekuće godine | H43: Ostvareno u izvještajnom razdoblju prethodne godine | I43: Ostvareno u izvještajnom razdoblju tekuće godine
A44: 3 | B44: RASHODI POSLOVANJA (šifre 31+32+34+35+36+37+38) | C44: 3 | D44: =D45+D56+D94+D113+D122+D154+D165 -> 0 | E44: =E45+E56+E94+E113+E122+E154+E165 -> 217814.98 | F44: =F45+F56+F94+F113+F122+F154+F165 -> 0 | G44: =G45+G56+G94+G113+G122+G154+G165 -> 54453.74 | H44: =H45+H56+H94+H113+H122+H154+H165 -> 0 | I44: =I45+I56+I94+I113+I122+I154+I165 -> 272268.72 | J44: =IF(H44<>0,IF(I44/H44>=100,">>100",I44/H44*100),"-") -> -
A45: 31 | B45: Rashodi za zaposlene (šifre 311+312+313) | C45: 31 | D45: =D46+D51+D52 -> 0 | E45: =E46+E51+E52 -> 184059.67 | F45: =F46+F51+F52 -> 0 | G45: =G46+G51+G52 -> 46014.91 | H45: =H46+H51+H52 -> 0 | I45: =I46+I51+I52 -> 230074.58 | J45: =IF(H45<>0,IF(I45/H45>=100,">>100",I45/H45*100),"-") -> -
A46: 311 | B46: Plaće (bruto) (šifre 3111 do 3114) | C46: 311 | D46: =SUM(D47:D50) -> 0 | E46: =SUM(E47:E50) -> 157991.14 | F46: =SUM(F47:F50) -> 0 | G46: =SUM(G47:G50) -> 39497.78 | H46: =SUM(H47:H50) -> 0 | I46: =SUM(I47:I50) -> 197488.92 | J46: =IF(H46<>0,IF(I46/H46>=100,">>100",I46/H46*100),"-") -> -
A47: 3111 | B47: Plaće za redovan rad | C47: 3111 | D47: =SUM('510:816'!D47) -> 0 | E47: =SUM('510:816'!E47) -> 157991.14 | F47: ='Nacionalno sufinanciranje'!D47 -> 0 | G47: ='Nacionalno sufinanciranje'!E47 -> 39497.78 | H47: =D47+F47 -> 0 | I47: =E47+G47 -> 197488.92 | J47: =IF(H47<>0,IF(I47/H47>=100,">>100",I47/H47*100),"-") -> -
A48: 3112 | B48: Plaće u naravi | C48: 3112 | D48: =SUM('510:816'!D48) -> 0 | E48: =SUM('510:816'!E48) -> 0 | F48: ='Nacionalno sufinanciranje'!D48 -> 0 | G48: ='Nacionalno sufinanciranje'!E48 -> 0 | H48: =D48+F48 -> 0 | I48: =E48+G48 -> 0 | J48: =IF(H48<>0,IF(I48/H48>=100,">>100",I48/H48*100),"-") -> -
A49: 3113 | B49: Plaće za prekovremeni rad | C49: 3113 | D49: =SUM('510:816'!D49) -> 0 | E49: =SUM('510:816'!E49) -> 0 | F49: ='Nacionalno sufinanciranje'!D49 -> 0 | G49: ='Nacionalno sufinanciranje'!E49 -> 0 | H49: =D49+F49 -> 0 | I49: =E49+G49 -> 0 | J49: =IF(H49<>0,IF(I49/H49>=100,">>100",I49/H49*100),"-") -> -
A50: 3114 | B50: Plaće za posebne uvjete rada | C50: 3114 | D50: =SUM('510:816'!D50) -> 0 | E50: =SUM('510:816'!E50) -> 0 | F50: ='Nacionalno sufinanciranje'!D50 -> 0 | G50: ='Nacionalno sufinanciranje'!E50 -> 0 | H50: =D50+F50 -> 0 | I50: =E50+G50 -> 0 | J50: =IF(H50<>0,IF(I50/H50>=100,">>100",I50/H50*100),"-") -> -
A51: 312 | B51: Ostali rashodi za zaposlene | C51: 312 | D51: =SUM('510:816'!D51) -> 0 | E51: =SUM('510:816'!E51) -> 0 | F51: ='Nacionalno sufinanciranje'!D51 -> 0 | G51: ='Nacionalno sufinanciranje'!E51 -> 0 | H51: =D51+F51 -> 0 | I51: =E51+G51 -> 0 | J51: =IF(H51<>0,IF(I51/H51>=100,">>100",I51/H51*100),"-") -> -
A52: 313 | B52: Doprinosi na plaće (šifre 3131 do 3133) | C52: 313 | D52: =SUM(D53:D55) -> 0 | E52: =SUM(E53:E55) -> 26068.53 | F52: =SUM(F53:F55) -> 0 | G52: =SUM(G53:G55) -> 6517.13 | H52: =SUM(H53:H55) -> 0 | I52: =SUM(I53:I55) -> 32585.66 | J52: =IF(H52<>0,IF(I52/H52>=100,">>100",I52/H52*100),"-") -> -
A53: 3131 | B53: Doprinosi za mirovinsko osiguranje za staž s povećanim trajanjem | C53: 3131 | D53: =SUM('510:816'!D53) -> 0 | E53: =SUM('510:816'!E53) -> 0 | F53: ='Nacionalno sufinanciranje'!D53 -> 0 | G53: ='Nacionalno sufinanciranje'!E53 -> 0 | H53: =D53+F53 -> 0 | I53: =E53+G53 -> 0 | J53: =IF(H53<>0,IF(I53/H53>=100,">>100",I53/H53*100),"-") -> -
A54: 3132 | B54: Doprinosi za obvezno zdravstveno osiguranje | C54: 3132 | D54: =SUM('510:816'!D54) -> 0 | E54: =SUM('510:816'!E54) -> 26068.53 | F54: ='Nacionalno sufinanciranje'!D54 -> 0 | G54: ='Nacionalno sufinanciranje'!E54 -> 6517.13 | H54: =D54+F54 -> 0 | I54: =E54+G54 -> 32585.66 | J54: =IF(H54<>0,IF(I54/H54>=100,">>100",I54/H54*100),"-") -> -
A55: 3133 | B55: Doprinosi za obvezno osiguranje u slučaju nezaposlenosti | C55: 3133 | D55: =SUM('510:816'!D55) -> 0 | E55: =SUM('510:816'!E55) -> 0 | F55: ='Nacionalno sufinanciranje'!D55 -> 0 | G55: ='Nacionalno sufinanciranje'!E55 -> 0 | H55: =D55+F55 -> 0 | I55: =E55+G55 -> 0 | J55: =IF(H55<>0,IF(I55/H55>=100,">>100",I55/H55*100),"-") -> -
A56: 32 | B56: Materijalni rashodi (šifre 321+322+323+324+325+329) | C56: 32 | D56: =D57+D62+D70+D80+D81+D86 -> 0 | E56: =E57+E62+E70+E80+E81+E86 -> 33755.31 | F56: =F57+F62+F70+F80+F81+F86 -> 0 | G56: =G57+G62+G70+G80+G81+G86 -> 8438.83 | H56: =H57+H62+H70+H80+H81+H86 -> 0 | I56: =I57+I62+I70+I80+I81+I86 -> 42194.14 | J56: =IF(H56<>0,IF(I56/H56>=100,">>100",I56/H56*100),"-") -> -
A57: 321 | B57: Naknade troškova zaposlenima (šifre 3211 do 3214) | C57: 321 | D57: =SUM(D58:D61) -> 0 | E57: =SUM(E58:E61) -> 0 | F57: =SUM(F58:F61) -> 0 | G57: =SUM(G58:G61) -> 0 | H57: =SUM(H58:H61) -> 0 | I57: =SUM(I58:I61) -> 0 | J57: =IF(H57<>0,IF(I57/H57>=100,">>100",I57/H57*100),"-") -> -
A58: 3211 | B58: Službena putovanja | C58: 3211 | D58: =SUM('510:816'!D58) -> 0 | E58: =SUM('510:816'!E58) -> 0 | F58: ='Nacionalno sufinanciranje'!D58 -> 0 | G58: ='Nacionalno sufinanciranje'!E58 -> 0 | H58: =D58+F58 -> 0 | I58: =E58+G58 -> 0 | J58: =IF(H58<>0,IF(I58/H58>=100,">>100",I58/H58*100),"-") -> -
A59: 3212 | B59: Naknade za prijevoz, za rad na terenu i odvojeni život | C59: 3212 | D59: =SUM('510:816'!D59) -> 0 | E59: =SUM('510:816'!E59) -> 0 | F59: ='Nacionalno sufinanciranje'!D59 -> 0 | G59: ='Nacionalno sufinanciranje'!E59 -> 0 | H59: =D59+F59 -> 0 | I59: =E59+G59 -> 0 | J59: =IF(H59<>0,IF(I59/H59>=100,">>100",I59/H59*100),"-") -> -
A60: 3213 | B60: Stručno usavršavanje zaposlenika | C60: 3213 | D60: =SUM('510:816'!D60) -> 0 | E60: =SUM('510:816'!E60) -> 0 | F60: ='Nacionalno sufinanciranje'!D60 -> 0 | G60: ='Nacionalno sufinanciranje'!E60 -> 0 | H60: =D60+F60 -> 0 | I60: =E60+G60 -> 0 | J60: =IF(H60<>0,IF(I60/H60>=100,">>100",I60/H60*100),"-") -> -
A61: 3214 | B61: Ostale naknade troškova zaposlenima | C61: 3214 | D61: =SUM('510:816'!D61) -> 0 | E61: =SUM('510:816'!E61) -> 0 | F61: ='Nacionalno sufinanciranje'!D61 -> 0 | G61: ='Nacionalno sufinanciranje'!E61 -> 0 | H61: =D61+F61 -> 0 | I61: =E61+G61 -> 0 | J61: =IF(H61<>0,IF(I61/H61>=100,">>100",I61/H61*100),"-") -> -
A62: 322 | B62: Rashodi za materijal i energiju (šifre 3221 do 3227) | C62: 322 | D62: =SUM(D63:D69) -> 0 | E62: =SUM(E63:E69) -> 7964.18 | F62: =SUM(F63:F69) -> 0 | G62: =SUM(G63:G69) -> 1991.05 | H62: =SUM(H63:H69) -> 0 | I62: =SUM(I63:I69) -> 9955.23 | J62: =IF(H62<>0,IF(I62/H62>=100,">>100",I62/H62*100),"-") -> -
A63: 3221 | B63: Uredski materijal i ostali materijalni rashodi | C63: 3221 | D63: =SUM('510:816'!D63) -> 0 | E63: =SUM('510:816'!E63) -> 7964.18 | F63: ='Nacionalno sufinanciranje'!D63 -> 0 | G63: ='Nacionalno sufinanciranje'!E63 -> 1991.05 | H63: =D63+F63 -> 0 | I63: =E63+G63 -> 9955.23 | J63: =IF(H63<>0,IF(I63/H63>=100,">>100",I63/H63*100),"-") -> -
A64: 3222 | B64: Materijal i sirovine | C64: 3222 | D64: =SUM('510:816'!D64) -> 0 | E64: =SUM('510:816'!E64) -> 0 | F64: ='Nacionalno sufinanciranje'!D64 -> 0 | G64: ='Nacionalno sufinanciranje'!E64 -> 0 | H64: =D64+F64 -> 0 | I64: =E64+G64 -> 0 | J64: =IF(H64<>0,IF(I64/H64>=100,">>100",I64/H64*100),"-") -> -
A65: 3223 | B65: Energija | C65: 3223 | D65: =SUM('510:816'!D65) -> 0 | E65: =SUM('510:816'!E65) -> 0 | F65: ='Nacionalno sufinanciranje'!D65 -> 0 | G65: ='Nacionalno sufinanciranje'!E65 -> 0 | H65: =D65+F65 -> 0 | I65: =E65+G65 -> 0 | J65: =IF(H65<>0,IF(I65/H65>=100,">>100",I65/H65*100),"-") -> -
A66: 3224 | B66: Materijal i dijelovi za tekuće i investicijsko održavanje | C66: 3224 | D66: =SUM('510:816'!D66) -> 0 | E66: =SUM('510:816'!E66) -> 0 | F66: ='Nacionalno sufinanciranje'!D66 -> 0 | G66: ='Nacionalno sufinanciranje'!E66 -> 0 | H66: =D66+F66 -> 0 | I66: =E66+G66 -> 0 | J66: =IF(H66<>0,IF(I66/H66>=100,">>100",I66/H66*100),"-") -> -
A67: 3225 | B67: Sitni inventar i autogume | C67: 3225 | D67: =SUM('510:816'!D67) -> 0 | E67: =SUM('510:816'!E67) -> 0 | F67: ='Nacionalno sufinanciranje'!D67 -> 0 | G67: ='Nacionalno sufinanciranje'!E67 -> 0 | H67: =D67+F67 -> 0 | I67: =E67+G67 -> 0 | J67: =IF(H67<>0,IF(I67/H67>=100,">>100",I67/H67*100),"-") -> -
A68: 3226 | B68: Vojna sredstva za jednokratnu upotrebu | C68: 3226 | D68: =SUM('510:816'!D68) -> 0 | E68: =SUM('510:816'!E68) -> 0 | F68: ='Nacionalno sufinanciranje'!D68 -> 0 | G68: ='Nacionalno sufinanciranje'!E68 -> 0 | H68: =D68+F68 -> 0 | I68: =E68+G68 -> 0 | J68: =IF(H68<>0,IF(I68/H68>=100,">>100",I68/H68*100),"-") -> -
A69: 3227 | B69: Službena, radna i zaštitna odjeća i obuća | C69: 3227 | D69: =SUM('510:816'!D69) -> 0 | E69: =SUM('510:816'!E69) -> 0 | F69: ='Nacionalno sufinanciranje'!D69 -> 0 | G69: ='Nacionalno sufinanciranje'!E69 -> 0 | H69: =D69+F69 -> 0 | I69: =E69+G69 -> 0 | J69: =IF(H69<>0,IF(I69/H69>=100,">>100",I69/H69*100),"-") -> -
A70: 323 | B70: Rashodi za usluge (šifre 3231 do 3239) | C70: 323 | D70: =SUM(D71:D79) -> 0 | E70: =SUM(E71:E79) -> 0 | F70: =SUM(F71:F79) -> 0 | G70: =SUM(G71:G79) -> 0 | H70: =SUM(H71:H79) -> 0 | I70: =SUM(I71:I79) -> 0 | J70: =IF(H70<>0,IF(I70/H70>=100,">>100",I70/H70*100),"-") -> -
A71: 3231 | B71: Usluge telefona, interneta, pošte i prijevoza | C71: 3231 | D71: =SUM('510:816'!D71) -> 0 | E71: =SUM('510:816'!E71) -> 0 | F71: ='Nacionalno sufinanciranje'!D71 -> 0 | G71: ='Nacionalno sufinanciranje'!E71 -> 0 | H71: =D71+F71 -> 0 | I71: =E71+G71 -> 0 | J71: =IF(H71<>0,IF(I71/H71>=100,">>100",I71/H71*100),"-") -> -
A72: 3232 | B72: Usluge tekućeg i investicijskog održavanja | C72: 3232 | D72: =SUM('510:816'!D72) -> 0 | E72: =SUM('510:816'!E72) -> 0 | F72: ='Nacionalno sufinanciranje'!D72 -> 0 | G72: ='Nacionalno sufinanciranje'!E72 -> 0 | H72: =D72+F72 -> 0 | I72: =E72+G72 -> 0 | J72: =IF(H72<>0,IF(I72/H72>=100,">>100",I72/H72*100),"-") -> -
A73: 3233 | B73: Usluge promidžbe i informiranja | C73: 3233 | D73: =SUM('510:816'!D73) -> 0 | E73: =SUM('510:816'!E73) -> 0 | F73: ='Nacionalno sufinanciranje'!D73 -> 0 | G73: ='Nacionalno sufinanciranje'!E73 -> 0 | H73: =D73+F73 -> 0 | I73: =E73+G73 -> 0 | J73: =IF(H73<>0,IF(I73/H73>=100,">>100",I73/H73*100),"-") -> -
A74: 3234 | B74: Komunalne usluge | C74: 3234 | D74: =SUM('510:816'!D74) -> 0 | E74: =SUM('510:816'!E74) -> 0 | F74: ='Nacionalno sufinanciranje'!D74 -> 0 | G74: ='Nacionalno sufinanciranje'!E74 -> 0 | H74: =D74+F74 -> 0 | I74: =E74+G74 -> 0 | J74: =IF(H74<>0,IF(I74/H74>=100,">>100",I74/H74*100),"-") -> -
A75: 3235 | B75: Zakupnine i najamnine | C75: 3235 | D75: =SUM('510:816'!D75) -> 0 | E75: =SUM('510:816'!E75) -> 0 | F75: ='Nacionalno sufinanciranje'!D75 -> 0 | G75: ='Nacionalno sufinanciranje'!E75 -> 0 | H75: =D75+F75 -> 0 | I75: =E75+G75 -> 0 | J75: =IF(H75<>0,IF(I75/H75>=100,">>100",I75/H75*100),"-") -> -
A76: 3236 | B76: Zdravstvene i veterinarske usluge | C76: 3236 | D76: =SUM('510:816'!D76) -> 0 | E76: =SUM('510:816'!E76) -> 0 | F76: ='Nacionalno sufinanciranje'!D76 -> 0 | G76: ='Nacionalno sufinanciranje'!E76 -> 0 | H76: =D76+F76 -> 0 | I76: =E76+G76 -> 0 | J76: =IF(H76<>0,IF(I76/H76>=100,">>100",I76/H76*100),"-") -> -
A77: 3237 | B77: Intelektualne i osobne usluge | C77: 3237 | D77: =SUM('510:816'!D77) -> 0 | E77: =SUM('510:816'!E77) -> 0 | F77: ='Nacionalno sufinanciranje'!D77 -> 0 | G77: ='Nacionalno sufinanciranje'!E77 -> 0 | H77: =D77+F77 -> 0 | I77: =E77+G77 -> 0 | J77: =IF(H77<>0,IF(I77/H77>=100,">>100",I77/H77*100),"-") -> -
A78: 3238 | B78: Računalne usluge | C78: 3238 | D78: =SUM('510:816'!D78) -> 0 | E78: =SUM('510:816'!E78) -> 0 | F78: ='Nacionalno sufinanciranje'!D78 -> 0 | G78: ='Nacionalno sufinanciranje'!E78 -> 0 | H78: =D78+F78 -> 0 | I78: =E78+G78 -> 0 | J78: =IF(H78<>0,IF(I78/H78>=100,">>100",I78/H78*100),"-") -> -
A79: 3239 | B79: Ostale usluge | C79: 3239 | D79: =SUM('510:816'!D79) -> 0 | E79: =SUM('510:816'!E79) -> 0 | F79: ='Nacionalno sufinanciranje'!D79 -> 0 | G79: ='Nacionalno sufinanciranje'!E79 -> 0 | H79: =D79+F79 -> 0 | I79: =E79+G79 -> 0 | J79: =IF(H79<>0,IF(I79/H79>=100,">>100",I79/H79*100),"-") -> -
A80: 324 | B80: Naknade troškova osobama izvan radnog odnosa | C80: 324 | D80: =SUM('510:816'!D80) -> 0 | E80: =SUM('510:816'!E80) -> 25791.13 | F80: ='Nacionalno sufinanciranje'!D80 -> 0 | G80: ='Nacionalno sufinanciranje'!E80 -> 6447.78 | H80: =D80+F80 -> 0 | I80: =E80+G80 -> 32238.91 | J80: =IF(H80<>0,IF(I80/H80>=100,">>100",I80/H80*100),"-") -> -
A81: 325 | B81: Rashodi lijekova i potrošnog medicinskog materijala kod zdravstvenih ustanova (šifre 3251 do 3254) | C81: 325 | D81: =SUM(D82:D85) -> 0 | E81: =SUM(E82:E85) -> 0 | F81: =SUM(F82:F85) -> 0 | G81: =SUM(G82:G85) -> 0 | H81: =SUM(H82:H85) -> 0 | I81: =SUM(I82:I85) -> 0 | J81: =IF(H81<>0,IF(I81/H81>=100,">>100",I81/H81*100),"-") -> -
A82: 3251 | B82: Rashodi po osnovi utroška lijekova i potrošnog medicinskog materijala | C82: 3251 | D82: =SUM('510:816'!D82) -> 0 | E82: =SUM('510:816'!E82) -> 0 | F82: ='Nacionalno sufinanciranje'!D82 -> 0 | G82: ='Nacionalno sufinanciranje'!E82 -> 0 | H82: =D82+F82 -> 0 | I82: =E82+G82 -> 0 | J82: =IF(H82<>0,IF(I82/H82>=100,">>100",I82/H82*100),"-") -> -
A83: 3252 | B83: Rashodi po osnovi otpisa lijekova i potrošnog medicinskog materijala | C83: 3252 | D83: =SUM('510:816'!D83) -> 0 | E83: =SUM('510:816'!E83) -> 0 | F83: ='Nacionalno sufinanciranje'!D83 -> 0 | G83: ='Nacionalno sufinanciranje'!E83 -> 0 | H83: =D83+F83 -> 0 | I83: =E83+G83 -> 0 | J83: =IF(H83<>0,IF(I83/H83>=100,">>100",I83/H83*100),"-") -> -
A84: 3253 | B84: Rashodi po osnovi donacije lijekova i potrošnog medicinskog materijala | C84: 3253 | D84: =SUM('510:816'!D84) -> 0 | E84: =SUM('510:816'!E84) -> 0 | F84: ='Nacionalno sufinanciranje'!D84 -> 0 | G84: ='Nacionalno sufinanciranje'!E84 -> 0 | H84: =D84+F84 -> 0 | I84: =E84+G84 -> 0 | J84: =IF(H84<>0,IF(I84/H84>=100,">>100",I84/H84*100),"-") -> -
A85: 3254 | B85: Rashodi po osnovi prodaje lijekova i potrošnog medicinskog materijala | C85: 3254 | D85: =SUM('510:816'!D85) -> 0 | E85: =SUM('510:816'!E85) -> 0 | F85: ='Nacionalno sufinanciranje'!D85 -> 0 | G85: ='Nacionalno sufinanciranje'!E85 -> 0 | H85: =D85+F85 -> 0 | I85: =E85+G85 -> 0 | J85: =IF(H85<>0,IF(I85/H85>=100,">>100",I85/H85*100),"-") -> -
A86: 329 | B86: Ostali nespomenuti rashodi poslovanja (šifre 3291 do 3299) | C86: 329 | D86: =SUM(D87:D93) -> 0 | E86: =SUM(E87:E93) -> 0 | F86: =SUM(F87:F93) -> 0 | G86: =SUM(G87:G93) -> 0 | H86: =SUM(H87:H93) -> 0 | I86: =SUM(I87:I93) -> 0 | J86: =IF(H86<>0,IF(I86/H86>=100,">>100",I86/H86*100),"-") -> -
A87: 3291 | B87: Naknade za rad predstavničkih i izvršnih tijela, povjerenstava i slično | C87: 3291 | D87: =SUM('510:816'!D87) -> 0 | E87: =SUM('510:816'!E87) -> 0 | F87: ='Nacionalno sufinanciranje'!D87 -> 0 | G87: ='Nacionalno sufinanciranje'!E87 -> 0 | H87: =D87+F87 -> 0 | I87: =E87+G87 -> 0 | J87: =IF(H87<>0,IF(I87/H87>=100,">>100",I87/H87*100),"-") -> -
A88: 3292 | B88: Premije osiguranja | C88: 3292 | D88: =SUM('510:816'!D88) -> 0 | E88: =SUM('510:816'!E88) -> 0 | F88: ='Nacionalno sufinanciranje'!D88 -> 0 | G88: ='Nacionalno sufinanciranje'!E88 -> 0 | H88: =D88+F88 -> 0 | I88: =E88+G88 -> 0 | J88: =IF(H88<>0,IF(I88/H88>=100,">>100",I88/H88*100),"-") -> -
A89: 3293 | B89: Reprezentacija | C89: 3293 | D89: =SUM('510:816'!D89) -> 0 | E89: =SUM('510:816'!E89) -> 0 | F89: ='Nacionalno sufinanciranje'!D89 -> 0 | G89: ='Nacionalno sufinanciranje'!E89 -> 0 | H89: =D89+F89 -> 0 | I89: =E89+G89 -> 0 | J89: =IF(H89<>0,IF(I89/H89>=100,">>100",I89/H89*100),"-") -> -
A90: 3294 | B90: Članarine i norme | C90: 3294 | D90: =SUM('510:816'!D90) -> 0 | E90: =SUM('510:816'!E90) -> 0 | F90: ='Nacionalno sufinanciranje'!D90 -> 0 | G90: ='Nacionalno sufinanciranje'!E90 -> 0 | H90: =D90+F90 -> 0 | I90: =E90+G90 -> 0 | J90: =IF(H90<>0,IF(I90/H90>=100,">>100",I90/H90*100),"-") -> -
A91: 3295 | B91: Pristojbe i naknade | C91: 3295 | D91: =SUM('510:816'!D91) -> 0 | E91: =SUM('510:816'!E91) -> 0 | F91: ='Nacionalno sufinanciranje'!D91 -> 0 | G91: ='Nacionalno sufinanciranje'!E91 -> 0 | H91: =D91+F91 -> 0 | I91: =E91+G91 -> 0 | J91: =IF(H91<>0,IF(I91/H91>=100,">>100",I91/H91*100),"-") -> -
A92: 3296 | B92: Troškovi sudskih postupaka | C92: 3296 | D92: =SUM('510:816'!D92) -> 0 | E92: =SUM('510:816'!E92) -> 0 | F92: ='Nacionalno sufinanciranje'!D92 -> 0 | G92: ='Nacionalno sufinanciranje'!E92 -> 0 | H92: =D92+F92 -> 0 | I92: =E92+G92 -> 0 | J92: =IF(H92<>0,IF(I92/H92>=100,">>100",I92/H92*100),"-") -> -
A93: 3299 | B93: Ostali nespomenuti rashodi poslovanja | C93: 3299 | D93: =SUM('510:816'!D93) -> 0 | E93: =SUM('510:816'!E93) -> 0 | F93: ='Nacionalno sufinanciranje'!D93 -> 0 | G93: ='Nacionalno sufinanciranje'!E93 -> 0 | H93: =D93+F93 -> 0 | I93: =E93+G93 -> 0 | J93: =IF(H93<>0,IF(I93/H93>=100,">>100",I93/H93*100),"-") -> -
A94: 34 | B94: Financijski rashodi (šifre 341+342+343) | C94: 34 | D94: =D95+D100+D108 -> 0 | E94: =E95+E100+E108 -> 0 | F94: =F95+F100+F108 -> 0 | G94: =G95+G100+G108 -> 0 | H94: =H95+H100+H108 -> 0 | I94: =I95+I100+I108 -> 0 | J94: =IF(H94<>0,IF(I94/H94>=100,">>100",I94/H94*100),"-") -> -
A95: 341 | B95: Kamate za izdane vrijednosne papire (šifre 3411 do 3419) | C95: 341 | D95: =SUM(D96:D99) -> 0 | E95: =SUM(E96:E99) -> 0 | F95: =SUM(F96:F99) -> 0 | G95: =SUM(G96:G99) -> 0 | H95: =SUM(H96:H99) -> 0 | I95: =SUM(I96:I99) -> 0 | J95: =IF(H95<>0,IF(I95/H95>=100,">>100",I95/H95*100),"-") -> -
A96: 3411 | B96: Kamate za izdane trezorske zapise | C96: 3411 | D96: =SUM('510:816'!D96) -> 0 | E96: =SUM('510:816'!E96) -> 0 | F96: ='Nacionalno sufinanciranje'!D96 -> 0 | G96: ='Nacionalno sufinanciranje'!E96 -> 0 | H96: =D96+F96 -> 0 | I96: =E96+G96 -> 0 | J96: =IF(H96<>0,IF(I96/H96>=100,">>100",I96/H96*100),"-") -> -
A97: 3412 | B97: Kamate za izdane mjenice | C97: 3412 | D97: =SUM('510:816'!D97) -> 0 | E97: =SUM('510:816'!E97) -> 0 | F97: ='Nacionalno sufinanciranje'!D97 -> 0 | G97: ='Nacionalno sufinanciranje'!E97 -> 0 | H97: =D97+F97 -> 0 | I97: =E97+G97 -> 0 | J97: =IF(H97<>0,IF(I97/H97>=100,">>100",I97/H97*100),"-") -> -
A98: 3413 | B98: Kamate za izdane obveznice | C98: 3413 | D98: =SUM('510:816'!D98) -> 0 | E98: =SUM('510:816'!E98) -> 0 | F98: ='Nacionalno sufinanciranje'!D98 -> 0 | G98: ='Nacionalno sufinanciranje'!E98 -> 0 | H98: =D98+F98 -> 0 | I98: =E98+G98 -> 0 | J98: =IF(H98<>0,IF(I98/H98>=100,">>100",I98/H98*100),"-") -> -
A99: 3419 | B99: Kamate za ostale vrijednosne papire | C99: 3419 | D99: =SUM('510:816'!D99) -> 0 | E99: =SUM('510:816'!E99) -> 0 | F99: ='Nacionalno sufinanciranje'!D99 -> 0 | G99: ='Nacionalno sufinanciranje'!E99 -> 0 | H99: =D99+F99 -> 0 | I99: =E99+G99 -> 0 | J99: =IF(H99<>0,IF(I99/H99>=100,">>100",I99/H99*100),"-") -> -
A100: 342 | B100: Kamate za primljene kredite i zajmove (šifre 3421 do 3428) | C100: 342 | D100: =SUM(D101:D107) -> 0 | E100: =SUM(E101:E107) -> 0 | F100: =SUM(F101:F107) -> 0 | G100: =SUM(G101:G107) -> 0 | H100: =SUM(H101:H107) -> 0 | I100: =SUM(I101:I107) -> 0 | J100: =IF(H100<>0,IF(I100/H100>=100,">>100",I100/H100*100),"-") -> -
...

Sheet Nacionalno sufinanciranje
A1: Obveznik: | B1: OPĆINA DONJA MOTIČINA | C1: Razina: | D1: 22 | E1: Razdoblje: | F1: 2026-09
A2: EU IZVJEŠTAJ PO IZVORIMA FINANCIRANJA - NACIONALNO SUFINANCIRANJE
A3: Račun iz Rač. plana | B3: Opis stavke | C3: Šifra | D3: Nacionalno sufinanciranje
A4: 1 | B4: 2 | C4: 3 | D4: 6 | E4: 7
A5: PRIHODI I PRIMICI | D5: Ostvareno u izvještajnom razdoblju prethodne godine | E5: Ostvareno u izvještajnom razdoblju tekuće godine
A6: 6 | B6: PRIHODI POSLOVANJA (šifre 631+632+638+639+671) | C6: 6 | D6: =+D7+D14+D19+D30+D35 -> 0 | E6: =+E7+E14+E19+E30+E35 -> 62765.21
A7: 631 | B7: Pomoći od inozemnih vlada (šifre 6311+6312) | C7: 631 | D7: =D8+D11 -> 0 | E7: =E8+E11 -> 0
A8: 6311 | B8: Tekuće pomoći od inozemnih vlada (šifre 63111+63112) | C8: 6311 | D8: =SUM(D9:D10) -> 0 | E8: =SUM(E9:E10) -> 0
A9: 63111 | B9: Tekuće pomoći od inozemnih vlada u EU | C9: 63111
A10: 63112 | B10: Tekuće pomoći od inozemnih vlada izvan EU | C10: 63112
A11: 6312 | B11: Kapitalne pomoći od inozemnih vlada (šifre 63121+63122) | C11: 6312 | D11: =SUM(D12:D13) -> 0 | E11: =SUM(E12:E13) -> 0
A12: 63121 | B12: Kapitalne pomoći od inozemnih vlada u EU | C12: 63121
A13: 63122 | B13: Kapitalne pomoći od inozemnih vlada izvan EU | C13: 63122
A14: 632 | B14: Pomoći od međunarodnih organizacija te institucija i tijela EU (šifre 6321 do 6324) | C14: 632 | D14: =SUM(D15:D18) -> 0 | E14: =SUM(E15:E18) -> 0
A15: 6321 | B15: Tekuće pomoći od međunarodnih organizacija | C15: 6321
A16: 6322 | B16: Kapitalne pomoći od međunarodnih organizacija | C16: 6322
A17: 6323 | B17: Tekuće pomoći od institucija i tijela EU | C17: 6323
A18: 6324 | B18: Kapitalne pomoći od institucija i tijela EU | C18: 6324
A19: 638 | B19: Pomoći temeljem prijenosa EU sredstava (šifre 6381+6382) | C19: 638 | D19: =D20+D25 -> 0 | E19: =E20+E25 -> 62765.21
A20: 6381 | B20: Tekuće pomoći temeljem prijenosa EU sredstava (šifre 63811 do 63814) | C20: 6381 | D20: =SUM(D21:D24) -> 0 | E20: =SUM(E21:E24) -> 62765.21
A21: 63811 | B21: Tekuće pomoći iz državnog proračuna temeljem prijenosa EU sredstava | C21: 63811 | E21: 62765.21
A22: 63812 | B22: Tekuće pomoći iz proračuna JLP(R)S temeljem prijenosa EU sredstava | C22: 63812
A23: 63813 | B23: Tekuće pomoći od proračunskog korisnika drugog proračuna temeljem prijenosa EU sredstava | C23: 63813
A24: 63814 | B24: Tekuće pomoći od izvaproračunskog korisnika temeljem prijenosa EU sredstava | C24: 63814
A25: 6382 | B25: Kapitalne pomoći temeljem prijenosa EU sredstava (šifre 63821 do 63824) | C25: 6382 | D25: =SUM(D26:D29) -> 0 | E25: =SUM(E26:E29) -> 0
A26: 63821 | B26: Kapitalne pomoći iz državnog proračuna temeljem prijenosa EU sredstava | C26: 63821
A27: 63822 | B27: Kapitalne pomoći iz proračuna JLP(R)S temeljem prijenosa EU sredstava | C27: 63822
A28: 63823 | B28: Kapitalne pomoći od proračunskog korisnika drugog proračuna temeljem prijenosa EU sredstava | C28: 63823
A29: 63824 | B29: Kapitalne pomoći od izvaproračunskog korisnika temeljem prijenosa EU sredstava | C29: 63824
A30: 639 | B30: Prijenosi između proračunskih korisnika istog proračuna (šifre 6391 do 6394) | C30: 639 | D30: =SUM(D31:D34) -> 0 | E30: =SUM(E31:E34) -> 0
A31: 6391 | B31: Tekući prijenosi između proračunskih korisnika istog proračuna | C31: 6391
A32: 6392 | B32: Kapitalni prijenosi između proračunskih korisnika istog proračuna | C32: 6392
A33: 6393 | B33: Tekući prijenosi između proračunskih korisnika istog proračuna temeljem prijenosa EU sredstava | C33: 6393
A34: 6394 | B34: Kapitalni prijenosi između proračunskih korisnika istog proračuna temeljem prijenosa EU sredstava | C34: 6394
A35: 671 | B35: Prihodi iz nadležnog proračuna za financiranje redovne djelatnosti proračunskih korisnika (šifre 6711 do 6714) | C35: 671 | D35: =SUM(D36:D38) -> 0 | E35: =SUM(E36:E38) -> 0
A36: 6711 | B36: Prihodi iz nadležnog proračuna za financiranje rashoda poslovanja | C36: 6711
A37: 6712 | B37: Prihodi iz nadležnog proračuna za financiranje rashoda za nabavu nefinancijske imovine | C37: 6712
A38: 6714 | B38: Prihodi iz nadležnog proračuna za financiranje izdataka za financijsku imovinu i otplatu zajmova | C38: 6714
A39: 8 | B39: PRIMICI OD FINANCIJSKE IMOVINE I ZADUŽIVANJA (šifra 841) | C39: 8 | D39: =D40 -> 0 | E39: =E40 -> 0
A40: 841 | B40: Primljeni krediti i zajmovi od međunarodnih organizacija, institucija i tijela EU te inozemnih vlada (šifre 8413+8414) | C40: 841 | D40: =SUM(D41:D42) -> 0 | E40: =SUM(E41:E42) -> 0
A41: 8413 | B41: Primljeni zajmovi od međunarodnih organizacija | C41: 8413
A42: 8414 | B42: Primljeni krediti i zajmovi od institucija i tijela EU | C42: 8414
A43: RASHODI I IZDACI | D43: Ostvareno u izvještajnom razdoblju prethodne godine | E43: Ostvareno u izvještajnom razdoblju tekuće godine
A44: 3 | B44: RASHODI POSLOVANJA (šifre 31+32+34+35+36+37+38) | C44: 3 | D44: =D45+D56+D94+D113+D122+D154+D165 -> 0 | E44: =E45+E56+E94+E113+E122+E154+E165 -> 54453.74
A45: 31 | B45: Rashodi za zaposlene (šifre 311+312+313) | C45: 31 | D45: =D46+D51+D52 -> 0 | E45: =E46+E51+E52 -> 46014.91
A46: 311 | B46: Plaće (bruto) (šifre 3111 do 3114) | C46: 311 | D46: =SUM(D47:D50) -> 0 | E46: =SUM(E47:E50) -> 39497.78
A47: 3111 | B47: Plaće za redovan rad | C47: 3111 | E47: 39497.78
A48: 3112 | B48: Plaće u naravi | C48: 3112
A49: 3113 | B49: Plaće za prekovremeni rad | C49: 3113
A50: 3114 | B50: Plaće za posebne uvjete rada | C50: 3114
A51: 312 | B51: Ostali rashodi za zaposlene | C51: 312
A52: 313 | B52: Doprinosi na plaće (šifre 3131 do 3133) | C52: 313 | D52: =SUM(D53:D55) -> 0 | E52: =SUM(E53:E55) -> 6517.13
A53: 3131 | B53: Doprinosi za mirovinsko osiguranje za staž s povećanim trajanjem | C53: 3131
A54: 3132 | B54: Doprinosi za obvezno zdravstveno osiguranje | C54: 3132 | E54: 6517.13
A55: 3133 | B55: Doprinosi za obvezno osiguranje u slučaju nezaposlenosti | C55: 3133
A56: 32 | B56: Materijalni rashodi (šifre 321+322+323+324+325+329) | C56: 32 | D56: =D57+D62+D70+D80+D81+D86 -> 0 | E56: =E57+E62+E70+E80+E81+E86 -> 8438.83
A57: 321 | B57: Naknade troškova zaposlenima (šifre 3211 do 3214) | C57: 321 | D57: =SUM(D58:D61) -> 0 | E57: =SUM(E58:E61) -> 0
A58: 3211 | B58: Službena putovanja | C58: 3211
A59: 3212 | B59: Naknade za prijevoz, za rad na terenu i odvojeni život | C59: 3212
A60: 3213 | B60: Stručno usavršavanje zaposlenika | C60: 3213
A61: 3214 | B61: Ostale naknade troškova zaposlenima | C61: 3214
A62: 322 | B62: Rashodi za materijal i energiju (šifre 3221 do 3227) | C62: 322 | D62: =SUM(D63:D69) -> 0 | E62: =SUM(E63:E69) -> 1991.05
A63: 3221 | B63: Uredski materijal i ostali materijalni rashodi | C63: 3221 | E63: 1991.05
A64: 3222 | B64: Materijal i sirovine | C64: 3222
A65: 3223 | B65: Energija | C65: 3223
A66: 3224 | B66: Materijal i dijelovi za tekuće i investicijsko održavanje | C66: 3224
A67: 3225 | B67: Sitni inventar i autogume | C67: 3225
A68: 3226 | B68: Vojna sredstva za jednokratnu upotrebu | C68: 3226
A69: 3227 | B69: Službena, radna i zaštitna odjeća i obuća | C69: 3227
A70: 323 | B70: Rashodi za usluge (šifre 3231 do 3239) | C70: 323 | D70: =SUM(D71:D79) -> 0 | E70: =SUM(E71:E79) -> 0
A71: 3231 | B71: Usluge telefona, interneta, pošte i prijevoza | C71: 3231
A72: 3232 | B72: Usluge tekućeg i investicijskog održavanja | C72: 3232
A73: 3233 | B73: Usluge promidžbe i informiranja | C73: 3233
A74: 3234 | B74: Komunalne usluge | C74: 3234
A75: 3235 | B75: Zakupnine i najamnine | C75: 3235
A76: 3236 | B76: Zdravstvene i veterinarske usluge | C76: 3236
A77: 3237 | B77: Intelektualne i osobne usluge | C77: 3237
A78: 3238 | B78: Računalne usluge | C78: 3238
A79: 3239 | B79: Ostale usluge | C79: 3239
A80: 324 | B80: Naknade troškova osobama izvan radnog odnosa | C80: 324 | E80: 6447.78
A81: 325 | B81: Rashodi lijekova i potrošnog medicinskog materijala kod zdravstvenih ustanova (šifre 3251 do 3254) | C81: 325 | D81: =SUM(D82:D85) -> 0 | E81: =SUM(E82:E85) -> 0
A82: 3251 | B82: Rashodi po osnovi utroška lijekova i potrošnog medicinskog materijala | C82: 3251
A83: 3252 | B83: Rashodi po osnovi otpisa lijekova i potrošnog medicinskog materijala | C83: 3252
A84: 3253 | B84: Rashodi po osnovi donacije lijekova i potrošnog medicinskog materijala | C84: 3253
A85: 3254 | B85: Rashodi po osnovi prodaje lijekova i potrošnog medicinskog materijala | C85: 3254
A86: 329 | B86: Ostali nespomenuti rashodi poslovanja (šifre 3291 do 3299) | C86: 329 | D86: =SUM(D87:D93) -> 0 | E86: =SUM(E87:E93) -> 0
A87: 3291 | B87: Naknade za rad predstavničkih i izvršnih tijela, povjerenstava i slično | C87: 3291
A88: 3292 | B88: Premije osiguranja | C88: 3292
A89: 3293 | B89: Reprezentacija | C89: 3293
A90: 3294 | B90: Članarine i norme | C90: 3294
A91: 3295 | B91: Pristojbe i naknade | C91: 3295
A92: 3296 | B92: Troškovi sudskih postupaka | C92: 3296
A93: 3299 | B93: Ostali nespomenuti rashodi poslovanja | C93: 3299
A94: 34 | B94: Financijski rashodi (šifre 341+342+343) | C94: 34 | D94: =D95+D100+D108 -> 0 | E94: =E95+E100+E108 -> 0
A95: 341 | B95: Kamate za izdane vrijednosne papire (šifre 3411 do 3419) | C95: 341 | D95: =SUM(D96:D99) -> 0 | E95: =SUM(E96:E99) -> 0
A96: 3411 | B96: Kamate za izdane trezorske zapise | C96: 3411
A97: 3412 | B97: Kamate za izdane mjenice | C97: 3412
A98: 3413 | B98: Kamate za izdane obveznice | C98: 3413
A99: 3419 | B99: Kamate za ostale vrijednosne papire | C99: 3419
A100: 342 | B100: Kamate za primljene kredite i zajmove (šifre 3421 do 3428) | C100: 342 | D100: =SUM(D101:D107) -> 0 | E100: =SUM(E101:E107) -> 0
...

Sheet 510
A1: Obveznik: | B1: OPĆINA DONJA MOTIČINA | C1: Razina: | D1: 22 | E1: Razdoblje: | F1: 2026-09
A2: EU IZVJEŠTAJ PO IZVORIMA FINANCIRANJA - 510 PROGRAMI UNIJE
A3: Račun iz Rač. plana | B3: Opis stavke | C3: Šifra | D3: Izvor financiranja za praćenje EU sredstava
A4: 1 | B4: 2 | C4: 3 | D4: 4 | E4: 5
A5: PRIHODI I PRIMICI | D5: Ostvareno u izvještajnom razdoblju prethodne godine | E5: Ostvareno u izvještajnom razdoblju tekuće godine
A6: 6 | B6: PRIHODI POSLOVANJA (šifre 631+632+638+639+671) | C6: 6 | D6: =+D7+D14+D19+D30+D35 -> 0 | E6: =+E7+E14+E19+E30+E35 -> 0
A7: 631 | B7: Pomoći od inozemnih vlada (šifre 6311+6312) | C7: 631 | D7: =D8+D11 -> 0 | E7: =E8+E11 -> 0
A8: 6311 | B8: Tekuće pomoći od inozemnih vlada (šifre 63111+63112) | C8: 6311 | D8: =SUM(D9:D10) -> 0 | E8: =SUM(E9:E10) -> 0
A9: 63111 | B9: Tekuće pomoći od inozemnih vlada u EU | C9: 63111
A10: 63112 | B10: Tekuće pomoći od inozemnih vlada izvan EU | C10: 63112
A11: 6312 | B11: Kapitalne pomoći od inozemnih vlada (šifre 63121+63122) | C11: 6312 | D11: =SUM(D12:D13) -> 0 | E11: =SUM(E12:E13) -> 0
A12: 63121 | B12: Kapitalne pomoći od inozemnih vlada u EU | C12: 63121
A13: 63122 | B13: Kapitalne pomoći od inozemnih vlada izvan EU | C13: 63122
A14: 632 | B14: Pomoći od međunarodnih organizacija te institucija i tijela EU (šifre 6321 do 6324) | C14: 632 | D14: =SUM(D15:D18) -> 0 | E14: =SUM(E15:E18) -> 0
A15: 6321 | B15: Tekuće pomoći od međunarodnih organizacija | C15: 6321
A16: 6322 | B16: Kapitalne pomoći od međunarodnih organizacija | C16: 6322
A17: 6323 | B17: Tekuće pomoći od institucija i tijela EU | C17: 6323
A18: 6324 | B18: Kapitalne pomoći od institucija i tijela EU | C18: 6324
A19: 638 | B19: Pomoći temeljem prijenosa EU sredstava (šifre 6381+6382) | C19: 638 | D19: =D20+D25 -> 0 | E19: =E20+E25 -> 0
A20: 6381 | B20: Tekuće pomoći temeljem prijenosa EU sredstava (šifre 63811 do 63814) | C20: 6381 | D20: =SUM(D21:D24) -> 0 | E20: =SUM(E21:E24) -> 0
A21: 63811 | B21: Tekuće pomoći iz državnog proračuna temeljem prijenosa EU sredstava | C21: 63811
A22: 63812 | B22: Tekuće pomoći iz proračuna JLP(R)S temeljem prijenosa EU sredstava | C22: 63812
A23: 63813 | B23: Tekuće pomoći od proračunskog korisnika drugog proračuna temeljem prijenosa EU sredstava | C23: 63813
A24: 63814 | B24: Tekuće pomoći od izvaproračunskog korisnika temeljem prijenosa EU sredstava | C24: 63814
A25: 6382 | B25: Kapitalne pomoći temeljem prijenosa EU sredstava (šifre 63821 do 63824) | C25: 6382 | D25: =SUM(D26:D29) -> 0 | E25: =SUM(E26:E29) -> 0
A26: 63821 | B26: Kapitalne pomoći iz državnog proračuna temeljem prijenosa EU sredstava | C26: 63821
A27: 63822 | B27: Kapitalne pomoći iz proračuna JLP(R)S temeljem prijenosa EU sredstava | C27: 63822
A28: 63823 | B28: Kapitalne pomoći od proračunskog korisnika drugog proračuna temeljem prijenosa EU sredstava | C28: 63823
A29: 63824 | B29: Kapitalne pomoći od izvaproračunskog korisnika temeljem prijenosa EU sredstava | C29: 63824
A30: 639 | B30: Prijenosi između proračunskih korisnika istog proračuna (šifre 6391 do 6394) | C30: 639 | D30: =SUM(D31:D34) -> 0 | E30: =SUM(E31:E34) -> 0
A31: 6391 | B31: Tekući prijenosi između proračunskih korisnika istog proračuna | C31: 6391
A32: 6392 | B32: Kapitalni prijenosi između proračunskih korisnika istog proračuna | C32: 6392
A33: 6393 | B33: Tekući prijenosi između proračunskih korisnika istog proračuna temeljem prijenosa EU sredstava | C33: 6393
A34: 6394 | B34: Kapitalni prijenosi između proračunskih korisnika istog proračuna temeljem prijenosa EU sredstava | C34: 6394
A35: 671 | B35: Prihodi iz nadležnog proračuna za financiranje redovne djelatnosti proračunskih korisnika (šifre 6711 do 6714) | C35: 671 | D35: =SUM(D36:D38) -> 0 | E35: =SUM(E36:E38) -> 0
A36: 6711 | B36: Prihodi iz nadležnog proračuna za financiranje rashoda poslovanja | C36: 6711
A37: 6712 | B37: Prihodi iz nadležnog proračuna za financiranje rashoda za nabavu nefinancijske imovine | C37: 6712
A38: 6714 | B38: Prihodi iz nadležnog proračuna za financiranje izdataka za financijsku imovinu i otplatu zajmova | C38: 6714
A39: 8 | B39: PRIMICI OD FINANCIJSKE IMOVINE I ZADUŽIVANJA (šifra 841) | C39: 8 | D39: =D40 -> 0 | E39: =E40 -> 0
A40: 841 | B40: Primljeni krediti i zajmovi od međunarodnih organizacija, institucija i tijela EU te inozemnih vlada (šifre 8413+8414) | C40: 841 | D40: =SUM(D41:D42) -> 0 | E40: =SUM(E41:E42) -> 0
A41: 8413 | B41: Primljeni zajmovi od međunarodnih organizacija | C41: 8413
A42: 8414 | B42: Primljeni krediti i zajmovi od institucija i tijela EU | C42: 8414
A43: RASHODI I IZDACI | D43: Ostvareno u izvještajnom razdoblju prethodne godine | E43: Ostvareno u izvještajnom razdoblju tekuće godine
A44: 3 | B44: RASHODI POSLOVANJA (šifre 31+32+34+35+36+37+38) | C44: 3 | D44: =D45+D56+D94+D113+D122+D154+D165 -> 0 | E44: =E45+E56+E94+E113+E122+E154+E165 -> 0
A45: 31 | B45: Rashodi za zaposlene (šifre 311+312+313) | C45: 31 | D45: =D46+D51+D52 -> 0 | E45: =E46+E51+E52 -> 0
A46: 311 | B46: Plaće (bruto) (šifre 3111 do 3114) | C46: 311 | D46: =SUM(D47:D50) -> 0 | E46: =SUM(E47:E50) -> 0
A47: 3111 | B47: Plaće za redovan rad | C47: 3111
A48: 3112 | B48: Plaće u naravi | C48: 3112
A49: 3113 | B49: Plaće za prekovremeni rad | C49: 3113
A50: 3114 | B50: Plaće za posebne uvjete rada | C50: 3114
A51: 312 | B51: Ostali rashodi za zaposlene | C51: 312
A52: 313 | B52: Doprinosi na plaće (šifre 3131 do 3133) | C52: 313 | D52: =SUM(D53:D55) -> 0 | E52: =SUM(E53:E55) -> 0
A53: 3131 | B53: Doprinosi za mirovinsko osiguranje za staž s povećanim trajanjem | C53: 3131
A54: 3132 | B54: Doprinosi za obvezno zdravstveno osiguranje | C54: 3132
A55: 3133 | B55: Doprinosi za obvezno osiguranje u slučaju nezaposlenosti | C55: 3133
A56: 32 | B56: Materijalni rashodi (šifre 321+322+323+324+325+329) | C56: 32 | D56: =D57+D62+D70+D80+D81+D86 -> 0 | E56: =E57+E62+E70+E80+E81+E86 -> 0
A57: 321 | B57: Naknade troškova zaposlenima (šifre 3211 do 3214) | C57: 321 | D57: =SUM(D58:D61) -> 0 | E57: =SUM(E58:E61) -> 0
A58: 3211 | B58: Službena putovanja | C58: 3211
A59: 3212 | B59: Naknade za prijevoz, za rad na terenu i odvojeni život | C59: 3212
A60: 3213 | B60: Stručno usavršavanje zaposlenika | C60: 3213
A61: 3214 | B61: Ostale naknade troškova zaposlenima | C61: 3214
A62: 322 | B62: Rashodi za materijal i energiju (šifre 3221 do 3227) | C62: 322 | D62: =SUM(D63:D69) -> 0 | E62: =SUM(E63:E69) -> 0
A63: 3221 | B63: Uredski materijal i ostali materijalni rashodi | C63: 3221
A64: 3222 | B64: Materijal i sirovine | C64: 3222
A65: 3223 | B65: Energija | C65: 3223
A66: 3224 | B66: Materijal i dijelovi za tekuće i investicijsko održavanje | C66: 3224
A67: 3225 | B67: Sitni inventar i autogume | C67: 3225
A68: 3226 | B68: Vojna sredstva za jednokratnu upotrebu | C68: 3226
A69: 3227 | B69: Službena, radna i zaštitna odjeća i obuća | C69: 3227
A70: 323 | B70: Rashodi za usluge (šifre 3231 do 3239) | C70: 323 | D70: =SUM(D71:D79) -> 0 | E70: =SUM(E71:E79) -> 0
A71: 3231 | B71: Usluge telefona, interneta, pošte i prijevoza | C71: 3231
A72: 3232 | B72: Usluge tekućeg i investicijskog održavanja | C72: 3232
A73: 3233 | B73: Usluge promidžbe i informiranja | C73: 3233
A74: 3234 | B74: Komunalne usluge | C74: 3234
A75: 3235 | B75: Zakupnine i najamnine | C75: 3235
A76: 3236 | B76: Zdravstvene i veterinarske usluge | C76: 3236
A77: 3237 | B77: Intelektualne i osobne usluge | C77: 3237
A78: 3238 | B78: Računalne usluge | C78: 3238
A79: 3239 | B79: Ostale usluge | C79: 3239
A80: 324 | B80: Naknade troškova osobama izvan radnog odnosa | C80: 324
A81: 325 | B81: Rashodi lijekova i potrošnog medicinskog materijala kod zdravstvenih ustanova (šifre 3251 do 3254) | C81: 325 | D81: =SUM(D82:D85) -> 0 | E81: =SUM(E82:E85) -> 0
A82: 3251 | B82: Rashodi po osnovi utroška lijekova i potrošnog medicinskog materijala | C82: 3251
A83: 3252 | B83: Rashodi po osnovi otpisa lijekova i potrošnog medicinskog materijala | C83: 3252
A84: 3253 | B84: Rashodi po osnovi donacije lijekova i potrošnog medicinskog materijala | C84: 3253
A85: 3254 | B85: Rashodi po osnovi prodaje lijekova i potrošnog medicinskog materijala | C85: 3254
A86: 329 | B86: Ostali nespomenuti rashodi poslovanja (šifre 3291 do 3299) | C86: 329 | D86: =SUM(D87:D93) -> 0 | E86: =SUM(E87:E93) -> 0
A87: 3291 | B87: Naknade za rad predstavničkih i izvršnih tijela, povjerenstava i slično | C87: 3291
A88: 3292 | B88: Premije osiguranja | C88: 3292
A89: 3293 | B89: Reprezentacija | C89: 3293
A90: 3294 | B90: Članarine i norme | C90: 3294
A91: 3295 | B91: Pristojbe i naknade | C91: 3295
A92: 3296 | B92: Troškovi sudskih postupaka | C92: 3296
A93: 3299 | B93: Ostali nespomenuti rashodi poslovanja | C93: 3299
A94: 34 | B94: Financijski rashodi (šifre 341+342+343) | C94: 34 | D94: =D95+D100+D108 -> 0 | E94: =E95+E100+E108 -> 0
A95: 341 | B95: Kamate za izdane vrijednosne papire (šifre 3411 do 3419) | C95: 341 | D95: =SUM(D96:D99) -> 0 | E95: =SUM(E96:E99) -> 0
A96: 3411 | B96: Kamate za izdane trezorske zapise | C96: 3411
A97: 3412 | B97: Kamate za izdane mjenice | C97: 3412
A98: 3413 | B98: Kamate za izdane obveznice | C98: 3413
A99: 3419 | B99: Kamate za ostale vrijednosne papire | C99: 3419
A100: 342 | B100: Kamate za primljene kredite i zajmove (šifre 3421 do 3428) | C100: 342 | D100: =SUM(D101:D107) -> 0 | E100: =SUM(E101:E107) -> 0
...

Sheet 561
A1: Obveznik: | B1: OPĆINA DONJA MOTIČINA | C1: Razina: | D1: 22 | E1: Razdoblje: | F1: 2026-09
A2: EU IZVJEŠTAJ PO IZVORIMA FINANCIRANJA - 561 EUROPSKI SOCIJALNI FOND PLUS
A3: Račun iz Rač. plana | B3: Opis stavke | C3: Šifra | D3: Izvor financiranja za praćenje EU sredstava
A4: 1 | B4: 2 | C4: 3 | D4: 4 | E4: 5
A5: PRIHODI I PRIMICI | D5: Ostvareno u izvještajnom razdoblju prethodne godine | E5: Ostvareno u izvještajnom razdoblju tekuće godine
A6: 6 | B6: PRIHODI POSLOVANJA (šifre 631+632+638+639+671) | C6: 6 | D6: =+D7+D14+D19+D30+D35 -> 0 | E6: =+E7+E14+E19+E30+E35 -> 251060.83
A7: 631 | B7: Pomoći od inozemnih vlada (šifre 6311+6312) | C7: 631 | D7: =D8+D11 -> 0 | E7: =E8+E11 -> 0
A8: 6311 | B8: Tekuće pomoći od inozemnih vlada (šifre 63111+63112) | C8: 6311 | D8: =SUM(D9:D10) -> 0 | E8: =SUM(E9:E10) -> 0
A9: 63111 | B9: Tekuće pomoći od inozemnih vlada u EU | C9: 63111
A10: 63112 | B10: Tekuće pomoći od inozemnih vlada izvan EU | C10: 63112
A11: 6312 | B11: Kapitalne pomoći od inozemnih vlada (šifre 63121+63122) | C11: 6312 | D11: =SUM(D12:D13) -> 0 | E11: =SUM(E12:E13) -> 0
A12: 63121 | B12: Kapitalne pomoći od inozemnih vlada u EU | C12: 63121
A13: 63122 | B13: Kapitalne pomoći od inozemnih vlada izvan EU | C13: 63122
A14: 632 | B14: Pomoći od međunarodnih organizacija te institucija i tijela EU (šifre 6321 do 6324) | C14: 632 | D14: =SUM(D15:D18) -> 0 | E14: =SUM(E15:E18) -> 0
A15: 6321 | B15: Tekuće pomoći od međunarodnih organizacija | C15: 6321
A16: 6322 | B16: Kapitalne pomoći od međunarodnih organizacija | C16: 6322
A17: 6323 | B17: Tekuće pomoći od institucija i tijela EU | C17: 6323
A18: 6324 | B18: Kapitalne pomoći od institucija i tijela EU | C18: 6324
A19: 638 | B19: Pomoći temeljem prijenosa EU sredstava (šifre 6381+6382) | C19: 638 | D19: =D20+D25 -> 0 | E19: =E20+E25 -> 251060.83
A20: 6381 | B20: Tekuće pomoći temeljem prijenosa EU sredstava (šifre 63811 do 63814) | C20: 6381 | D20: =SUM(D21:D24) -> 0 | E20: =SUM(E21:E24) -> 251060.83
A21: 63811 | B21: Tekuće pomoći iz državnog proračuna temeljem prijenosa EU sredstava | C21: 63811 | E21: 251060.83
A22: 63812 | B22: Tekuće pomoći iz proračuna JLP(R)S temeljem prijenosa EU sredstava | C22: 63812
A23: 63813 | B23: Tekuće pomoći od proračunskog korisnika drugog proračuna temeljem prijenosa EU sredstava | C23: 63813
A24: 63814 | B24: Tekuće pomoći od izvaproračunskog korisnika temeljem prijenosa EU sredstava | C24: 63814
A25: 6382 | B25: Kapitalne pomoći temeljem prijenosa EU sredstava (šifre 63821 do 63824) | C25: 6382 | D25: =SUM(D26:D29) -> 0 | E25: =SUM(E26:E29) -> 0
A26: 63821 | B26: Kapitalne pomoći iz državnog proračuna temeljem prijenosa EU sredstava | C26: 63821
A27: 63822 | B27: Kapitalne pomoći iz proračuna JLP(R)S temeljem prijenosa EU sredstava | C27: 63822
A28: 63823 | B28: Kapitalne pomoći od proračunskog korisnika drugog proračuna temeljem prijenosa EU sredstava | C28: 63823
A29: 63824 | B29: Kapitalne pomoći od izvaproračunskog korisnika temeljem prijenosa EU sredstava | C29: 63824
A30: 639 | B30: Prijenosi između proračunskih korisnika istog proračuna (šifre 6391 do 6394) | C30: 639 | D30: =SUM(D31:D34) -> 0 | E30: =SUM(E31:E34) -> 0
A31: 6391 | B31: Tekući prijenosi između proračunskih korisnika istog proračuna | C31: 6391
A32: 6392 | B32: Kapitalni prijenosi između proračunskih korisnika istog proračuna | C32: 6392
A33: 6393 | B33: Tekući prijenosi između proračunskih korisnika istog proračuna temeljem prijenosa EU sredstava | C33: 6393
A34: 6394 | B34: Kapitalni prijenosi između proračunskih korisnika istog proračuna temeljem prijenosa EU sredstava | C34: 6394
A35: 671 | B35: Prihodi iz nadležnog proračuna za financiranje redovne djelatnosti proračunskih korisnika (šifre 6711 do 6714) | C35: 671 | D35: =SUM(D36:D38) -> 0 | E35: =SUM(E36:E38) -> 0
A36: 6711 | B36: Prihodi iz nadležnog proračuna za financiranje rashoda poslovanja | C36: 6711
A37: 6712 | B37: Prihodi iz nadležnog proračuna za financiranje rashoda za nabavu nefinancijske imovine | C37: 6712
A38: 6714 | B38: Prihodi iz nadležnog proračuna za financiranje izdataka za financijsku imovinu i otplatu zajmova | C38: 6714
A39: 8 | B39: PRIMICI OD FINANCIJSKE IMOVINE I ZADUŽIVANJA (šifra 841) | C39: 8 | D39: =D40 -> 0 | E39: =E40 -> 0
A40: 841 | B40: Primljeni krediti i zajmovi od međunarodnih organizacija, institucija i tijela EU te inozemnih vlada (šifre 8413+8414) | C40: 841 | D40: =SUM(D41:D42) -> 0 | E40: =SUM(E41:E42) -> 0
A41: 8413 | B41: Primljeni zajmovi od međunarodnih organizacija | C41: 8413
A42: 8414 | B42: Primljeni krediti i zajmovi od institucija i tijela EU | C42: 8414
A43: RASHODI I IZDACI | D43: Ostvareno u izvještajnom razdoblju prethodne godine | E43: Ostvareno u izvještajnom razdoblju tekuće godine
A44: 3 | B44: RASHODI POSLOVANJA (šifre 31+32+34+35+36+37+38) | C44: 3 | D44: =D45+D56+D94+D113+D122+D154+D165 -> 0 | E44: =E45+E56+E94+E113+E122+E154+E165 -> 217814.98
A45: 31 | B45: Rashodi za zaposlene (šifre 311+312+313) | C45: 31 | D45: =D46+D51+D52 -> 0 | E45: =E46+E51+E52 -> 184059.67
A46: 311 | B46: Plaće (bruto) (šifre 3111 do 3114) | C46: 311 | D46: =SUM(D47:D50) -> 0 | E46: =SUM(E47:E50) -> 157991.14
A47: 3111 | B47: Plaće za redovan rad | C47: 3111 | E47: 157991.14
A48: 3112 | B48: Plaće u naravi | C48: 3112
A49: 3113 | B49: Plaće za prekovremeni rad | C49: 3113
A50: 3114 | B50: Plaće za posebne uvjete rada | C50: 3114
A51: 312 | B51: Ostali rashodi za zaposlene | C51: 312
A52: 313 | B52: Doprinosi na plaće (šifre 3131 do 3133) | C52: 313 | D52: =SUM(D53:D55) -> 0 | E52: =SUM(E53:E55) -> 26068.53
A53: 3131 | B53: Doprinosi za mirovinsko osiguranje za staž s povećanim trajanjem | C53: 3131
A54: 3132 | B54: Doprinosi za obvezno zdravstveno osiguranje | C54: 3132 | E54: 26068.53
A55: 3133 | B55: Doprinosi za obvezno osiguranje u slučaju nezaposlenosti | C55: 3133
A56: 32 | B56: Materijalni rashodi (šifre 321+322+323+324+325+329) | C56: 32 | D56: =D57+D62+D70+D80+D81+D86 -> 0 | E56: =E57+E62+E70+E80+E81+E86 -> 33755.31
A57: 321 | B57: Naknade troškova zaposlenima (šifre 3211 do 3214) | C57: 321 | D57: =SUM(D58:D61) -> 0 | E57: =SUM(E58:E61) -> 0
A58: 3211 | B58: Službena putovanja | C58: 3211
A59: 3212 | B59: Naknade za prijevoz, za rad na terenu i odvojeni život | C59: 3212
A60: 3213 | B60: Stručno usavršavanje zaposlenika | C60: 3213
A61: 3214 | B61: Ostale naknade troškova zaposlenima | C61: 3214
A62: 322 | B62: Rashodi za materijal i energiju (šifre 3221 do 3227) | C62: 322 | D62: =SUM(D63:D69) -> 0 | E62: =SUM(E63:E69) -> 7964.18
A63: 3221 | B63: Uredski materijal i ostali materijalni rashodi | C63: 3221 | E63: 7964.18
A64: 3222 | B64: Materijal i sirovine | C64: 3222
A65: 3223 | B65: Energija | C65: 3223
A66: 3224 | B66: Materijal i dijelovi za tekuće i investicijsko održavanje | C66: 3224
A67: 3225 | B67: Sitni inventar i autogume | C67: 3225
A68: 3226 | B68: Vojna sredstva za jednokratnu upotrebu | C68: 3226
A69: 3227 | B69: Službena, radna i zaštitna odjeća i obuća | C69: 3227
A70: 323 | B70: Rashodi za usluge (šifre 3231 do 3239) | C70: 323 | D70: =SUM(D71:D79) -> 0 | E70: =SUM(E71:E79) -> 0
A71: 3231 | B71: Usluge telefona, interneta, pošte i prijevoza | C71: 3231
A72: 3232 | B72: Usluge tekućeg i investicijskog održavanja | C72: 3232
A73: 3233 | B73: Usluge promidžbe i informiranja | C73: 3233
A74: 3234 | B74: Komunalne usluge | C74: 3234
A75: 3235 | B75: Zakupnine i najamnine | C75: 3235
A76: 3236 | B76: Zdravstvene i veterinarske usluge | C76: 3236
A77: 3237 | B77: Intelektualne i osobne usluge | C77: 3237
A78: 3238 | B78: Računalne usluge | C78: 3238
A79: 3239 | B79: Ostale usluge | C79: 3239
A80: 324 | B80: Naknade troškova osobama izvan radnog odnosa | C80: 324 | E80: 25791.13
A81: 325 | B81: Rashodi lijekova i potrošnog medicinskog materijala kod zdravstvenih ustanova (šifre 3251 do 3254) | C81: 325 | D81: =SUM(D82:D85) -> 0 | E81: =SUM(E82:E85) -> 0
A82: 3251 | B82: Rashodi po osnovi utroška lijekova i potrošnog medicinskog materijala | C82: 3251
A83: 3252 | B83: Rashodi po osnovi otpisa lijekova i potrošnog medicinskog materijala | C83: 3252
A84: 3253 | B84: Rashodi po osnovi donacije lijekova i potrošnog medicinskog materijala | C84: 3253
A85: 3254 | B85: Rashodi po osnovi prodaje lijekova i potrošnog medicinskog materijala | C85: 3254
A86: 329 | B86: Ostali nespomenuti rashodi poslovanja (šifre 3291 do 3299) | C86: 329 | D86: =SUM(D87:D93) -> 0 | E86: =SUM(E87:E93) -> 0
A87: 3291 | B87: Naknade za rad predstavničkih i izvršnih tijela, povjerenstava i slično | C87: 3291
A88: 3292 | B88: Premije osiguranja | C88: 3292
A89: 3293 | B89: Reprezentacija | C89: 3293
A90: 3294 | B90: Članarine i norme | C90: 3294
A91: 3295 | B91: Pristojbe i naknade | C91: 3295
A92: 3296 | B92: Troškovi sudskih postupaka | C92: 3296
A93: 3299 | B93: Ostali nespomenuti rashodi poslovanja | C93: 3299
A94: 34 | B94: Financijski rashodi (šifre 341+342+343) | C94: 34 | D94: =D95+D100+D108 -> 0 | E94: =E95+E100+E108 -> 0
A95: 341 | B95: Kamate za izdane vrijednosne papire (šifre 3411 do 3419) | C95: 341 | D95: =SUM(D96:D99) -> 0 | E95: =SUM(E96:E99) -> 0
A96: 3411 | B96: Kamate za izdane trezorske zapise | C96: 3411
A97: 3412 | B97: Kamate za izdane mjenice | C97: 3412
A98: 3413 | B98: Kamate za izdane obveznice | C98: 3413
A99: 3419 | B99: Kamate za ostale vrijednosne papire | C99: 3419
A100: 342 | B100: Kamate za primljene kredite i zajmove (šifre 3421 do 3428) | C100: 342 | D100: =SUM(D101:D107) -> 0 | E100: =SUM(E101:E107) -> 0
...

Sheet 562
A1: Obveznik: | B1: OPĆINA DONJA MOTIČINA | C1: Razina: | D1: 22 | E1: Razdoblje: | F1: 2026-09
A2: EU IZVJEŠTAJ PO IZVORIMA FINANCIRANJA - 562 KOHEZIJSKI FOND
A3: Račun iz Rač. plana | B3: Opis stavke | C3: Šifra | D3: Izvor financiranja za praćenje EU sredstava
A4: 1 | B4: 2 | C4: 3 | D4: 4 | E4: 5
A5: PRIHODI I PRIMICI | D5: Ostvareno u izvještajnom razdoblju prethodne godine | E5: Ostvareno u izvještajnom razdoblju tekuće godine
A6: 6 | B6: PRIHODI POSLOVANJA (šifre 631+632+638+639+671) | C6: 6 | D6: =+D7+D14+D19+D30+D35 -> 0 | E6: =+E7+E14+E19+E30+E35 -> 0
A7: 631 | B7: Pomoći od inozemnih vlada (šifre 6311+6312) | C7: 631 | D7: =D8+D11 -> 0 | E7: =E8+E11 -> 0
A8: 6311 | B8: Tekuće pomoći od inozemnih vlada (šifre 63111+63112) | C8: 6311 | D8: =SUM(D9:D10) -> 0 | E8: =SUM(E9:E10) -> 0
A9: 63111 | B9: Tekuće pomoći od inozemnih vlada u EU | C9: 63111
A10: 63112 | B10: Tekuće pomoći od inozemnih vlada izvan EU | C10: 63112
A11: 6312 | B11: Kapitalne pomoći od inozemnih vlada (šifre 63121+63122) | C11: 6312 | D11: =SUM(D12:D13) -> 0 | E11: =SUM(E12:E13) -> 0
A12: 63121 | B12: Kapitalne pomoći od inozemnih vlada u EU | C12: 63121
A13: 63122 | B13: Kapitalne pomoći od inozemnih vlada izvan EU | C13: 63122
A14: 632 | B14: Pomoći od međunarodnih organizacija te institucija i tijela EU (šifre 6321 do 6324) | C14: 632 | D14: =SUM(D15:D18) -> 0 | E14: =SUM(E15:E18) -> 0
A15: 6321 | B15: Tekuće pomoći od međunarodnih organizacija | C15: 6321
A16: 6322 | B16: Kapitalne pomoći od međunarodnih organizacija | C16: 6322
A17: 6323 | B17: Tekuće pomoći od institucija i tijela EU | C17: 6323
A18: 6324 | B18: Kapitalne pomoći od institucija i tijela EU | C18: 6324
A19: 638 | B19: Pomoći temeljem prijenosa EU sredstava (šifre 6381+6382) | C19: 638 | D19: =D20+D25 -> 0 | E19: =E20+E25 -> 0
A20: 6381 | B20: Tekuće pomoći temeljem prijenosa EU sredstava (šifre 63811 do 63814) | C20: 6381 | D20: =SUM(D21:D24) -> 0 | E20: =SUM(E21:E24) -> 0
A21: 63811 | B21: Tekuće pomoći iz državnog proračuna temeljem prijenosa EU sredstava | C21: 63811
A22: 63812 | B22: Tekuće pomoći iz proračuna JLP(R)S temeljem prijenosa EU sredstava | C22: 63812
A23: 63813 | B23: Tekuće pomoći od proračunskog korisnika drugog proračuna temeljem prijenosa EU sredstava | C23: 63813
A24: 63814 | B24: Tekuće pomoći od izvaproračunskog korisnika temeljem prijenosa EU sredstava | C24: 63814
A25: 6382 | B25: Kapitalne pomoći temeljem prijenosa EU sredstava (šifre 63821 do 63824) | C25: 6382 | D25: =SUM(D26:D29) -> 0 | E25: =SUM(E26:E29) -> 0
A26: 63821 | B26: Kapitalne pomoći iz državnog proračuna temeljem prijenosa EU sredstava | C26: 63821
A27: 63822 | B27: Kapitalne pomoći iz proračuna JLP(R)S temeljem prijenosa EU sredstava | C27: 63822
A28: 63823 | B28: Kapitalne pomoći od proračunskog korisnika drugog proračuna temeljem prijenosa EU sredstava | C28: 63823
A29: 63824 | B29: Kapitalne pomoći od izvaproračunskog korisnika temeljem prijenosa EU sredstava | C29: 63824
A30: 639 | B30: Prijenosi između proračunskih korisnika istog proračuna (šifre 6391 do 6394) | C30: 639 | D30: =SUM(D31:D34) -> 0 | E30: =SUM(E31:E34) -> 0
A31: 6391 | B31: Tekući prijenosi između proračunskih korisnika istog proračuna | C31: 6391
A32: 6392 | B32: Kapitalni prijenosi između proračunskih korisnika istog proračuna | C32: 6392
A33: 6393 | B33: Tekući prijenosi između proračunskih korisnika istog proračuna temeljem prijenosa EU sredstava | C33: 6393
A34: 6394 | B34: Kapitalni prijenosi između proračunskih korisnika istog proračuna temeljem prijenosa EU sredstava | C34: 6394
A35: 671 | B35: Prihodi iz nadležnog proračuna za financiranje redovne djelatnosti proračunskih korisnika (šifre 6711 do 6714) | C35: 671 | D35: =SUM(D36:D38) -> 0 | E35: =SUM(E36:E38) -> 0
A36: 6711 | B36: Prihodi iz nadležnog proračuna za financiranje rashoda poslovanja | C36: 6711
A37: 6712 | B37: Prihodi iz nadležnog proračuna za financiranje rashoda za nabavu nefinancijske imovine | C37: 6712
A38: 6714 | B38: Prihodi iz nadležnog proračuna za financiranje izdataka za financijsku imovinu i otplatu zajmova | C38: 6714
A39: 8 | B39: PRIMICI OD FINANCIJSKE IMOVINE I ZADUŽIVANJA (šifra 841) | C39: 8 | D39: =D40 -> 0 | E39: =E40 -> 0
A40: 841 | B40: Primljeni krediti i zajmovi od međunarodnih organizacija, institucija i tijela EU te inozemnih vlada (šifre 8413+8414) | C40: 841 | D40: =SUM(D41:D42) -> 0 | E40: =SUM(E41:E42) -> 0
A41: 8413 | B41: Primljeni zajmovi od međunarodnih organizacija | C41: 8413
A42: 8414 | B42: Primljeni krediti i zajmovi od institucija i tijela EU | C42: 8414
A43: RASHODI I IZDACI | D43: Ostvareno u izvještajnom razdoblju prethodne godine | E43: Ostvareno u izvještajnom razdoblju tekuće godine
A44: 3 | B44: RASHODI POSLOVANJA (šifre 31+32+34+35+36+37+38) | C44: 3 | D44: =D45+D56+D94+D113+D122+D154+D165 -> 0 | E44: =E45+E56+E94+E113+E122+E154+E165 -> 0
A45: 31 | B45: Rashodi za zaposlene (šifre 311+312+313) | C45: 31 | D45: =D46+D51+D52 -> 0 | E45: =E46+E51+E52 -> 0
A46: 311 | B46: Plaće (bruto) (šifre 3111 do 3114) | C46: 311 | D46: =SUM(D47:D50) -> 0 | E46: =SUM(E47:E50) -> 0
A47: 3111 | B47: Plaće za redovan rad | C47: 3111
A48: 3112 | B48: Plaće u naravi | C48: 3112
A49: 3113 | B49: Plaće za prekovremeni rad | C49: 3113
A50: 3114 | B50: Plaće za posebne uvjete rada | C50: 3114
A51: 312 | B51: Ostali rashodi za zaposlene | C51: 312
A52: 313 | B52: Doprinosi na plaće (šifre 3131 do 3133) | C52: 313 | D52: =SUM(D53:D55) -> 0 | E52: =SUM(E53:E55) -> 0
A53: 3131 | B53: Doprinosi za mirovinsko osiguranje za staž s povećanim trajanjem | C53: 3131
A54: 3132 | B54: Doprinosi za obvezno zdravstveno osiguranje | C54: 3132
A55: 3133 | B55: Doprinosi za obvezno osiguranje u slučaju nezaposlenosti | C55: 3133
A56: 32 | B56: Materijalni rashodi (šifre 321+322+323+324+325+329) | C56: 32 | D56: =D57+D62+D70+D80+D81+D86 -> 0 | E56: =E57+E62+E70+E80+E81+E86 -> 0
A57: 321 | B57: Naknade troškova zaposlenima (šifre 3211 do 3214) | C57: 321 | D57: =SUM(D58:D61) -> 0 | E57: =SUM(E58:E61) -> 0
A58: 3211 | B58: Službena putovanja | C58: 3211
A59: 3212 | B59: Naknade za prijevoz, za rad na terenu i odvojeni život | C59: 3212
A60: 3213 | B60: Stručno usavršavanje zaposlenika | C60: 3213
A61: 3214 | B61: Ostale naknade troškova zaposlenima | C61: 3214
A62: 322 | B62: Rashodi za materijal i energiju (šifre 3221 do 3227) | C62: 322 | D62: =SUM(D63:D69) -> 0 | E62: =SUM(E63:E69) -> 0
A63: 3221 | B63: Uredski materijal i ostali materijalni rashodi | C63: 3221
A64: 3222 | B64: Materijal i sirovine | C64: 3222
A65: 3223 | B65: Energija | C65: 3223
A66: 3224 | B66: Materijal i dijelovi za tekuće i investicijsko održavanje | C66: 3224
A67: 3225 | B67: Sitni inventar i autogume | C67: 3225
A68: 3226 | B68: Vojna sredstva za jednokratnu upotrebu | C68: 3226
A69: 3227 | B69: Službena, radna i zaštitna odjeća i obuća | C69: 3227
A70: 323 | B70: Rashodi za usluge (šifre 3231 do 3239) | C70: 323 | D70: =SUM(D71:D79) -> 0 | E70: =SUM(E71:E79) -> 0
A71: 3231 | B71: Usluge telefona, interneta, pošte i prijevoza | C71: 3231
A72: 3232 | B72: Usluge tekućeg i investicijskog održavanja | C72: 3232
A73: 3233 | B73: Usluge promidžbe i informiranja | C73: 3233
A74: 3234 | B74: Komunalne usluge | C74: 3234
A75: 3235 | B75: Zakupnine i najamnine | C75: 3235
A76: 3236 | B76: Zdravstvene i veterinarske usluge | C76: 3236
A77: 3237 | B77: Intelektualne i osobne usluge | C77: 3237
A78: 3238 | B78: Računalne usluge | C78: 3238
A79: 3239 | B79: Ostale usluge | C79: 3239
A80: 324 | B80: Naknade troškova osobama izvan radnog odnosa | C80: 324
A81: 325 | B81: Rashodi lijekova i potrošnog medicinskog materijala kod zdravstvenih ustanova (šifre 3251 do 3254) | C81: 325 | D81: =SUM(D82:D85) -> 0 | E81: =SUM(E82:E85) -> 0
A82: 3251 | B82: Rashodi po osnovi utroška lijekova i potrošnog medicinskog materijala | C82: 3251
A83: 3252 | B83: Rashodi po osnovi otpisa lijekova i potrošnog medicinskog materijala | C83: 3252
A84: 3253 | B84: Rashodi po osnovi donacije lijekova i potrošnog medicinskog materijala | C84: 3253
A85: 3254 | B85: Rashodi po osnovi prodaje lijekova i potrošnog medicinskog materijala | C85: 3254
A86: 329 | B86: Ostali nespomenuti rashodi poslovanja (šifre 3291 do 3299) | C86: 329 | D86: =SUM(D87:D93) -> 0 | E86: =SUM(E87:E93) -> 0
A87: 3291 | B87: Naknade za rad predstavničkih i izvršnih tijela, povjerenstava i slično | C87: 3291
A88: 3292 | B88: Premije osiguranja | C88: 3292
A89: 3293 | B89: Reprezentacija | C89: 3293
A90: 3294 | B90: Članarine i norme | C90: 3294
A91: 3295 | B91: Pristojbe i naknade | C91: 3295
A92: 3296 | B92: Troškovi sudskih postupaka | C92: 3296
A93: 3299 | B93: Ostali nespomenuti rashodi poslovanja | C93: 3299
A94: 34 | B94: Financijski rashodi (šifre 341+342+343) | C94: 34 | D94: =D95+D100+D108 -> 0 | E94: =E95+E100+E108 -> 0
A95: 341 | B95: Kamate za izdane vrijednosne papire (šifre 3411 do 3419) | C95: 341 | D95: =SUM(D96:D99) -> 0 | E95: =SUM(E96:E99) -> 0
A96: 3411 | B96: Kamate za izdane trezorske zapise | C96: 3411
A97: 3412 | B97: Kamate za izdane mjenice | C97: 3412
A98: 3413 | B98: Kamate za izdane obveznice | C98: 3413
A99: 3419 | B99: Kamate za ostale vrijednosne papire | C99: 3419
A100: 342 | B100: Kamate za primljene kredite i zajmove (šifre 3421 do 3428) | C100: 342 | D100: =SUM(D101:D107) -> 0 | E100: =SUM(E101:E107) -> 0
...

Sheet 563
A1: Obveznik: | B1: OPĆINA DONJA MOTIČINA | C1: Razina: | D1: 22 | E1: Razdoblje: | F1: 2026-09
A2: EU IZVJEŠTAJ PO IZVORIMA FINANCIRANJA - 563 EUROPSKI FOND ZA REGIONALNI RAZVOJ
A3: Račun iz Rač. plana | B3: Opis stavke | C3: Šifra | D3: Izvor financiranja za praćenje EU sredstava
A4: 1 | B4: 2 | C4: 3 | D4: 4 | E4: 5
A5: PRIHODI I PRIMICI | D5: Ostvareno u izvještajnom razdoblju prethodne godine | E5: Ostvareno u izvještajnom razdoblju tekuće godine
A6: 6 | B6: PRIHODI POSLOVANJA (šifre 631+632+638+639+671) | C6: 6 | D6: =+D7+D14+D19+D30+D35 -> 0 | E6: =+E7+E14+E19+E30+E35 -> 0
A7: 631 | B7: Pomoći od inozemnih vlada (šifre 6311+6312) | C7: 631 | D7: =D8+D11 -> 0 | E7: =E8+E11 -> 0
A8: 6311 | B8: Tekuće pomoći od inozemnih vlada (šifre 63111+63112) | C8: 6311 | D8: =SUM(D9:D10) -> 0 | E8: =SUM(E9:E10) -> 0
A9: 63111 | B9: Tekuće pomoći od inozemnih vlada u EU | C9: 63111
A10: 63112 | B10: Tekuće pomoći od inozemnih vlada izvan EU | C10: 63112
A11: 6312 | B11: Kapitalne pomoći od inozemnih vlada (šifre 63121+63122) | C11: 6312 | D11: =SUM(D12:D13) -> 0 | E11: =SUM(E12:E13) -> 0
A12: 63121 | B12: Kapitalne pomoći od inozemnih vlada u EU | C12: 63121
A13: 63122 | B13: Kapitalne pomoći od inozemnih vlada izvan EU | C13: 63122
A14: 632 | B14: Pomoći od međunarodnih organizacija te institucija i tijela EU (šifre 6321 do 6324) | C14: 632 | D14: =SUM(D15:D18) -> 0 | E14: =SUM(E15:E18) -> 0
A15: 6321 | B15: Tekuće pomoći od međunarodnih organizacija | C15: 6321
A16: 6322 | B16: Kapitalne pomoći od međunarodnih organizacija | C16: 6322
A17: 6323 | B17: Tekuće pomoći od institucija i tijela EU | C17: 6323
A18: 6324 | B18: Kapitalne pomoći od institucija i tijela EU | C18: 6324
A19: 638 | B19: Pomoći temeljem prijenosa EU sredstava (šifre 6381+6382) | C19: 638 | D19: =D20+D25 -> 0 | E19: =E20+E25 -> 0
A20: 6381 | B20: Tekuće pomoći temeljem prijenosa EU sredstava (šifre 63811 do 63814) | C20: 6381 | D20: =SUM(D21:D24) -> 0 | E20: =SUM(E21:E24) -> 0
A21: 63811 | B21: Tekuće pomoći iz državnog proračuna temeljem prijenosa EU sredstava | C21: 63811
A22: 63812 | B22: Tekuće pomoći iz proračuna JLP(R)S temeljem prijenosa EU sredstava | C22: 63812
A23: 63813 | B23: Tekuće pomoći od proračunskog korisnika drugog proračuna temeljem prijenosa EU sredstava | C23: 63813
A24: 63814 | B24: Tekuće pomoći od izvaproračunskog korisnika temeljem prijenosa EU sredstava | C24: 63814
A25: 6382 | B25: Kapitalne pomoći temeljem prijenosa EU sredstava (šifre 63821 do 63824) | C25: 6382 | D25: =SUM(D26:D29) -> 0 | E25: =SUM(E26:E29) -> 0
A26: 63821 | B26: Kapitalne pomoći iz državnog proračuna temeljem prijenosa EU sredstava | C26: 63821
A27: 63822 | B27: Kapitalne pomoći iz proračuna JLP(R)S temeljem prijenosa EU sredstava | C27: 63822
A28: 63823 | B28: Kapitalne pomoći od proračunskog korisnika drugog proračuna temeljem prijenosa EU sredstava | C28: 63823
A29: 63824 | B29: Kapitalne pomoći od izvaproračunskog korisnika temeljem prijenosa EU sredstava | C29: 63824
A30: 639 | B30: Prijenosi između proračunskih korisnika istog proračuna (šifre 6391 do 6394) | C30: 639 | D30: =SUM(D31:D34) -> 0 | E30: =SUM(E31:E34) -> 0
A31: 6391 | B31: Tekući prijenosi između proračunskih korisnika istog proračuna | C31: 6391
A32: 6392 | B32: Kapitalni prijenosi između proračunskih korisnika istog proračuna | C32: 6392
A33: 6393 | B33: Tekući prijenosi između proračunskih korisnika istog proračuna temeljem prijenosa EU sredstava | C33: 6393
A34: 6394 | B34: Kapitalni prijenosi između proračunskih korisnika istog proračuna temeljem prijenosa EU sredstava | C34: 6394
A35: 671 | B35: Prihodi iz nadležnog proračuna za financiranje redovne djelatnosti proračunskih korisnika (šifre 6711 do 6714) | C35: 671 | D35: =SUM(D36:D38) -> 0 | E35: =SUM(E36:E38) -> 0
A36: 6711 | B36: Prihodi iz nadležnog proračuna za financiranje rashoda poslovanja | C36: 6711
A37: 6712 | B37: Prihodi iz nadležnog proračuna za financiranje rashoda za nabavu nefinancijske imovine | C37: 6712
A38: 6714 | B38: Prihodi iz nadležnog proračuna za financiranje izdataka za financijsku imovinu i otplatu zajmova | C38: 6714
A39: 8 | B39: PRIMICI OD FINANCIJSKE IMOVINE I ZADUŽIVANJA (šifra 841) | C39: 8 | D39: =D40 -> 0 | E39: =E40 -> 0
A40: 841 | B40: Primljeni krediti i zajmovi od međunarodnih organizacija, institucija i tijela EU te inozemnih vlada (šifre 8413+8414) | C40: 841 | D40: =SUM(D41:D42) -> 0 | E40: =SUM(E41:E42) -> 0
A41: 8413 | B41: Primljeni zajmovi od međunarodnih organizacija | C41: 8413
A42: 8414 | B42: Primljeni krediti i zajmovi od institucija i tijela EU | C42: 8414
A43: RASHODI I IZDACI | D43: Ostvareno u izvještajnom razdoblju prethodne godine | E43: Ostvareno u izvještajnom razdoblju tekuće godine
A44: 3 | B44: RASHODI POSLOVANJA (šifre 31+32+34+35+36+37+38) | C44: 3 | D44: =D45+D56+D94+D113+D122+D154+D165 -> 0 | E44: =E45+E56+E94+E113+E122+E154+E165 -> 0
A45: 31 | B45: Rashodi za zaposlene (šifre 311+312+313) | C45: 31 | D45: =D46+D51+D52 -> 0 | E45: =E46+E51+E52 -> 0
A46: 311 | B46: Plaće (bruto) (šifre 3111 do 3114) | C46: 311 | D46: =SUM(D47:D50) -> 0 | E46: =SUM(E47:E50) -> 0
A47: 3111 | B47: Plaće za redovan rad | C47: 3111
A48: 3112 | B48: Plaće u naravi | C48: 3112
A49: 3113 | B49: Plaće za prekovremeni rad | C49: 3113
A50: 3114 | B50: Plaće za posebne uvjete rada | C50: 3114
A51: 312 | B51: Ostali rashodi za zaposlene | C51: 312
A52: 313 | B52: Doprinosi na plaće (šifre 3131 do 3133) | C52: 313 | D52: =SUM(D53:D55) -> 0 | E52: =SUM(E53:E55) -> 0
A53: 3131 | B53: Doprinosi za mirovinsko osiguranje za staž s povećanim trajanjem | C53: 3131
A54: 3132 | B54: Doprinosi za obvezno zdravstveno osiguranje | C54: 3132
A55: 3133 | B55: Doprinosi za obvezno osiguranje u slučaju nezaposlenosti | C55: 3133
A56: 32 | B56: Materijalni rashodi (šifre 321+322+323+324+325+329) | C56: 32 | D56: =D57+D62+D70+D80+D81+D86 -> 0 | E56: =E57+E62+E70+E80+E81+E86 -> 0
A57: 321 | B57: Naknade troškova zaposlenima (šifre 3211 do 3214) | C57: 321 | D57: =SUM(D58:D61) -> 0 | E57: =SUM(E58:E61) -> 0
A58: 3211 | B58: Službena putovanja | C58: 3211
A59: 3212 | B59: Naknade za prijevoz, za rad na terenu i odvojeni život | C59: 3212
A60: 3213 | B60: Stručno usavršavanje zaposlenika | C60: 3213
A61: 3214 | B61: Ostale naknade troškova zaposlenima | C61: 3214
A62: 322 | B62: Rashodi za materijal i energiju (šifre 3221 do 3227) | C62: 322 | D62: =SUM(D63:D69) -> 0 | E62: =SUM(E63:E69) -> 0
A63: 3221 | B63: Uredski materijal i ostali materijalni rashodi | C63: 3221
A64: 3222 | B64: Materijal i sirovine | C64: 3222
A65: 3223 | B65: Energija | C65: 3223
A66: 3224 | B66: Materijal i dijelovi za tekuće i investicijsko održavanje | C66: 3224
A67: 3225 | B67: Sitni inventar i autogume | C67: 3225
A68: 3226 | B68: Vojna sredstva za jednokratnu upotrebu | C68: 3226
A69: 3227 | B69: Službena, radna i zaštitna odjeća i obuća | C69: 3227
A70: 323 | B70: Rashodi za usluge (šifre 3231 do 3239) | C70: 323 | D70: =SUM(D71:D79) -> 0 | E70: =SUM(E71:E79) -> 0
A71: 3231 | B71: Usluge telefona, interneta, pošte i prijevoza | C71: 3231
A72: 3232 | B72: Usluge tekućeg i investicijskog održavanja | C72: 3232
A73: 3233 | B73: Usluge promidžbe i informiranja | C73: 3233
A74: 3234 | B74: Komunalne usluge | C74: 3234
A75: 3235 | B75: Zakupnine i najamnine | C75: 3235
A76: 3236 | B76: Zdravstvene i veterinarske usluge | C76: 3236
A77: 3237 | B77: Intelektualne i osobne usluge | C77: 3237
A78: 3238 | B78: Računalne usluge | C78: 3238
A79: 3239 | B79: Ostale usluge | C79: 3239
A80: 324 | B80: Naknade troškova osobama izvan radnog odnosa | C80: 324
A81: 325 | B81: Rashodi lijekova i potrošnog medicinskog materijala kod zdravstvenih ustanova (šifre 3251 do 3254) | C81: 325 | D81: =SUM(D82:D85) -> 0 | E81: =SUM(E82:E85) -> 0
A82: 3251 | B82: Rashodi po osnovi utroška lijekova i potrošnog medicinskog materijala | C82: 3251
A83: 3252 | B83: Rashodi po osnovi otpisa lijekova i potrošnog medicinskog materijala | C83: 3252
A84: 3253 | B84: Rashodi po osnovi donacije lijekova i potrošnog medicinskog materijala | C84: 3253
A85: 3254 | B85: Rashodi po osnovi prodaje lijekova i potrošnog medicinskog materijala | C85: 3254
A86: 329 | B86: Ostali nespomenuti rashodi poslovanja (šifre 3291 do 3299) | C86: 329 | D86: =SUM(D87:D93) -> 0 | E86: =SUM(E87:E93) -> 0
A87: 3291 | B87: Naknade za rad predstavničkih i izvršnih tijela, povjerenstava i slično | C87: 3291
A88: 3292 | B88: Premije osiguranja | C88: 3292
A89: 3293 | B89: Reprezentacija | C89: 3293
A90: 3294 | B90: Članarine i norme | C90: 3294
A91: 3295 | B91: Pristojbe i naknade | C91: 3295
A92: 3296 | B92: Troškovi sudskih postupaka | C92: 3296
A93: 3299 | B93: Ostali nespomenuti rashodi poslovanja | C93: 3299
A94: 34 | B94: Financijski rashodi (šifre 341+342+343) | C94: 34 | D94: =D95+D100+D108 -> 0 | E94: =E95+E100+E108 -> 0
A95: 341 | B95: Kamate za izdane vrijednosne papire (šifre 3411 do 3419) | C95: 341 | D95: =SUM(D96:D99) -> 0 | E95: =SUM(E96:E99) -> 0
A96: 3411 | B96: Kamate za izdane trezorske zapise | C96: 3411
A97: 3412 | B97: Kamate za izdane mjenice | C97: 3412
A98: 3413 | B98: Kamate za izdane obveznice | C98: 3413
A99: 3419 | B99: Kamate za ostale vrijednosne papire | C99: 3419
A100: 342 | B100: Kamate za primljene kredite i zajmove (šifre 3421 do 3428) | C100: 342 | D100: =SUM(D101:D107) -> 0 | E100: =SUM(E101:E107) -> 0
...

Sheet 564
A1: Obveznik: | B1: OPĆINA DONJA MOTIČINA | C1: Razina: | D1: 22 | E1: Razdoblje: | F1: 2026-09
A2: EU IZVJEŠTAJ PO IZVORIMA FINANCIRANJA - 564 FOND ZA POMORSTVO, RIBARSTVO I AKVAKULTURU
A3: Račun iz Rač. plana | B3: Opis stavke | C3: Šifra | D3: Izvor financiranja za praćenje EU sredstava
A4: 1 | B4: 2 | C4: 3 | D4: 4 | E4: 5
A5: PRIHODI I PRIMICI | D5: Ostvareno u izvještajnom razdoblju prethodne godine | E5: Ostvareno u izvještajnom razdoblju tekuće godine
A6: 6 | B6: PRIHODI POSLOVANJA (šifre 631+632+638+639+671) | C6: 6 | D6: =+D7+D14+D19+D30+D35 -> 0 | E6: =+E7+E14+E19+E30+E35 -> 0
A7: 631 | B7: Pomoći od inozemnih vlada (šifre 6311+6312) | C7: 631 | D7: =D8+D11 -> 0 | E7: =E8+E11 -> 0
A8: 6311 | B8: Tekuće pomoći od inozemnih vlada (šifre 63111+63112) | C8: 6311 | D8: =SUM(D9:D10) -> 0 | E8: =SUM(E9:E10) -> 0
A9: 63111 | B9: Tekuće pomoći od inozemnih vlada u EU | C9: 63111
A10: 63112 | B10: Tekuće pomoći od inozemnih vlada izvan EU | C10: 63112
A11: 6312 | B11: Kapitalne pomoći od inozemnih vlada (šifre 63121+63122) | C11: 6312 | D11: =SUM(D12:D13) -> 0 | E11: =SUM(E12:E13) -> 0
A12: 63121 | B12: Kapitalne pomoći od inozemnih vlada u EU | C12: 63121
A13: 63122 | B13: Kapitalne pomoći od inozemnih vlada izvan EU | C13: 63122
A14: 632 | B14: Pomoći od međunarodnih organizacija te institucija i tijela EU (šifre 6321 do 6324) | C14: 632 | D14: =SUM(D15:D18) -> 0 | E14: =SUM(E15:E18) -> 0
A15: 6321 | B15: Tekuće pomoći od međunarodnih organizacija | C15: 6321
A16: 6322 | B16: Kapitalne pomoći od međunarodnih organizacija | C16: 6322
A17: 6323 | B17: Tekuće pomoći od institucija i tijela EU | C17: 6323
A18: 6324 | B18: Kapitalne pomoći od institucija i tijela EU | C18: 6324
A19: 638 | B19: Pomoći temeljem prijenosa EU sredstava (šifre 6381+6382) | C19: 638 | D19: =D20+D25 -> 0 | E19: =E20+E25 -> 0
A20: 6381 | B20: Tekuće pomoći temeljem prijenosa EU sredstava (šifre 63811 do 63814) | C20: 6381 | D20: =SUM(D21:D24) -> 0 | E20: =SUM(E21:E24) -> 0
A21: 63811 | B21: Tekuće pomoći iz državnog proračuna temeljem prijenosa EU sredstava | C21: 63811
A22: 63812 | B22: Tekuće pomoći iz proračuna JLP(R)S temeljem prijenosa EU sredstava | C22: 63812
A23: 63813 | B23: Tekuće pomoći od proračunskog korisnika drugog proračuna temeljem prijenosa EU sredstava | C23: 63813
A24: 63814 | B24: Tekuće pomoći od izvaproračunskog korisnika temeljem prijenosa EU sredstava | C24: 63814
A25: 6382 | B25: Kapitalne pomoći temeljem prijenosa EU sredstava (šifre 63821 do 63824) | C25: 6382 | D25: =SUM(D26:D29) -> 0 | E25: =SUM(E26:E29) -> 0
A26: 63821 | B26: Kapitalne pomoći iz državnog proračuna temeljem prijenosa EU sredstava | C26: 63821
A27: 63822 | B27: Kapitalne pomoći iz proračuna JLP(R)S temeljem prijenosa EU sredstava | C27: 63822
A28: 63823 | B28: Kapitalne pomoći od proračunskog korisnika drugog proračuna temeljem prijenosa EU sredstava | C28: 63823
A29: 63824 | B29: Kapitalne pomoći od izvaproračunskog korisnika temeljem prijenosa EU sredstava | C29: 63824
A30: 639 | B30: Prijenosi između proračunskih korisnika istog proračuna (šifre 6391 do 6394) | C30: 639 | D30: =SUM(D31:D34) -> 0 | E30: =SUM(E31:E34) -> 0
A31: 6391 | B31: Tekući prijenosi između proračunskih korisnika istog proračuna | C31: 6391
A32: 6392 | B32: Kapitalni prijenosi između proračunskih korisnika istog proračuna | C32: 6392
A33: 6393 | B33: Tekući prijenosi između proračunskih korisnika istog proračuna temeljem prijenosa EU sredstava | C33: 6393
A34: 6394 | B34: Kapitalni prijenosi između proračunskih korisnika istog proračuna temeljem prijenosa EU sredstava | C34: 6394
A35: 671 | B35: Prihodi iz nadležnog proračuna za financiranje redovne djelatnosti proračunskih korisnika (šifre 6711 do 6714) | C35: 671 | D35: =SUM(D36:D38) -> 0 | E35: =SUM(E36:E38) -> 0
A36: 6711 | B36: Prihodi iz nadležnog proračuna za financiranje rashoda poslovanja | C36: 6711
A37: 6712 | B37: Prihodi iz nadležnog proračuna za financiranje rashoda za nabavu nefinancijske imovine | C37: 6712
A38: 6714 | B38: Prihodi iz nadležnog proračuna za financiranje izdataka za financijsku imovinu i otplatu zajmova | C38: 6714
A39: 8 | B39: PRIMICI OD FINANCIJSKE IMOVINE I ZADUŽIVANJA (šifra 841) | C39: 8 | D39: =D40 -> 0 | E39: =E40 -> 0
A40: 841 | B40: Primljeni krediti i zajmovi od međunarodnih organizacija, institucija i tijela EU te inozemnih vlada (šifre 8413+8414) | C40: 841 | D40: =SUM(D41:D42) -> 0 | E40: =SUM(E41:E42) -> 0
A41: 8413 | B41: Primljeni zajmovi od međunarodnih organizacija | C41: 8413
A42: 8414 | B42: Primljeni krediti i zajmovi od institucija i tijela EU | C42: 8414
A43: RASHODI I IZDACI | D43: Ostvareno u izvještajnom razdoblju prethodne godine | E43: Ostvareno u izvještajnom razdoblju tekuće godine
A44: 3 | B44: RASHODI POSLOVANJA (šifre 31+32+34+35+36+37+38) | C44: 3 | D44: =D45+D56+D94+D113+D122+D154+D165 -> 0 | E44: =E45+E56+E94+E113+E122+E154+E165 -> 0
A45: 31 | B45: Rashodi za zaposlene (šifre 311+312+313) | C45: 31 | D45: =D46+D51+D52 -> 0 | E45: =E46+E51+E52 -> 0
A46: 311 | B46: Plaće (bruto) (šifre 3111 do 3114) | C46: 311 | D46: =SUM(D47:D50) -> 0 | E46: =SUM(E47:E50) -> 0
A47: 3111 | B47: Plaće za redovan rad | C47: 3111
A48: 3112 | B48: Plaće u naravi | C48: 3112
A49: 3113 | B49: Plaće za prekovremeni rad | C49: 3113
A50: 3114 | B50: Plaće za posebne uvjete rada | C50: 3114
A51: 312 | B51: Ostali rashodi za zaposlene | C51: 312
A52: 313 | B52: Doprinosi na plaće (šifre 3131 do 3133) | C52: 313 | D52: =SUM(D53:D55) -> 0 | E52: =SUM(E53:E55) -> 0
A53: 3131 | B53: Doprinosi za mirovinsko osiguranje za staž s povećanim trajanjem | C53: 3131
A54: 3132 | B54: Doprinosi za obvezno zdravstveno osiguranje | C54: 3132
A55: 3133 | B55: Doprinosi za obvezno osiguranje u slučaju nezaposlenosti | C55: 3133
A56: 32 | B56: Materijalni rashodi (šifre 321+322+323+324+325+329) | C56: 32 | D56: =D57+D62+D70+D80+D81+D86 -> 0 | E56: =E57+E62+E70+E80+E81+E86 -> 0
A57: 321 | B57: Naknade troškova zaposlenima (šifre 3211 do 3214) | C57: 321 | D57: =SUM(D58:D61) -> 0 | E57: =SUM(E58:E61) -> 0
A58: 3211 | B58: Službena putovanja | C58: 3211
A59: 3212 | B59: Naknade za prijevoz, za rad na terenu i odvojeni život | C59: 3212
A60: 3213 | B60: Stručno usavršavanje zaposlenika | C60: 3213
A61: 3214 | B61: Ostale naknade troškova zaposlenima | C61: 3214
A62: 322 | B62: Rashodi za materijal i energiju (šifre 3221 do 3227) | C62: 322 | D62: =SUM(D63:D69) -> 0 | E62: =SUM(E63:E69) -> 0
A63: 3221 | B63: Uredski materijal i ostali materijalni rashodi | C63: 3221
A64: 3222 | B64: Materijal i sirovine | C64: 3222
A65: 3223 | B65: Energija | C65: 3223
A66: 3224 | B66: Materijal i dijelovi za tekuće i investicijsko održavanje | C66: 3224
A67: 3225 | B67: Sitni inventar i autogume | C67: 3225
A68: 3226 | B68: Vojna sredstva za jednokratnu upotrebu | C68: 3226
A69: 3227 | B69: Službena, radna i zaštitna odjeća i obuća | C69: 3227
A70: 323 | B70: Rashodi za usluge (šifre 3231 do 3239) | C70: 323 | D70: =SUM(D71:D79) -> 0 | E70: =SUM(E71:E79) -> 0
A71: 3231 | B71: Usluge telefona, interneta, pošte i prijevoza | C71: 3231
A72: 3232 | B72: Usluge tekućeg i investicijskog održavanja | C72: 3232
A73: 3233 | B73: Usluge promidžbe i informiranja | C73: 3233
A74: 3234 | B74: Komunalne usluge | C74: 3234
A75: 3235 | B75: Zakupnine i najamnine | C75: 3235
A76: 3236 | B76: Zdravstvene i veterinarske usluge | C76: 3236
A77: 3237 | B77: Intelektualne i osobne usluge | C77: 3237
A78: 3238 | B78: Računalne usluge | C78: 3238
A79: 3239 | B79: Ostale usluge | C79: 3239
A80: 324 | B80: Naknade troškova osobama izvan radnog odnosa | C80: 324
A81: 325 | B81: Rashodi lijekova i potrošnog medicinskog materijala kod zdravstvenih ustanova (šifre 3251 do 3254) | C81: 325 | D81: =SUM(D82:D85) -> 0 | E81: =SUM(E82:E85) -> 0
A82: 3251 | B82: Rashodi po osnovi utroška lijekova i potrošnog medicinskog materijala | C82: 3251
A83: 3252 | B83: Rashodi po osnovi otpisa lijekova i potrošnog medicinskog materijala | C83: 3252
A84: 3253 | B84: Rashodi po osnovi donacije lijekova i potrošnog medicinskog materijala | C84: 3253
A85: 3254 | B85: Rashodi po osnovi prodaje lijekova i potrošnog medicinskog materijala | C85: 3254
A86: 329 | B86: Ostali nespomenuti rashodi poslovanja (šifre 3291 do 3299) | C86: 329 | D86: =SUM(D87:D93) -> 0 | E86: =SUM(E87:E93) -> 0
A87: 3291 | B87: Naknade za rad predstavničkih i izvršnih tijela, povjerenstava i slično | C87: 3291
A88: 3292 | B88: Premije osiguranja | C88: 3292
A89: 3293 | B89: Reprezentacija | C89: 3293
A90: 3294 | B90: Članarine i norme | C90: 3294
A91: 3295 | B91: Pristojbe i naknade | C91: 3295
A92: 3296 | B92: Troškovi sudskih postupaka | C92: 3296
A93: 3299 | B93: Ostali nespomenuti rashodi poslovanja | C93: 3299
A94: 34 | B94: Financijski rashodi (šifre 341+342+343) | C94: 34 | D94: =D95+D100+D108 -> 0 | E94: =E95+E100+E108 -> 0
A95: 341 | B95: Kamate za izdane vrijednosne papire (šifre 3411 do 3419) | C95: 341 | D95: =SUM(D96:D99) -> 0 | E95: =SUM(E96:E99) -> 0
A96: 3411 | B96: Kamate za izdane trezorske zapise | C96: 3411
A97: 3412 | B97: Kamate za izdane mjenice | C97: 3412
A98: 3413 | B98: Kamate za izdane obveznice | C98: 3413
A99: 3419 | B99: Kamate za ostale vrijednosne papire | C99: 3419
A100: 342 | B100: Kamate za primljene kredite i zajmove (šifre 3421 do 3428) | C100: 342 | D100: =SUM(D101:D107) -> 0 | E100: =SUM(E101:E107) -> 0
...

Sheet 565
A1: Obveznik: | B1: OPĆINA DONJA MOTIČINA | C1: Razina: | D1: 22 | E1: Razdoblje: | F1: 2026-09
A2: EU IZVJEŠTAJ PO IZVORIMA FINANCIRANJA - 565 EUROPSKI POLJOPRIVREDNI FOND ZA RURALNI RAZVOJ
A3: Račun iz Rač. plana | B3: Opis stavke | C3: Šifra | D3: Izvor financiranja za praćenje EU sredstava
A4: 1 | B4: 2 | C4: 3 | D4: 4 | E4: 5
A5: PRIHODI I PRIMICI | D5: Ostvareno u izvještajnom razdoblju prethodne godine | E5: Ostvareno u izvještajnom razdoblju tekuće godine
A6: 6 | B6: PRIHODI POSLOVANJA (šifre 631+632+638+639+671) | C6: 6 | D6: =+D7+D14+D19+D30+D35 -> 0 | E6: =+E7+E14+E19+E30+E35 -> 0
A7: 631 | B7: Pomoći od inozemnih vlada (šifre 6311+6312) | C7: 631 | D7: =D8+D11 -> 0 | E7: =E8+E11 -> 0
A8: 6311 | B8: Tekuće pomoći od inozemnih vlada (šifre 63111+63112) | C8: 6311 | D8: =SUM(D9:D10) -> 0 | E8: =SUM(E9:E10) -> 0
A9: 63111 | B9: Tekuće pomoći od inozemnih vlada u EU | C9: 63111
A10: 63112 | B10: Tekuće pomoći od inozemnih vlada izvan EU | C10: 63112
A11: 6312 | B11: Kapitalne pomoći od inozemnih vlada (šifre 63121+63122) | C11: 6312 | D11: =SUM(D12:D13) -> 0 | E11: =SUM(E12:E13) -> 0
A12: 63121 | B12: Kapitalne pomoći od inozemnih vlada u EU | C12: 63121
A13: 63122 | B13: Kapitalne pomoći od inozemnih vlada izvan EU | C13: 63122
A14: 632 | B14: Pomoći od međunarodnih organizacija te institucija i tijela EU (šifre 6321 do 6324) | C14: 632 | D14: =SUM(D15:D18) -> 0 | E14: =SUM(E15:E18) -> 0
A15: 6321 | B15: Tekuće pomoći od međunarodnih organizacija | C15: 6321
A16: 6322 | B16: Kapitalne pomoći od međunarodnih organizacija | C16: 6322
A17: 6323 | B17: Tekuće pomoći od institucija i tijela EU | C17: 6323
A18: 6324 | B18: Kapitalne pomoći od institucija i tijela EU | C18: 6324
A19: 638 | B19: Pomoći temeljem prijenosa EU sredstava (šifre 6381+6382) | C19: 638 | D19: =D20+D25 -> 0 | E19: =E20+E25 -> 0
A20: 6381 | B20: Tekuće pomoći temeljem prijenosa EU sredstava (šifre 63811 do 63814) | C20: 6381 | D20: =SUM(D21:D24) -> 0 | E20: =SUM(E21:E24) -> 0
A21: 63811 | B21: Tekuće pomoći iz državnog proračuna temeljem prijenosa EU sredstava | C21: 63811
A22: 63812 | B22: Tekuće pomoći iz proračuna JLP(R)S temeljem prijenosa EU sredstava | C22: 63812
A23: 63813 | B23: Tekuće pomoći od proračunskog korisnika drugog proračuna temeljem prijenosa EU sredstava | C23: 63813
A24: 63814 | B24: Tekuće pomoći od izvaproračunskog korisnika temeljem prijenosa EU sredstava | C24: 63814
A25: 6382 | B25: Kapitalne pomoći temeljem prijenosa EU sredstava (šifre 63821 do 63824) | C25: 6382 | D25: =SUM(D26:D29) -> 0 | E25: =SUM(E26:E29) -> 0
A26: 63821 | B26: Kapitalne pomoći iz državnog proračuna temeljem prijenosa EU sredstava | C26: 63821
A27: 63822 | B27: Kapitalne pomoći iz proračuna JLP(R)S temeljem prijenosa EU sredstava | C27: 63822
A28: 63823 | B28: Kapitalne pomoći od proračunskog korisnika drugog proračuna temeljem prijenosa EU sredstava | C28: 63823
A29: 63824 | B29: Kapitalne pomoći od izvaproračunskog korisnika temeljem prijenosa EU sredstava | C29: 63824
A30: 639 | B30: Prijenosi između proračunskih korisnika istog proračuna (šifre 6391 do 6394) | C30: 639 | D30: =SUM(D31:D34) -> 0 | E30: =SUM(E31:E34) -> 0
A31: 6391 | B31: Tekući prijenosi između proračunskih korisnika istog proračuna | C31: 6391
A32: 6392 | B32: Kapitalni prijenosi između proračunskih korisnika istog proračuna | C32: 6392
A33: 6393 | B33: Tekući prijenosi između proračunskih korisnika istog proračuna temeljem prijenosa EU sredstava | C33: 6393
A34: 6394 | B34: Kapitalni prijenosi između proračunskih korisnika istog proračuna temeljem prijenosa EU sredstava | C34: 6394
A35: 671 | B35: Prihodi iz nadležnog proračuna za financiranje redovne djelatnosti proračunskih korisnika (šifre 6711 do 6714) | C35: 671 | D35: =SUM(D36:D38) -> 0 | E35: =SUM(E36:E38) -> 0
A36: 6711 | B36: Prihodi iz nadležnog proračuna za financiranje rashoda poslovanja | C36: 6711
A37: 6712 | B37: Prihodi iz nadležnog proračuna za financiranje rashoda za nabavu nefinancijske imovine | C37: 6712
A38: 6714 | B38: Prihodi iz nadležnog proračuna za financiranje izdataka za financijsku imovinu i otplatu zajmova | C38: 6714
A39: 8 | B39: PRIMICI OD FINANCIJSKE IMOVINE I ZADUŽIVANJA (šifra 841) | C39: 8 | D39: =D40 -> 0 | E39: =E40 -> 0
A40: 841 | B40: Primljeni krediti i zajmovi od međunarodnih organizacija, institucija i tijela EU te inozemnih vlada (šifre 8413+8414) | C40: 841 | D40: =SUM(D41:D42) -> 0 | E40: =SUM(E41:E42) -> 0
A41: 8413 | B41: Primljeni zajmovi od međunarodnih organizacija | C41: 8413
A42: 8414 | B42: Primljeni krediti i zajmovi od institucija i tijela EU | C42: 8414
A43: RASHODI I IZDACI | D43: Ostvareno u izvještajnom razdoblju prethodne godine | E43: Ostvareno u izvještajnom razdoblju tekuće godine
A44: 3 | B44: RASHODI POSLOVANJA (šifre 31+32+34+35+36+37+38) | C44: 3 | D44: =D45+D56+D94+D113+D122+D154+D165 -> 0 | E44: =E45+E56+E94+E113+E122+E154+E165 -> 0
A45: 31 | B45: Rashodi za zaposlene (šifre 311+312+313) | C45: 31 | D45: =D46+D51+D52 -> 0 | E45: =E46+E51+E52 -> 0
A46: 311 | B46: Plaće (bruto) (šifre 3111 do 3114) | C46: 311 | D46: =SUM(D47:D50) -> 0 | E46: =SUM(E47:E50) -> 0
A47: 3111 | B47: Plaće za redovan rad | C47: 3111
A48: 3112 | B48: Plaće u naravi | C48: 3112
A49: 3113 | B49: Plaće za prekovremeni rad | C49: 3113
A50: 3114 | B50: Plaće za posebne uvjete rada | C50: 3114
A51: 312 | B51: Ostali rashodi za zaposlene | C51: 312
A52: 313 | B52: Doprinosi na plaće (šifre 3131 do 3133) | C52: 313 | D52: =SUM(D53:D55) -> 0 | E52: =SUM(E53:E55) -> 0
A53: 3131 | B53: Doprinosi za mirovinsko osiguranje za staž s povećanim trajanjem | C53: 3131
A54: 3132 | B54: Doprinosi za obvezno zdravstveno osiguranje | C54: 3132
A55: 3133 | B55: Doprinosi za obvezno osiguranje u slučaju nezaposlenosti | C55: 3133
A56: 32 | B56: Materijalni rashodi (šifre 321+322+323+324+325+329) | C56: 32 | D56: =D57+D62+D70+D80+D81+D86 -> 0 | E56: =E57+E62+E70+E80+E81+E86 -> 0
A57: 321 | B57: Naknade troškova zaposlenima (šifre 3211 do 3214) | C57: 321 | D57: =SUM(D58:D61) -> 0 | E57: =SUM(E58:E61) -> 0
A58: 3211 | B58: Službena putovanja | C58: 3211
A59: 3212 | B59: Naknade za prijevoz, za rad na terenu i odvojeni život | C59: 3212
A60: 3213 | B60: Stručno usavršavanje zaposlenika | C60: 3213
A61: 3214 | B61: Ostale naknade troškova zaposlenima | C61: 3214
A62: 322 | B62: Rashodi za materijal i energiju (šifre 3221 do 3227) | C62: 322 | D62: =SUM(D63:D69) -> 0 | E62: =SUM(E63:E69) -> 0
A63: 3221 | B63: Uredski materijal i ostali materijalni rashodi | C63: 3221
A64: 3222 | B64: Materijal i sirovine | C64: 3222
A65: 3223 | B65: Energija | C65: 3223
A66: 3224 | B66: Materijal i dijelovi za tekuće i investicijsko održavanje | C66: 3224
A67: 3225 | B67: Sitni inventar i autogume | C67: 3225
A68: 3226 | B68: Vojna sredstva za jednokratnu upotrebu | C68: 3226
A69: 3227 | B69: Službena, radna i zaštitna odjeća i obuća | C69: 3227
A70: 323 | B70: Rashodi za usluge (šifre 3231 do 3239) | C70: 323 | D70: =SUM(D71:D79) -> 0 | E70: =SUM(E71:E79) -> 0
A71: 3231 | B71: Usluge telefona, interneta, pošte i prijevoza | C71: 3231
A72: 3232 | B72: Usluge tekućeg i investicijskog održavanja | C72: 3232
A73: 3233 | B73: Usluge promidžbe i informiranja | C73: 3233
A74: 3234 | B74: Komunalne usluge | C74: 3234
A75: 3235 | B75: Zakupnine i najamnine | C75: 3235
A76: 3236 | B76: Zdravstvene i veterinarske usluge | C76: 3236
A77: 3237 | B77: Intelektualne i osobne usluge | C77: 3237
A78: 3238 | B78: Računalne usluge | C78: 3238
A79: 3239 | B79: Ostale usluge | C79: 3239
A80: 324 | B80: Naknade troškova osobama izvan radnog odnosa | C80: 324
A81: 325 | B81: Rashodi lijekova i potrošnog medicinskog materijala kod zdravstvenih ustanova (šifre 3251 do 3254) | C81: 325 | D81: =SUM(D82:D85) -> 0 | E81: =SUM(E82:E85) -> 0
A82: 3251 | B82: Rashodi po osnovi utroška lijekova i potrošnog medicinskog materijala | C82: 3251
A83: 3252 | B83: Rashodi po osnovi otpisa lijekova i potrošnog medicinskog materijala | C83: 3252
A84: 3253 | B84: Rashodi po osnovi donacije lijekova i potrošnog medicinskog materijala | C84: 3253
A85: 3254 | B85: Rashodi po osnovi prodaje lijekova i potrošnog medicinskog materijala | C85: 3254
A86: 329 | B86: Ostali nespomenuti rashodi poslovanja (šifre 3291 do 3299) | C86: 329 | D86: =SUM(D87:D93) -> 0 | E86: =SUM(E87:E93) -> 0
A87: 3291 | B87: Naknade za rad predstavničkih i izvršnih tijela, povjerenstava i slično | C87: 3291
A88: 3292 | B88: Premije osiguranja | C88: 3292
A89: 3293 | B89: Reprezentacija | C89: 3293
A90: 3294 | B90: Članarine i norme | C90: 3294
A91: 3295 | B91: Pristojbe i naknade | C91: 3295
A92: 3296 | B92: Troškovi sudskih postupaka | C92: 3296
A93: 3299 | B93: Ostali nespomenuti rashodi poslovanja | C93: 3299
A94: 34 | B94: Financijski rashodi (šifre 341+342+343) | C94: 34 | D94: =D95+D100+D108 -> 0 | E94: =E95+E100+E108 -> 0
A95: 341 | B95: Kamate za izdane vrijednosne papire (šifre 3411 do 3419) | C95: 341 | D95: =SUM(D96:D99) -> 0 | E95: =SUM(E96:E99) -> 0
A96: 3411 | B96: Kamate za izdane trezorske zapise | C96: 3411
A97: 3412 | B97: Kamate za izdane mjenice | C97: 3412
A98: 3413 | B98: Kamate za izdane obveznice | C98: 3413
A99: 3419 | B99: Kamate za ostale vrijednosne papire | C99: 3419
A100: 342 | B100: Kamate za primljene kredite i zajmove (šifre 3421 do 3428) | C100: 342 | D100: =SUM(D101:D107) -> 0 | E100: =SUM(E101:E107) -> 0
...

Sheet 566
A1: Obveznik: | B1: OPĆINA DONJA MOTIČINA | C1: Razina: | D1: 22 | E1: Razdoblje: | F1: 2026-09
A2: EU IZVJEŠTAJ PO IZVORIMA FINANCIRANJA - 566 MODERNIZACIJSKI FOND
A3: Račun iz Rač. plana | B3: Opis stavke | C3: Šifra | D3: Izvor financiranja za praćenje EU sredstava
A4: 1 | B4: 2 | C4: 3 | D4: 4 | E4: 5
A5: PRIHODI I PRIMICI | D5: Ostvareno u izvještajnom razdoblju prethodne godine | E5: Ostvareno u izvještajnom razdoblju tekuće godine
A6: 6 | B6: PRIHODI POSLOVANJA (šifre 631+632+638+639+671) | C6: 6 | D6: =+D7+D14+D19+D30+D35 -> 0 | E6: =+E7+E14+E19+E30+E35 -> 0
A7: 631 | B7: Pomoći od inozemnih vlada (šifre 6311+6312) | C7: 631 | D7: =D8+D11 -> 0 | E7: =E8+E11 -> 0
A8: 6311 | B8: Tekuće pomoći od inozemnih vlada (šifre 63111+63112) | C8: 6311 | D8: =SUM(D9:D10) -> 0 | E8: =SUM(E9:E10) -> 0
A9: 63111 | B9: Tekuće pomoći od inozemnih vlada u EU | C9: 63111
A10: 63112 | B10: Tekuće pomoći od inozemnih vlada izvan EU | C10: 63112
A11: 6312 | B11: Kapitalne pomoći od inozemnih vlada (šifre 63121+63122) | C11: 6312 | D11: =SUM(D12:D13) -> 0 | E11: =SUM(E12:E13) -> 0
A12: 63121 | B12: Kapitalne pomoći od inozemnih vlada u EU | C12: 63121
A13: 63122 | B13: Kapitalne pomoći od inozemnih vlada izvan EU | C13: 63122
A14: 632 | B14: Pomoći od međunarodnih organizacija te institucija i tijela EU (šifre 6321 do 6324) | C14: 632 | D14: =SUM(D15:D18) -> 0 | E14: =SUM(E15:E18) -> 0
A15: 6321 | B15: Tekuće pomoći od međunarodnih organizacija | C15: 6321
A16: 6322 | B16: Kapitalne pomoći od međunarodnih organizacija | C16: 6322
A17: 6323 | B17: Tekuće pomoći od institucija i tijela EU | C17: 6323
A18: 6324 | B18: Kapitalne pomoći od institucija i tijela EU | C18: 6324
A19: 638 | B19: Pomoći temeljem prijenosa EU sredstava (šifre 6381+6382) | C19: 638 | D19: =D20+D25 -> 0 | E19: =E20+E25 -> 0
A20: 6381 | B20: Tekuće pomoći temeljem prijenosa EU sredstava (šifre 63811 do 63814) | C20: 6381 | D20: =SUM(D21:D24) -> 0 | E20: =SUM(E21:E24) -> 0
A21: 63811 | B21: Tekuće pomoći iz državnog proračuna temeljem prijenosa EU sredstava | C21: 63811
A22: 63812 | B22: Tekuće pomoći iz proračuna JLP(R)S temeljem prijenosa EU sredstava | C22: 63812
A23: 63813 | B23: Tekuće pomoći od proračunskog korisnika drugog proračuna temeljem prijenosa EU sredstava | C23: 63813
A24: 63814 | B24: Tekuće pomoći od izvaproračunskog korisnika temeljem prijenosa EU sredstava | C24: 63814
A25: 6382 | B25: Kapitalne pomoći temeljem prijenosa EU sredstava (šifre 63821 do 63824) | C25: 6382 | D25: =SUM(D26:D29) -> 0 | E25: =SUM(E26:E29) -> 0
A26: 63821 | B26: Kapitalne pomoći iz državnog proračuna temeljem prijenosa EU sredstava | C26: 63821
A27: 63822 | B27: Kapitalne pomoći iz proračuna JLP(R)S temeljem prijenosa EU sredstava | C27: 63822
A28: 63823 | B28: Kapitalne pomoći od proračunskog korisnika drugog proračuna temeljem prijenosa EU sredstava | C28: 63823
A29: 63824 | B29: Kapitalne pomoći od izvaproračunskog korisnika temeljem prijenosa EU sredstava | C29: 63824
A30: 639 | B30: Prijenosi između proračunskih korisnika istog proračuna (šifre 6391 do 6394) | C30: 639 | D30: =SUM(D31:D34) -> 0 | E30: =SUM(E31:E34) -> 0
A31: 6391 | B31: Tekući prijenosi između proračunskih korisnika istog proračuna | C31: 6391
A32: 6392 | B32: Kapitalni prijenosi između proračunskih korisnika istog proračuna | C32: 6392
A33: 6393 | B33: Tekući prijenosi između proračunskih korisnika istog proračuna temeljem prijenosa EU sredstava | C33: 6393
A34: 6394 | B34: Kapitalni prijenosi između proračunskih korisnika istog proračuna temeljem prijenosa EU sredstava | C34: 6394
A35: 671 | B35: Prihodi iz nadležnog proračuna za financiranje redovne djelatnosti proračunskih korisnika (šifre 6711 do 6714) | C35: 671 | D35: =SUM(D36:D38) -> 0 | E35: =SUM(E36:E38) -> 0
A36: 6711 | B36: Prihodi iz nadležnog proračuna za financiranje rashoda poslovanja | C36: 6711
A37: 6712 | B37: Prihodi iz nadležnog proračuna za financiranje rashoda za nabavu nefinancijske imovine | C37: 6712
A38: 6714 | B38: Prihodi iz nadležnog proračuna za financiranje izdataka za financijsku imovinu i otplatu zajmova | C38: 6714
A39: 8 | B39: PRIMICI OD FINANCIJSKE IMOVINE I ZADUŽIVANJA (šifra 841) | C39: 8 | D39: =D40 -> 0 | E39: =E40 -> 0
A40: 841 | B40: Primljeni krediti i zajmovi od međunarodnih organizacija, institucija i tijela EU te inozemnih vlada (šifre 8413+8414) | C40: 841 | D40: =SUM(D41:D42) -> 0 | E40: =SUM(E41:E42) -> 0
A41: 8413 | B41: Primljeni zajmovi od međunarodnih organizacija | C41: 8413
A42: 8414 | B42: Primljeni krediti i zajmovi od institucija i tijela EU | C42: 8414
A43: RASHODI I IZDACI | D43: Ostvareno u izvještajnom razdoblju prethodne godine | E43: Ostvareno u izvještajnom razdoblju tekuće godine
A44: 3 | B44: RASHODI POSLOVANJA (šifre 31+32+34+35+36+37+38) | C44: 3 | D44: =D45+D56+D94+D113+D122+D154+D165 -> 0 | E44: =E45+E56+E94+E113+E122+E154+E165 -> 0
A45: 31 | B45: Rashodi za zaposlene (šifre 311+312+313) | C45: 31 | D45: =D46+D51+D52 -> 0 | E45: =E46+E51+E52 -> 0
A46: 311 | B46: Plaće (bruto) (šifre 3111 do 3114) | C46: 311 | D46: =SUM(D47:D50) -> 0 | E46: =SUM(E47:E50) -> 0
A47: 3111 | B47: Plaće za redovan rad | C47: 3111
A48: 3112 | B48: Plaće u naravi | C48: 3112
A49: 3113 | B49: Plaće za prekovremeni rad | C49: 3113
A50: 3114 | B50: Plaće za posebne uvjete rada | C50: 3114
A51: 312 | B51: Ostali rashodi za zaposlene | C51: 312
A52: 313 | B52: Doprinosi na plaće (šifre 3131 do 3133) | C52: 313 | D52: =SUM(D53:D55) -> 0 | E52: =SUM(E53:E55) -> 0
A53: 3131 | B53: Doprinosi za mirovinsko osiguranje za staž s povećanim trajanjem | C53: 3131
A54: 3132 | B54: Doprinosi za obvezno zdravstveno osiguranje | C54: 3132
A55: 3133 | B55: Doprinosi za obvezno osiguranje u slučaju nezaposlenosti | C55: 3133
A56: 32 | B56: Materijalni rashodi (šifre 321+322+323+324+325+329) | C56: 32 | D56: =D57+D62+D70+D80+D81+D86 -> 0 | E56: =E57+E62+E70+E80+E81+E86 -> 0
A57: 321 | B57: Naknade troškova zaposlenima (šifre 3211 do 3214) | C57: 321 | D57: =SUM(D58:D61) -> 0 | E57: =SUM(E58:E61) -> 0
A58: 3211 | B58: Službena putovanja | C58: 3211
A59: 3212 | B59: Naknade za prijevoz, za rad na terenu i odvojeni život | C59: 3212
A60: 3213 | B60: Stručno usavršavanje zaposlenika | C60: 3213
A61: 3214 | B61: Ostale naknade troškova zaposlenima | C61: 3214
A62: 322 | B62: Rashodi za materijal i energiju (šifre 3221 do 3227) | C62: 322 | D62: =SUM(D63:D69) -> 0 | E62: =SUM(E63:E69) -> 0
A63: 3221 | B63: Uredski materijal i ostali materijalni rashodi | C63: 3221
A64: 3222 | B64: Materijal i sirovine | C64: 3222
A65: 3223 | B65: Energija | C65: 3223
A66: 3224 | B66: Materijal i dijelovi za tekuće i investicijsko održavanje | C66: 3224
A67: 3225 | B67: Sitni inventar i autogume | C67: 3225
A68: 3226 | B68: Vojna sredstva za jednokratnu upotrebu | C68: 3226
A69: 3227 | B69: Službena, radna i zaštitna odjeća i obuća | C69: 3227
A70: 323 | B70: Rashodi za usluge (šifre 3231 do 3239) | C70: 323 | D70: =SUM(D71:D79) -> 0 | E70: =SUM(E71:E79) -> 0
A71: 3231 | B71: Usluge telefona, interneta, pošte i prijevoza | C71: 3231
A72: 3232 | B72: Usluge tekućeg i investicijskog održavanja | C72: 3232
A73: 3233 | B73: Usluge promidžbe i informiranja | C73: 3233
A74: 3234 | B74: Komunalne usluge | C74: 3234
A75: 3235 | B75: Zakupnine i najamnine | C75: 3235
A76: 3236 | B76: Zdravstvene i veterinarske usluge | C76: 3236
A77: 3237 | B77: Intelektualne i osobne usluge | C77: 3237
A78: 3238 | B78: Računalne usluge | C78: 3238
A79: 3239 | B79: Ostale usluge | C79: 3239
A80: 324 | B80: Naknade troškova osobama izvan radnog odnosa | C80: 324
A81: 325 | B81: Rashodi lijekova i potrošnog medicinskog materijala kod zdravstvenih ustanova (šifre 3251 do 3254) | C81: 325 | D81: =SUM(D82:D85) -> 0 | E81: =SUM(E82:E85) -> 0
A82: 3251 | B82: Rashodi po osnovi utroška lijekova i potrošnog medicinskog materijala | C82: 3251
A83: 3252 | B83: Rashodi po osnovi otpisa lijekova i potrošnog medicinskog materijala | C83: 3252
A84: 3253 | B84: Rashodi po osnovi donacije lijekova i potrošnog medicinskog materijala | C84: 3253
A85: 3254 | B85: Rashodi po osnovi prodaje lijekova i potrošnog medicinskog materijala | C85: 3254
A86: 329 | B86: Ostali nespomenuti rashodi poslovanja (šifre 3291 do 3299) | C86: 329 | D86: =SUM(D87:D93) -> 0 | E86: =SUM(E87:E93) -> 0
A87: 3291 | B87: Naknade za rad predstavničkih i izvršnih tijela, povjerenstava i slično | C87: 3291
A88: 3292 | B88: Premije osiguranja | C88: 3292
A89: 3293 | B89: Reprezentacija | C89: 3293
A90: 3294 | B90: Članarine i norme | C90: 3294
A91: 3295 | B91: Pristojbe i naknade | C91: 3295
A92: 3296 | B92: Troškovi sudskih postupaka | C92: 3296
A93: 3299 | B93: Ostali nespomenuti rashodi poslovanja | C93: 3299
A94: 34 | B94: Financijski rashodi (šifre 341+342+343) | C94: 34 | D94: =D95+D100+D108 -> 0 | E94: =E95+E100+E108 -> 0
A95: 341 | B95: Kamate za izdane vrijednosne papire (šifre 3411 do 3419) | C95: 341 | D95: =SUM(D96:D99) -> 0 | E95: =SUM(E96:E99) -> 0
A96: 3411 | B96: Kamate za izdane trezorske zapise | C96: 3411
A97: 3412 | B97: Kamate za izdane mjenice | C97: 3412
A98: 3413 | B98: Kamate za izdane obveznice | C98: 3413
A99: 3419 | B99: Kamate za ostale vrijednosne papire | C99: 3419
A100: 342 | B100: Kamate za primljene kredite i zajmove (šifre 3421 do 3428) | C100: 342 | D100: =SUM(D101:D107) -> 0 | E100: =SUM(E101:E107) -> 0
...

Sheet 567
A1: Obveznik: | B1: OPĆINA DONJA MOTIČINA | C1: Razina: | D1: 22 | E1: Razdoblje: | F1: 2026-09
A2: EU IZVJEŠTAJ PO IZVORIMA FINANCIRANJA - 567 SOCIJALNI FOND ZA KLIMATSKU POLITIKU
A3: Račun iz Rač. plana | B3: Opis stavke | C3: Šifra | D3: Izvor financiranja za praćenje EU sredstava
A4: 1 | B4: 2 | C4: 3 | D4: 4 | E4: 5
A5: PRIHODI I PRIMICI | D5: Ostvareno u izvještajnom razdoblju prethodne godine | E5: Ostvareno u izvještajnom razdoblju tekuće godine
A6: 6 | B6: PRIHODI POSLOVANJA (šifre 631+632+638+639+671) | C6: 6 | D6: =+D7+D14+D19+D30+D35 -> 0 | E6: =+E7+E14+E19+E30+E35 -> 0
A7: 631 | B7: Pomoći od inozemnih vlada (šifre 6311+6312) | C7: 631 | D7: =D8+D11 -> 0 | E7: =E8+E11 -> 0
A8: 6311 | B8: Tekuće pomoći od inozemnih vlada (šifre 63111+63112) | C8: 6311 | D8: =SUM(D9:D10) -> 0 | E8: =SUM(E9:E10) -> 0
A9: 63111 | B9: Tekuće pomoći od inozemnih vlada u EU | C9: 63111
A10: 63112 | B10: Tekuće pomoći od inozemnih vlada izvan EU | C10: 63112
A11: 6312 | B11: Kapitalne pomoći od inozemnih vlada (šifre 63121+63122) | C11: 6312 | D11: =SUM(D12:D13) -> 0 | E11: =SUM(E12:E13) -> 0
A12: 63121 | B12: Kapitalne pomoći od inozemnih vlada u EU | C12: 63121
A13: 63122 | B13: Kapitalne pomoći od inozemnih vlada izvan EU | C13: 63122
A14: 632 | B14: Pomoći od međunarodnih organizacija te institucija i tijela EU (šifre 6321 do 6324) | C14: 632 | D14: =SUM(D15:D18) -> 0 | E14: =SUM(E15:E18) -> 0
A15: 6321 | B15: Tekuće pomoći od međunarodnih organizacija | C15: 6321
A16: 6322 | B16: Kapitalne pomoći od međunarodnih organizacija | C16: 6322
A17: 6323 | B17: Tekuće pomoći od institucija i tijela EU | C17: 6323
A18: 6324 | B18: Kapitalne pomoći od institucija i tijela EU | C18: 6324
A19: 638 | B19: Pomoći temeljem prijenosa EU sredstava (šifre 6381+6382) | C19: 638 | D19: =D20+D25 -> 0 | E19: =E20+E25 -> 0
A20: 6381 | B20: Tekuće pomoći temeljem prijenosa EU sredstava (šifre 63811 do 63814) | C20: 6381 | D20: =SUM(D21:D24) -> 0 | E20: =SUM(E21:E24) -> 0
A21: 63811 | B21: Tekuće pomoći iz državnog proračuna temeljem prijenosa EU sredstava | C21: 63811
A22: 63812 | B22: Tekuće pomoći iz proračuna JLP(R)S temeljem prijenosa EU sredstava | C22: 63812
A23: 63813 | B23: Tekuće pomoći od proračunskog korisnika drugog proračuna temeljem prijenosa EU sredstava | C23: 63813
A24: 63814 | B24: Tekuće pomoći od izvaproračunskog korisnika temeljem prijenosa EU sredstava | C24: 63814
A25: 6382 | B25: Kapitalne pomoći temeljem prijenosa EU sredstava (šifre 63821 do 63824) | C25: 6382 | D25: =SUM(D26:D29) -> 0 | E25: =SUM(E26:E29) -> 0
A26: 63821 | B26: Kapitalne pomoći iz državnog proračuna temeljem prijenosa EU sredstava | C26: 63821
A27: 63822 | B27: Kapitalne pomoći iz proračuna JLP(R)S temeljem prijenosa EU sredstava | C27: 63822
A28: 63823 | B28: Kapitalne pomoći od proračunskog korisnika drugog proračuna temeljem prijenosa EU sredstava | C28: 63823
A29: 63824 | B29: Kapitalne pomoći od izvaproračunskog korisnika temeljem prijenosa EU sredstava | C29: 63824
A30: 639 | B30: Prijenosi između proračunskih korisnika istog proračuna (šifre 6391 do 6394) | C30: 639 | D30: =SUM(D31:D34) -> 0 | E30: =SUM(E31:E34) -> 0
A31: 6391 | B31: Tekući prijenosi između proračunskih korisnika istog proračuna | C31: 6391
A32: 6392 | B32: Kapitalni prijenosi između proračunskih korisnika istog proračuna | C32: 6392
A33: 6393 | B33: Tekući prijenosi između proračunskih korisnika istog proračuna temeljem prijenosa EU sredstava | C33: 6393
A34: 6394 | B34: Kapitalni prijenosi između proračunskih korisnika istog proračuna temeljem prijenosa EU sredstava | C34: 6394
A35: 671 | B35: Prihodi iz nadležnog proračuna za financiranje redovne djelatnosti proračunskih korisnika (šifre 6711 do 6714) | C35: 671 | D35: =SUM(D36:D38) -> 0 | E35: =SUM(E36:E38) -> 0
A36: 6711 | B36: Prihodi iz nadležnog proračuna za financiranje rashoda poslovanja | C36: 6711
A37: 6712 | B37: Prihodi iz nadležnog proračuna za financiranje rashoda za nabavu nefinancijske imovine | C37: 6712
A38: 6714 | B38: Prihodi iz nadležnog proračuna za financiranje izdataka za financijsku imovinu i otplatu zajmova | C38: 6714
A39: 8 | B39: PRIMICI OD FINANCIJSKE IMOVINE I ZADUŽIVANJA (šifra 841) | C39: 8 | D39: =D40 -> 0 | E39: =E40 -> 0
A40: 841 | B40: Primljeni krediti i zajmovi od međunarodnih organizacija, institucija i tijela EU te inozemnih vlada (šifre 8413+8414) | C40: 841 | D40: =SUM(D41:D42) -> 0 | E40: =SUM(E41:E42) -> 0
A41: 8413 | B41: Primljeni zajmovi od međunarodnih organizacija | C41: 8413
A42: 8414 | B42: Primljeni krediti i zajmovi od institucija i tijela EU | C42: 8414
A43: RASHODI I IZDACI | D43: Ostvareno u izvještajnom razdoblju prethodne godine | E43: Ostvareno u izvještajnom razdoblju tekuće godine
A44: 3 | B44: RASHODI POSLOVANJA (šifre 31+32+34+35+36+37+38) | C44: 3 | D44: =D45+D56+D94+D113+D122+D154+D165 -> 0 | E44: =E45+E56+E94+E113+E122+E154+E165 -> 0
A45: 31 | B45: Rashodi za zaposlene (šifre 311+312+313) | C45: 31 | D45: =D46+D51+D52 -> 0 | E45: =E46+E51+E52 -> 0
A46: 311 | B46: Plaće (bruto) (šifre 3111 do 3114) | C46: 311 | D46: =SUM(D47:D50) -> 0 | E46: =SUM(E47:E50) -> 0
A47: 3111 | B47: Plaće za redovan rad | C47: 3111
A48: 3112 | B48: Plaće u naravi | C48: 3112
A49: 3113 | B49: Plaće za prekovremeni rad | C49: 3113
A50: 3114 | B50: Plaće za posebne uvjete rada | C50: 3114
A51: 312 | B51: Ostali rashodi za zaposlene | C51: 312
A52: 313 | B52: Doprinosi na plaće (šifre 3131 do 3133) | C52: 313 | D52: =SUM(D53:D55) -> 0 | E52: =SUM(E53:E55) -> 0
A53: 3131 | B53: Doprinosi za mirovinsko osiguranje za staž s povećanim trajanjem | C53: 3131
A54: 3132 | B54: Doprinosi za obvezno zdravstveno osiguranje | C54: 3132
A55: 3133 | B55: Doprinosi za obvezno osiguranje u slučaju nezaposlenosti | C55: 3133
A56: 32 | B56: Materijalni rashodi (šifre 321+322+323+324+325+329) | C56: 32 | D56: =D57+D62+D70+D80+D81+D86 -> 0 | E56: =E57+E62+E70+E80+E81+E86 -> 0
A57: 321 | B57: Naknade troškova zaposlenima (šifre 3211 do 3214) | C57: 321 | D57: =SUM(D58:D61) -> 0 | E57: =SUM(E58:E61) -> 0
A58: 3211 | B58: Službena putovanja | C58: 3211
A59: 3212 | B59: Naknade za prijevoz, za rad na terenu i odvojeni život | C59: 3212
A60: 3213 | B60: Stručno usavršavanje zaposlenika | C60: 3213
A61: 3214 | B61: Ostale naknade troškova zaposlenima | C61: 3214
A62: 322 | B62: Rashodi za materijal i energiju (šifre 3221 do 3227) | C62: 322 | D62: =SUM(D63:D69) -> 0 | E62: =SUM(E63:E69) -> 0
A63: 3221 | B63: Uredski materijal i ostali materijalni rashodi | C63: 3221
A64: 3222 | B64: Materijal i sirovine | C64: 3222
A65: 3223 | B65: Energija | C65: 3223
A66: 3224 | B66: Materijal i dijelovi za tekuće i investicijsko održavanje | C66: 3224
A67: 3225 | B67: Sitni inventar i autogume | C67: 3225
A68: 3226 | B68: Vojna sredstva za jednokratnu upotrebu | C68: 3226
A69: 3227 | B69: Službena, radna i zaštitna odjeća i obuća | C69: 3227
A70: 323 | B70: Rashodi za usluge (šifre 3231 do 3239) | C70: 323 | D70: =SUM(D71:D79) -> 0 | E70: =SUM(E71:E79) -> 0
A71: 3231 | B71: Usluge telefona, interneta, pošte i prijevoza | C71: 3231
A72: 3232 | B72: Usluge tekućeg i investicijskog održavanja | C72: 3232
A73: 3233 | B73: Usluge promidžbe i informiranja | C73: 3233
A74: 3234 | B74: Komunalne usluge | C74: 3234
A75: 3235 | B75: Zakupnine i najamnine | C75: 3235
A76: 3236 | B76: Zdravstvene i veterinarske usluge | C76: 3236
A77: 3237 | B77: Intelektualne i osobne usluge | C77: 3237
A78: 3238 | B78: Računalne usluge | C78: 3238
A79: 3239 | B79: Ostale usluge | C79: 3239
A80: 324 | B80: Naknade troškova osobama izvan radnog odnosa | C80: 324
A81: 325 | B81: Rashodi lijekova i potrošnog medicinskog materijala kod zdravstvenih ustanova (šifre 3251 do 3254) | C81: 325 | D81: =SUM(D82:D85) -> 0 | E81: =SUM(E82:E85) -> 0
A82: 3251 | B82: Rashodi po osnovi utroška lijekova i potrošnog medicinskog materijala | C82: 3251
A83: 3252 | B83: Rashodi po osnovi otpisa lijekova i potrošnog medicinskog materijala | C83: 3252
A84: 3253 | B84: Rashodi po osnovi donacije lijekova i potrošnog medicinskog materijala | C84: 3253
A85: 3254 | B85: Rashodi po osnovi prodaje lijekova i potrošnog medicinskog materijala | C85: 3254
A86: 329 | B86: Ostali nespomenuti rashodi poslovanja (šifre 3291 do 3299) | C86: 329 | D86: =SUM(D87:D93) -> 0 | E86: =SUM(E87:E93) -> 0
A87: 3291 | B87: Naknade za rad predstavničkih i izvršnih tijela, povjerenstava i slično | C87: 3291
A88: 3292 | B88: Premije osiguranja | C88: 3292
A89: 3293 | B89: Reprezentacija | C89: 3293
A90: 3294 | B90: Članarine i norme | C90: 3294
A91: 3295 | B91: Pristojbe i naknade | C91: 3295
A92: 3296 | B92: Troškovi sudskih postupaka | C92: 3296
A93: 3299 | B93: Ostali nespomenuti rashodi poslovanja | C93: 3299
A94: 34 | B94: Financijski rashodi (šifre 341+342+343) | C94: 34 | D94: =D95+D100+D108 -> 0 | E94: =E95+E100+E108 -> 0
A95: 341 | B95: Kamate za izdane vrijednosne papire (šifre 3411 do 3419) | C95: 341 | D95: =SUM(D96:D99) -> 0 | E95: =SUM(E96:E99) -> 0
A96: 3411 | B96: Kamate za izdane trezorske zapise | C96: 3411
A97: 3412 | B97: Kamate za izdane mjenice | C97: 3412
A98: 3413 | B98: Kamate za izdane obveznice | C98: 3413
A99: 3419 | B99: Kamate za ostale vrijednosne papire | C99: 3419
A100: 342 | B100: Kamate za primljene kredite i zajmove (šifre 3421 do 3428) | C100: 342 | D100: =SUM(D101:D107) -> 0 | E100: =SUM(E101:E107) -> 0
...

Sheet 575
A1: Obveznik: | B1: OPĆINA DONJA MOTIČINA | C1: Razina: | D1: 22 | E1: Razdoblje: | F1: 2026-09
A2: EU IZVJEŠTAJ PO IZVORIMA FINANCIRANJA - 575 FOND ZA AZIL, MIGRACIJE I INTEGRACIJU
A3: Račun iz Rač. plana | B3: Opis stavke | C3: Šifra | D3: Izvor financiranja za praćenje EU sredstava
A4: 1 | B4: 2 | C4: 3 | D4: 4 | E4: 5
A5: PRIHODI I PRIMICI | D5: Ostvareno u izvještajnom razdoblju prethodne godine | E5: Ostvareno u izvještajnom razdoblju tekuće godine
A6: 6 | B6: PRIHODI POSLOVANJA (šifre 631+632+638+639+671) | C6: 6 | D6: =+D7+D14+D19+D30+D35 -> 0 | E6: =+E7+E14+E19+E30+E35 -> 0
A7: 631 | B7: Pomoći od inozemnih vlada (šifre 6311+6312) | C7: 631 | D7: =D8+D11 -> 0 | E7: =E8+E11 -> 0
A8: 6311 | B8: Tekuće pomoći od inozemnih vlada (šifre 63111+63112) | C8: 6311 | D8: =SUM(D9:D10) -> 0 | E8: =SUM(E9:E10) -> 0
A9: 63111 | B9: Tekuće pomoći od inozemnih vlada u EU | C9: 63111
A10: 63112 | B10: Tekuće pomoći od inozemnih vlada izvan EU | C10: 63112
A11: 6312 | B11: Kapitalne pomoći od inozemnih vlada (šifre 63121+63122) | C11: 6312 | D11: =SUM(D12:D13) -> 0 | E11: =SUM(E12:E13) -> 0
A12: 63121 | B12: Kapitalne pomoći od inozemnih vlada u EU | C12: 63121
A13: 63122 | B13: Kapitalne pomoći od inozemnih vlada izvan EU | C13: 63122
A14: 632 | B14: Pomoći od međunarodnih organizacija te institucija i tijela EU (šifre 6321 do 6324) | C14: 632 | D14: =SUM(D15:D18) -> 0 | E14: =SUM(E15:E18) -> 0
A15: 6321 | B15: Tekuće pomoći od međunarodnih organizacija | C15: 6321
A16: 6322 | B16: Kapitalne pomoći od međunarodnih organizacija | C16: 6322
A17: 6323 | B17: Tekuće pomoći od institucija i tijela EU | C17: 6323
A18: 6324 | B18: Kapitalne pomoći od institucija i tijela EU | C18: 6324
A19: 638 | B19: Pomoći temeljem prijenosa EU sredstava (šifre 6381+6382) | C19: 638 | D19: =D20+D25 -> 0 | E19: =E20+E25 -> 0
A20: 6381 | B20: Tekuće pomoći temeljem prijenosa EU sredstava (šifre 63811 do 63814) | C20: 6381 | D20: =SUM(D21:D24) -> 0 | E20: =SUM(E21:E24) -> 0
A21: 63811 | B21: Tekuće pomoći iz državnog proračuna temeljem prijenosa EU sredstava | C21: 63811
A22: 63812 | B22: Tekuće pomoći iz proračuna JLP(R)S temeljem prijenosa EU sredstava | C22: 63812
A23: 63813 | B23: Tekuće pomoći od proračunskog korisnika drugog proračuna temeljem prijenosa EU sredstava | C23: 63813
A24: 63814 | B24: Tekuće pomoći od izvaproračunskog korisnika temeljem prijenosa EU sredstava | C24: 63814
A25: 6382 | B25: Kapitalne pomoći temeljem prijenosa EU sredstava (šifre 63821 do 63824) | C25: 6382 | D25: =SUM(D26:D29) -> 0 | E25: =SUM(E26:E29) -> 0
A26: 63821 | B26: Kapitalne pomoći iz državnog proračuna temeljem prijenosa EU sredstava | C26: 63821
A27: 63822 | B27: Kapitalne pomoći iz proračuna JLP(R)S temeljem prijenosa EU sredstava | C27: 63822
A28: 63823 | B28: Kapitalne pomoći od proračunskog korisnika drugog proračuna temeljem prijenosa EU sredstava | C28: 63823
A29: 63824 | B29: Kapitalne pomoći od izvaproračunskog korisnika temeljem prijenosa EU sredstava | C29: 63824
A30: 639 | B30: Prijenosi između proračunskih korisnika istog proračuna (šifre 6391 do 6394) | C30: 639 | D30: =SUM(D31:D34) -> 0 | E30: =SUM(E31:E34) -> 0
A31: 6391 | B31: Tekući prijenosi između proračunskih korisnika istog proračuna | C31: 6391
A32: 6392 | B32: Kapitalni prijenosi između proračunskih korisnika istog proračuna | C32: 6392
A33: 6393 | B33: Tekući prijenosi između proračunskih korisnika istog proračuna temeljem prijenosa EU sredstava | C33: 6393
A34: 6394 | B34: Kapitalni prijenosi između proračunskih korisnika istog proračuna temeljem prijenosa EU sredstava | C34: 6394
A35: 671 | B35: Prihodi iz nadležnog proračuna za financiranje redovne djelatnosti proračunskih korisnika (šifre 6711 do 6714) | C35: 671 | D35: =SUM(D36:D38) -> 0 | E35: =SUM(E36:E38) -> 0
A36: 6711 | B36: Prihodi iz nadležnog proračuna za financiranje rashoda poslovanja | C36: 6711
A37: 6712 | B37: Prihodi iz nadležnog proračuna za financiranje rashoda za nabavu nefinancijske imovine | C37: 6712
A38: 6714 | B38: Prihodi iz nadležnog proračuna za financiranje izdataka za financijsku imovinu i otplatu zajmova | C38: 6714
A39: 8 | B39: PRIMICI OD FINANCIJSKE IMOVINE I ZADUŽIVANJA (šifra 841) | C39: 8 | D39: =D40 -> 0 | E39: =E40 -> 0
A40: 841 | B40: Primljeni krediti i zajmovi od međunarodnih organizacija, institucija i tijela EU te inozemnih vlada (šifre 8413+8414) | C40: 841 | D40: =SUM(D41:D42) -> 0 | E40: =SUM(E41:E42) -> 0
A41: 8413 | B41: Primljeni zajmovi od međunarodnih organizacija | C41: 8413
A42: 8414 | B42: Primljeni krediti i zajmovi od institucija i tijela EU | C42: 8414
A43: RASHODI I IZDACI | D43: Ostvareno u izvještajnom razdoblju prethodne godine | E43: Ostvareno u izvještajnom razdoblju tekuće godine
A44: 3 | B44: RASHODI POSLOVANJA (šifre 31+32+34+35+36+37+38) | C44: 3 | D44: =D45+D56+D94+D113+D122+D154+D165 -> 0 | E44: =E45+E56+E94+E113+E122+E154+E165 -> 0
A45: 31 | B45: Rashodi za zaposlene (šifre 311+312+313) | C45: 31 | D45: =D46+D51+D52 -> 0 | E45: =E46+E51+E52 -> 0
A46: 311 | B46: Plaće (bruto) (šifre 3111 do 3114) | C46: 311 | D46: =SUM(D47:D50) -> 0 | E46: =SUM(E47:E50) -> 0
A47: 3111 | B47: Plaće za redovan rad | C47: 3111
A48: 3112 | B48: Plaće u naravi | C48: 3112
A49: 3113 | B49: Plaće za prekovremeni rad | C49: 3113
A50: 3114 | B50: Plaće za posebne uvjete rada | C50: 3114
A51: 312 | B51: Ostali rashodi za zaposlene | C51: 312
A52: 313 | B52: Doprinosi na plaće (šifre 3131 do 3133) | C52: 313 | D52: =SUM(D53:D55) -> 0 | E52: =SUM(E53:E55) -> 0
A53: 3131 | B53: Doprinosi za mirovinsko osiguranje za staž s povećanim trajanjem | C53: 3131
A54: 3132 | B54: Doprinosi za obvezno zdravstveno osiguranje | C54: 3132
A55: 3133 | B55: Doprinosi za obvezno osiguranje u slučaju nezaposlenosti | C55: 3133
A56: 32 | B56: Materijalni rashodi (šifre 321+322+323+324+325+329) | C56: 32 | D56: =D57+D62+D70+D80+D81+D86 -> 0 | E56: =E57+E62+E70+E80+E81+E86 -> 0
A57: 321 | B57: Naknade troškova zaposlenima (šifre 3211 do 3214) | C57: 321 | D57: =SUM(D58:D61) -> 0 | E57: =SUM(E58:E61) -> 0
A58: 3211 | B58: Službena putovanja | C58: 3211
A59: 3212 | B59: Naknade za prijevoz, za rad na terenu i odvojeni život | C59: 3212
A60: 3213 | B60: Stručno usavršavanje zaposlenika | C60: 3213
A61: 3214 | B61: Ostale naknade troškova zaposlenima | C61: 3214
A62: 322 | B62: Rashodi za materijal i energiju (šifre 3221 do 3227) | C62: 322 | D62: =SUM(D63:D69) -> 0 | E62: =SUM(E63:E69) -> 0
A63: 3221 | B63: Uredski materijal i ostali materijalni rashodi | C63: 3221
A64: 3222 | B64: Materijal i sirovine | C64: 3222
A65: 3223 | B65: Energija | C65: 3223
A66: 3224 | B66: Materijal i dijelovi za tekuće i investicijsko održavanje | C66: 3224
A67: 3225 | B67: Sitni inventar i autogume | C67: 3225
A68: 3226 | B68: Vojna sredstva za jednokratnu upotrebu | C68: 3226
A69: 3227 | B69: Službena, radna i zaštitna odjeća i obuća | C69: 3227
A70: 323 | B70: Rashodi za usluge (šifre 3231 do 3239) | C70: 323 | D70: =SUM(D71:D79) -> 0 | E70: =SUM(E71:E79) -> 0
A71: 3231 | B71: Usluge telefona, interneta, pošte i prijevoza | C71: 3231
A72: 3232 | B72: Usluge tekućeg i investicijskog održavanja | C72: 3232
A73: 3233 | B73: Usluge promidžbe i informiranja | C73: 3233
A74: 3234 | B74: Komunalne usluge | C74: 3234
A75: 3235 | B75: Zakupnine i najamnine | C75: 3235
A76: 3236 | B76: Zdravstvene i veterinarske usluge | C76: 3236
A77: 3237 | B77: Intelektualne i osobne usluge | C77: 3237
A78: 3238 | B78: Računalne usluge | C78: 3238
A79: 3239 | B79: Ostale usluge | C79: 3239
A80: 324 | B80: Naknade troškova osobama izvan radnog odnosa | C80: 324
A81: 325 | B81: Rashodi lijekova i potrošnog medicinskog materijala kod zdravstvenih ustanova (šifre 3251 do 3254) | C81: 325 | D81: =SUM(D82:D85) -> 0 | E81: =SUM(E82:E85) -> 0
A82: 3251 | B82: Rashodi po osnovi utroška lijekova i potrošnog medicinskog materijala | C82: 3251
A83: 3252 | B83: Rashodi po osnovi otpisa lijekova i potrošnog medicinskog materijala | C83: 3252
A84: 3253 | B84: Rashodi po osnovi donacije lijekova i potrošnog medicinskog materijala | C84: 3253
A85: 3254 | B85: Rashodi po osnovi prodaje lijekova i potrošnog medicinskog materijala | C85: 3254
A86: 329 | B86: Ostali nespomenuti rashodi poslovanja (šifre 3291 do 3299) | C86: 329 | D86: =SUM(D87:D93) -> 0 | E86: =SUM(E87:E93) -> 0
A87: 3291 | B87: Naknade za rad predstavničkih i izvršnih tijela, povjerenstava i slično | C87: 3291
A88: 3292 | B88: Premije osiguranja | C88: 3292
A89: 3293 | B89: Reprezentacija | C89: 3293
A90: 3294 | B90: Članarine i norme | C90: 3294
A91: 3295 | B91: Pristojbe i naknade | C91: 3295
A92: 3296 | B92: Troškovi sudskih postupaka | C92: 3296
A93: 3299 | B93: Ostali nespomenuti rashodi poslovanja | C93: 3299
A94: 34 | B94: Financijski rashodi (šifre 341+342+343) | C94: 34 | D94: =D95+D100+D108 -> 0 | E94: =E95+E100+E108 -> 0
A95: 341 | B95: Kamate za izdane vrijednosne papire (šifre 3411 do 3419) | C95: 341 | D95: =SUM(D96:D99) -> 0 | E95: =SUM(E96:E99) -> 0
A96: 3411 | B96: Kamate za izdane trezorske zapise | C96: 3411
A97: 3412 | B97: Kamate za izdane mjenice | C97: 3412
A98: 3413 | B98: Kamate za izdane obveznice | C98: 3413
A99: 3419 | B99: Kamate za ostale vrijednosne papire | C99: 3419
A100: 342 | B100: Kamate za primljene kredite i zajmove (šifre 3421 do 3428) | C100: 342 | D100: =SUM(D101:D107) -> 0 | E100: =SUM(E101:E107) -> 0
...

Sheet 577
A1: Obveznik: | B1: OPĆINA DONJA MOTIČINA | C1: Razina: | D1: 22 | E1: Razdoblje: | F1: 2026-09
A2: EU IZVJEŠTAJ PO IZVORIMA FINANCIRANJA - 577 FOND ZA PRAVEDNU TRANZICIJU
A3: Račun iz Rač. plana | B3: Opis stavke | C3: Šifra | D3: Izvor financiranja za praćenje EU sredstava
A4: 1 | B4: 2 | C4: 3 | D4: 4 | E4: 5
A5: PRIHODI I PRIMICI | D5: Ostvareno u izvještajnom razdoblju prethodne godine | E5: Ostvareno u izvještajnom razdoblju tekuće godine
A6: 6 | B6: PRIHODI POSLOVANJA (šifre 631+632+638+639+671) | C6: 6 | D6: =+D7+D14+D19+D30+D35 -> 0 | E6: =+E7+E14+E19+E30+E35 -> 0
A7: 631 | B7: Pomoći od inozemnih vlada (šifre 6311+6312) | C7: 631 | D7: =D8+D11 -> 0 | E7: =E8+E11 -> 0
A8: 6311 | B8: Tekuće pomoći od inozemnih vlada (šifre 63111+63112) | C8: 6311 | D8: =SUM(D9:D10) -> 0 | E8: =SUM(E9:E10) -> 0
A9: 63111 | B9: Tekuće pomoći od inozemnih vlada u EU | C9: 63111
A10: 63112 | B10: Tekuće pomoći od inozemnih vlada izvan EU | C10: 63112
A11: 6312 | B11: Kapitalne pomoći od inozemnih vlada (šifre 63121+63122) | C11: 6312 | D11: =SUM(D12:D13) -> 0 | E11: =SUM(E12:E13) -> 0
A12: 63121 | B12: Kapitalne pomoći od inozemnih vlada u EU | C12: 63121
A13: 63122 | B13: Kapitalne pomoći od inozemnih vlada izvan EU | C13: 63122
A14: 632 | B14: Pomoći od međunarodnih organizacija te institucija i tijela EU (šifre 6321 do 6324) | C14: 632 | D14: =SUM(D15:D18) -> 0 | E14: =SUM(E15:E18) -> 0
A15: 6321 | B15: Tekuće pomoći od međunarodnih organizacija | C15: 6321
A16: 6322 | B16: Kapitalne pomoći od međunarodnih organizacija | C16: 6322
A17: 6323 | B17: Tekuće pomoći od institucija i tijela EU | C17: 6323
A18: 6324 | B18: Kapitalne pomoći od institucija i tijela EU | C18: 6324
A19: 638 | B19: Pomoći temeljem prijenosa EU sredstava (šifre 6381+6382) | C19: 638 | D19: =D20+D25 -> 0 | E19: =E20+E25 -> 0
A20: 6381 | B20: Tekuće pomoći temeljem prijenosa EU sredstava (šifre 63811 do 63814) | C20: 6381 | D20: =SUM(D21:D24) -> 0 | E20: =SUM(E21:E24) -> 0
A21: 63811 | B21: Tekuće pomoći iz državnog proračuna temeljem prijenosa EU sredstava | C21: 63811
A22: 63812 | B22: Tekuće pomoći iz proračuna JLP(R)S temeljem prijenosa EU sredstava | C22: 63812
A23: 63813 | B23: Tekuće pomoći od proračunskog korisnika drugog proračuna temeljem prijenosa EU sredstava | C23: 63813
A24: 63814 | B24: Tekuće pomoći od izvaproračunskog korisnika temeljem prijenosa EU sredstava | C24: 63814
A25: 6382 | B25: Kapitalne pomoći temeljem prijenosa EU sredstava (šifre 63821 do 63824) | C25: 6382 | D25: =SUM(D26:D29) -> 0 | E25: =SUM(E26:E29) -> 0
A26: 63821 | B26: Kapitalne pomoći iz državnog proračuna temeljem prijenosa EU sredstava | C26: 63821
A27: 63822 | B27: Kapitalne pomoći iz proračuna JLP(R)S temeljem prijenosa EU sredstava | C27: 63822
A28: 63823 | B28: Kapitalne pomoći od proračunskog korisnika drugog proračuna temeljem prijenosa EU sredstava | C28: 63823
A29: 63824 | B29: Kapitalne pomoći od izvaproračunskog korisnika temeljem prijenosa EU sredstava | C29: 63824
A30: 639 | B30: Prijenosi između proračunskih korisnika istog proračuna (šifre 6391 do 6394) | C30: 639 | D30: =SUM(D31:D34) -> 0 | E30: =SUM(E31:E34) -> 0
A31: 6391 | B31: Tekući prijenosi između proračunskih korisnika istog proračuna | C31: 6391
A32: 6392 | B32: Kapitalni prijenosi između proračunskih korisnika istog proračuna | C32: 6392
A33: 6393 | B33: Tekući prijenosi između proračunskih korisnika istog proračuna temeljem prijenosa EU sredstava | C33: 6393
A34: 6394 | B34: Kapitalni prijenosi između proračunskih korisnika istog proračuna temeljem prijenosa EU sredstava | C34: 6394
A35: 671 | B35: Prihodi iz nadležnog proračuna za financiranje redovne djelatnosti proračunskih korisnika (šifre 6711 do 6714) | C35: 671 | D35: =SUM(D36:D38) -> 0 | E35: =SUM(E36:E38) -> 0
A36: 6711 | B36: Prihodi iz nadležnog proračuna za financiranje rashoda poslovanja | C36: 6711
A37: 6712 | B37: Prihodi iz nadležnog proračuna za financiranje rashoda za nabavu nefinancijske imovine | C37: 6712
A38: 6714 | B38: Prihodi iz nadležnog proračuna za financiranje izdataka za financijsku imovinu i otplatu zajmova | C38: 6714
A39: 8 | B39: PRIMICI OD FINANCIJSKE IMOVINE I ZADUŽIVANJA (šifra 841) | C39: 8 | D39: =D40 -> 0 | E39: =E40 -> 0
A40: 841 | B40: Primljeni krediti i zajmovi od međunarodnih organizacija, institucija i tijela EU te inozemnih vlada (šifre 8413+8414) | C40: 841 | D40: =SUM(D41:D42) -> 0 | E40: =SUM(E41:E42) -> 0
A41: 8413 | B41: Primljeni zajmovi od međunarodnih organizacija | C41: 8413
A42: 8414 | B42: Primljeni krediti i zajmovi od institucija i tijela EU | C42: 8414
A43: RASHODI I IZDACI | D43: Ostvareno u izvještajnom razdoblju prethodne godine | E43: Ostvareno u izvještajnom razdoblju tekuće godine
A44: 3 | B44: RASHODI POSLOVANJA (šifre 31+32+34+35+36+37+38) | C44: 3 | D44: =D45+D56+D94+D113+D122+D154+D165 -> 0 | E44: =E45+E56+E94+E113+E122+E154+E165 -> 0
A45: 31 | B45: Rashodi za zaposlene (šifre 311+312+313) | C45: 31 | D45: =D46+D51+D52 -> 0 | E45: =E46+E51+E52 -> 0
A46: 311 | B46: Plaće (bruto) (šifre 3111 do 3114) | C46: 311 | D46: =SUM(D47:D50) -> 0 | E46: =SUM(E47:E50) -> 0
A47: 3111 | B47: Plaće za redovan rad | C47: 3111
A48: 3112 | B48: Plaće u naravi | C48: 3112
A49: 3113 | B49: Plaće za prekovremeni rad | C49: 3113
A50: 3114 | B50: Plaće za posebne uvjete rada | C50: 3114
A51: 312 | B51: Ostali rashodi za zaposlene | C51: 312
A52: 313 | B52: Doprinosi na plaće (šifre 3131 do 3133) | C52: 313 | D52: =SUM(D53:D55) -> 0 | E52: =SUM(E53:E55) -> 0
A53: 3131 | B53: Doprinosi za mirovinsko osiguranje za staž s povećanim trajanjem | C53: 3131
A54: 3132 | B54: Doprinosi za obvezno zdravstveno osiguranje | C54: 3132
A55: 3133 | B55: Doprinosi za obvezno osiguranje u slučaju nezaposlenosti | C55: 3133
A56: 32 | B56: Materijalni rashodi (šifre 321+322+323+324+325+329) | C56: 32 | D56: =D57+D62+D70+D80+D81+D86 -> 0 | E56: =E57+E62+E70+E80+E81+E86 -> 0
A57: 321 | B57: Naknade troškova zaposlenima (šifre 3211 do 3214) | C57: 321 | D57: =SUM(D58:D61) -> 0 | E57: =SUM(E58:E61) -> 0
A58: 3211 | B58: Službena putovanja | C58: 3211
A59: 3212 | B59: Naknade za prijevoz, za rad na terenu i odvojeni život | C59: 3212
A60: 3213 | B60: Stručno usavršavanje zaposlenika | C60: 3213
A61: 3214 | B61: Ostale naknade troškova zaposlenima | C61: 3214
A62: 322 | B62: Rashodi za materijal i energiju (šifre 3221 do 3227) | C62: 322 | D62: =SUM(D63:D69) -> 0 | E62: =SUM(E63:E69) -> 0
A63: 3221 | B63: Uredski materijal i ostali materijalni rashodi | C63: 3221
A64: 3222 | B64: Materijal i sirovine | C64: 3222
A65: 3223 | B65: Energija | C65: 3223
A66: 3224 | B66: Materijal i dijelovi za tekuće i investicijsko održavanje | C66: 3224
A67: 3225 | B67: Sitni inventar i autogume | C67: 3225
A68: 3226 | B68: Vojna sredstva za jednokratnu upotrebu | C68: 3226
A69: 3227 | B69: Službena, radna i zaštitna odjeća i obuća | C69: 3227
A70: 323 | B70: Rashodi za usluge (šifre 3231 do 3239) | C70: 323 | D70: =SUM(D71:D79) -> 0 | E70: =SUM(E71:E79) -> 0
A71: 3231 | B71: Usluge telefona, interneta, pošte i prijevoza | C71: 3231
A72: 3232 | B72: Usluge tekućeg i investicijskog održavanja | C72: 3232
A73: 3233 | B73: Usluge promidžbe i informiranja | C73: 3233
A74: 3234 | B74: Komunalne usluge | C74: 3234
A75: 3235 | B75: Zakupnine i najamnine | C75: 3235
A76: 3236 | B76: Zdravstvene i veterinarske usluge | C76: 3236
A77: 3237 | B77: Intelektualne i osobne usluge | C77: 3237
A78: 3238 | B78: Računalne usluge | C78: 3238
A79: 3239 | B79: Ostale usluge | C79: 3239
A80: 324 | B80: Naknade troškova osobama izvan radnog odnosa | C80: 324
A81: 325 | B81: Rashodi lijekova i potrošnog medicinskog materijala kod zdravstvenih ustanova (šifre 3251 do 3254) | C81: 325 | D81: =SUM(D82:D85) -> 0 | E81: =SUM(E82:E85) -> 0
A82: 3251 | B82: Rashodi po osnovi utroška lijekova i potrošnog medicinskog materijala | C82: 3251
A83: 3252 | B83: Rashodi po osnovi otpisa lijekova i potrošnog medicinskog materijala | C83: 3252
A84: 3253 | B84: Rashodi po osnovi donacije lijekova i potrošnog medicinskog materijala | C84: 3253
A85: 3254 | B85: Rashodi po osnovi prodaje lijekova i potrošnog medicinskog materijala | C85: 3254
A86: 329 | B86: Ostali nespomenuti rashodi poslovanja (šifre 3291 do 3299) | C86: 329 | D86: =SUM(D87:D93) -> 0 | E86: =SUM(E87:E93) -> 0
A87: 3291 | B87: Naknade za rad predstavničkih i izvršnih tijela, povjerenstava i slično | C87: 3291
A88: 3292 | B88: Premije osiguranja | C88: 3292
A89: 3293 | B89: Reprezentacija | C89: 3293
A90: 3294 | B90: Članarine i norme | C90: 3294
A91: 3295 | B91: Pristojbe i naknade | C91: 3295
A92: 3296 | B92: Troškovi sudskih postupaka | C92: 3296
A93: 3299 | B93: Ostali nespomenuti rashodi poslovanja | C93: 3299
A94: 34 | B94: Financijski rashodi (šifre 341+342+343) | C94: 34 | D94: =D95+D100+D108 -> 0 | E94: =E95+E100+E108 -> 0
A95: 341 | B95: Kamate za izdane vrijednosne papire (šifre 3411 do 3419) | C95: 341 | D95: =SUM(D96:D99) -> 0 | E95: =SUM(E96:E99) -> 0
A96: 3411 | B96: Kamate za izdane trezorske zapise | C96: 3411
A97: 3412 | B97: Kamate za izdane mjenice | C97: 3412
A98: 3413 | B98: Kamate za izdane obveznice | C98: 3413
A99: 3419 | B99: Kamate za ostale vrijednosne papire | C99: 3419
A100: 342 | B100: Kamate za primljene kredite i zajmove (šifre 3421 do 3428) | C100: 342 | D100: =SUM(D101:D107) -> 0 | E100: =SUM(E101:E107) -> 0
...

Sheet 578
A1: Obveznik: | B1: OPĆINA DONJA MOTIČINA | C1: Razina: | D1: 22 | E1: Razdoblje: | F1: 2026-09
A2: EU IZVJEŠTAJ PO IZVORIMA FINANCIRANJA - 578 FOND ZA UNUTARNJU SIGURNOST
A3: Račun iz Rač. plana | B3: Opis stavke | C3: Šifra | D3: Izvor financiranja za praćenje EU sredstava
A4: 1 | B4: 2 | C4: 3 | D4: 4 | E4: 5
A5: PRIHODI I PRIMICI | D5: Ostvareno u izvještajnom razdoblju prethodne godine | E5: Ostvareno u izvještajnom razdoblju tekuće godine
A6: 6 | B6: PRIHODI POSLOVANJA (šifre 631+632+638+639+671) | C6: 6 | D6: =+D7+D14+D19+D30+D35 -> 0 | E6: =+E7+E14+E19+E30+E35 -> 0
A7: 631 | B7: Pomoći od inozemnih vlada (šifre 6311+6312) | C7: 631 | D7: =D8+D11 -> 0 | E7: =E8+E11 -> 0
A8: 6311 | B8: Tekuće pomoći od inozemnih vlada (šifre 63111+63112) | C8: 6311 | D8: =SUM(D9:D10) -> 0 | E8: =SUM(E9:E10) -> 0
A9: 63111 | B9: Tekuće pomoći od inozemnih vlada u EU | C9: 63111
A10: 63112 | B10: Tekuće pomoći od inozemnih vlada izvan EU | C10: 63112
A11: 6312 | B11: Kapitalne pomoći od inozemnih vlada (šifre 63121+63122) | C11: 6312 | D11: =SUM(D12:D13) -> 0 | E11: =SUM(E12:E13) -> 0
A12: 63121 | B12: Kapitalne pomoći od inozemnih vlada u EU | C12: 63121
A13: 63122 | B13: Kapitalne pomoći od inozemnih vlada izvan EU | C13: 63122
A14: 632 | B14: Pomoći od međunarodnih organizacija te institucija i tijela EU (šifre 6321 do 6324) | C14: 632 | D14: =SUM(D15:D18) -> 0 | E14: =SUM(E15:E18) -> 0
A15: 6321 | B15: Tekuće pomoći od međunarodnih organizacija | C15: 6321
A16: 6322 | B16: Kapitalne pomoći od međunarodnih organizacija | C16: 6322
A17: 6323 | B17: Tekuće pomoći od institucija i tijela EU | C17: 6323
A18: 6324 | B18: Kapitalne pomoći od institucija i tijela EU | C18: 6324
A19: 638 | B19: Pomoći temeljem prijenosa EU sredstava (šifre 6381+6382) | C19: 638 | D19: =D20+D25 -> 0 | E19: =E20+E25 -> 0
A20: 6381 | B20: Tekuće pomoći temeljem prijenosa EU sredstava (šifre 63811 do 63814) | C20: 6381 | D20: =SUM(D21:D24) -> 0 | E20: =SUM(E21:E24) -> 0
A21: 63811 | B21: Tekuće pomoći iz državnog proračuna temeljem prijenosa EU sredstava | C21: 63811
A22: 63812 | B22: Tekuće pomoći iz proračuna JLP(R)S temeljem prijenosa EU sredstava | C22: 63812
A23: 63813 | B23: Tekuće pomoći od proračunskog korisnika drugog proračuna temeljem prijenosa EU sredstava | C23: 63813
A24: 63814 | B24: Tekuće pomoći od izvaproračunskog korisnika temeljem prijenosa EU sredstava | C24: 63814
A25: 6382 | B25: Kapitalne pomoći temeljem prijenosa EU sredstava (šifre 63821 do 63824) | C25: 6382 | D25: =SUM(D26:D29) -> 0 | E25: =SUM(E26:E29) -> 0
A26: 63821 | B26: Kapitalne pomoći iz državnog proračuna temeljem prijenosa EU sredstava | C26: 63821
A27: 63822 | B27: Kapitalne pomoći iz proračuna JLP(R)S temeljem prijenosa EU sredstava | C27: 63822
A28: 63823 | B28: Kapitalne pomoći od proračunskog korisnika drugog proračuna temeljem prijenosa EU sredstava | C28: 63823
A29: 63824 | B29: Kapitalne pomoći od izvaproračunskog korisnika temeljem prijenosa EU sredstava | C29: 63824
A30: 639 | B30: Prijenosi između proračunskih korisnika istog proračuna (šifre 6391 do 6394) | C30: 639 | D30: =SUM(D31:D34) -> 0 | E30: =SUM(E31:E34) -> 0
A31: 6391 | B31: Tekući prijenosi između proračunskih korisnika istog proračuna | C31: 6391
A32: 6392 | B32: Kapitalni prijenosi između proračunskih korisnika istog proračuna | C32: 6392
A33: 6393 | B33: Tekući prijenosi između proračunskih korisnika istog proračuna temeljem prijenosa EU sredstava | C33: 6393
A34: 6394 | B34: Kapitalni prijenosi između proračunskih korisnika istog proračuna temeljem prijenosa EU sredstava | C34: 6394
A35: 671 | B35: Prihodi iz nadležnog proračuna za financiranje redovne djelatnosti proračunskih korisnika (šifre 6711 do 6714) | C35: 671 | D35: =SUM(D36:D38) -> 0 | E35: =SUM(E36:E38) -> 0
A36: 6711 | B36: Prihodi iz nadležnog proračuna za financiranje rashoda poslovanja | C36: 6711
A37: 6712 | B37: Prihodi iz nadležnog proračuna za financiranje rashoda za nabavu nefinancijske imovine | C37: 6712
A38: 6714 | B38: Prihodi iz nadležnog proračuna za financiranje izdataka za financijsku imovinu i otplatu zajmova | C38: 6714
A39: 8 | B39: PRIMICI OD FINANCIJSKE IMOVINE I ZADUŽIVANJA (šifra 841) | C39: 8 | D39: =D40 -> 0 | E39: =E40 -> 0
A40: 841 | B40: Primljeni krediti i zajmovi od međunarodnih organizacija, institucija i tijela EU te inozemnih vlada (šifre 8413+8414) | C40: 841 | D40: =SUM(D41:D42) -> 0 | E40: =SUM(E41:E42) -> 0
A41: 8413 | B41: Primljeni zajmovi od međunarodnih organizacija | C41: 8413
A42: 8414 | B42: Primljeni krediti i zajmovi od institucija i tijela EU | C42: 8414
A43: RASHODI I IZDACI | D43: Ostvareno u izvještajnom razdoblju prethodne godine | E43: Ostvareno u izvještajnom razdoblju tekuće godine
A44: 3 | B44: RASHODI POSLOVANJA (šifre 31+32+34+35+36+37+38) | C44: 3 | D44: =D45+D56+D94+D113+D122+D154+D165 -> 0 | E44: =E45+E56+E94+E113+E122+E154+E165 -> 0
A45: 31 | B45: Rashodi za zaposlene (šifre 311+312+313) | C45: 31 | D45: =D46+D51+D52 -> 0 | E45: =E46+E51+E52 -> 0
A46: 311 | B46: Plaće (bruto) (šifre 3111 do 3114) | C46: 311 | D46: =SUM(D47:D50) -> 0 | E46: =SUM(E47:E50) -> 0
A47: 3111 | B47: Plaće za redovan rad | C47: 3111
A48: 3112 | B48: Plaće u naravi | C48: 3112
A49: 3113 | B49: Plaće za prekovremeni rad | C49: 3113
A50: 3114 | B50: Plaće za posebne uvjete rada | C50: 3114
A51: 312 | B51: Ostali rashodi za zaposlene | C51: 312
A52: 313 | B52: Doprinosi na plaće (šifre 3131 do 3133) | C52: 313 | D52: =SUM(D53:D55) -> 0 | E52: =SUM(E53:E55) -> 0
A53: 3131 | B53: Doprinosi za mirovinsko osiguranje za staž s povećanim trajanjem | C53: 3131
A54: 3132 | B54: Doprinosi za obvezno zdravstveno osiguranje | C54: 3132
A55: 3133 | B55: Doprinosi za obvezno osiguranje u slučaju nezaposlenosti | C55: 3133
A56: 32 | B56: Materijalni rashodi (šifre 321+322+323+324+325+329) | C56: 32 | D56: =D57+D62+D70+D80+D81+D86 -> 0 | E56: =E57+E62+E70+E80+E81+E86 -> 0
A57: 321 | B57: Naknade troškova zaposlenima (šifre 3211 do 3214) | C57: 321 | D57: =SUM(D58:D61) -> 0 | E57: =SUM(E58:E61) -> 0
A58: 3211 | B58: Službena putovanja | C58: 3211
A59: 3212 | B59: Naknade za prijevoz, za rad na terenu i odvojeni život | C59: 3212
A60: 3213 | B60: Stručno usavršavanje zaposlenika | C60: 3213
A61: 3214 | B61: Ostale naknade troškova zaposlenima | C61: 3214
A62: 322 | B62: Rashodi za materijal i energiju (šifre 3221 do 3227) | C62: 322 | D62: =SUM(D63:D69) -> 0 | E62: =SUM(E63:E69) -> 0
A63: 3221 | B63: Uredski materijal i ostali materijalni rashodi | C63: 3221
A64: 3222 | B64: Materijal i sirovine | C64: 3222
A65: 3223 | B65: Energija | C65: 3223
A66: 3224 | B66: Materijal i dijelovi za tekuće i investicijsko održavanje | C66: 3224
A67: 3225 | B67: Sitni inventar i autogume | C67: 3225
A68: 3226 | B68: Vojna sredstva za jednokratnu upotrebu | C68: 3226
A69: 3227 | B69: Službena, radna i zaštitna odjeća i obuća | C69: 3227
A70: 323 | B70: Rashodi za usluge (šifre 3231 do 3239) | C70: 323 | D70: =SUM(D71:D79) -> 0 | E70: =SUM(E71:E79) -> 0
A71: 3231 | B71: Usluge telefona, interneta, pošte i prijevoza | C71: 3231
A72: 3232 | B72: Usluge tekućeg i investicijskog održavanja | C72: 3232
A73: 3233 | B73: Usluge promidžbe i informiranja | C73: 3233
A74: 3234 | B74: Komunalne usluge | C74: 3234
A75: 3235 | B75: Zakupnine i najamnine | C75: 3235
A76: 3236 | B76: Zdravstvene i veterinarske usluge | C76: 3236
A77: 3237 | B77: Intelektualne i osobne usluge | C77: 3237
A78: 3238 | B78: Računalne usluge | C78: 3238
A79: 3239 | B79: Ostale usluge | C79: 3239
A80: 324 | B80: Naknade troškova osobama izvan radnog odnosa | C80: 324
A81: 325 | B81: Rashodi lijekova i potrošnog medicinskog materijala kod zdravstvenih ustanova (šifre 3251 do 3254) | C81: 325 | D81: =SUM(D82:D85) -> 0 | E81: =SUM(E82:E85) -> 0
A82: 3251 | B82: Rashodi po osnovi utroška lijekova i potrošnog medicinskog materijala | C82: 3251
A83: 3252 | B83: Rashodi po osnovi otpisa lijekova i potrošnog medicinskog materijala | C83: 3252
A84: 3253 | B84: Rashodi po osnovi donacije lijekova i potrošnog medicinskog materijala | C84: 3253
A85: 3254 | B85: Rashodi po osnovi prodaje lijekova i potrošnog medicinskog materijala | C85: 3254
A86: 329 | B86: Ostali nespomenuti rashodi poslovanja (šifre 3291 do 3299) | C86: 329 | D86: =SUM(D87:D93) -> 0 | E86: =SUM(E87:E93) -> 0
A87: 3291 | B87: Naknade za rad predstavničkih i izvršnih tijela, povjerenstava i slično | C87: 3291
A88: 3292 | B88: Premije osiguranja | C88: 3292
A89: 3293 | B89: Reprezentacija | C89: 3293
A90: 3294 | B90: Članarine i norme | C90: 3294
A91: 3295 | B91: Pristojbe i naknade | C91: 3295
A92: 3296 | B92: Troškovi sudskih postupaka | C92: 3296
A93: 3299 | B93: Ostali nespomenuti rashodi poslovanja | C93: 3299
A94: 34 | B94: Financijski rashodi (šifre 341+342+343) | C94: 34 | D94: =D95+D100+D108 -> 0 | E94: =E95+E100+E108 -> 0
A95: 341 | B95: Kamate za izdane vrijednosne papire (šifre 3411 do 3419) | C95: 341 | D95: =SUM(D96:D99) -> 0 | E95: =SUM(E96:E99) -> 0
A96: 3411 | B96: Kamate za izdane trezorske zapise | C96: 3411
A97: 3412 | B97: Kamate za izdane mjenice | C97: 3412
A98: 3413 | B98: Kamate za izdane obveznice | C98: 3413
A99: 3419 | B99: Kamate za ostale vrijednosne papire | C99: 3419
A100: 342 | B100: Kamate za primljene kredite i zajmove (šifre 3421 do 3428) | C100: 342 | D100: =SUM(D101:D107) -> 0 | E100: =SUM(E101:E107) -> 0
...

Sheet 579
A1: Obveznik: | B1: OPĆINA DONJA MOTIČINA | C1: Razina: | D1: 22 | E1: Razdoblje: | F1: 2026-09
A2: EU IZVJEŠTAJ PO IZVORIMA FINANCIRANJA - 579 FOND ZA INTEGRIRANO UPRAVLJANJE GRANICAMA
A3: Račun iz Rač. plana | B3: Opis stavke | C3: Šifra | D3: Izvor financiranja za praćenje EU sredstava
A4: 1 | B4: 2 | C4: 3 | D4: 4 | E4: 5
A5: PRIHODI I PRIMICI | D5: Ostvareno u izvještajnom razdoblju prethodne godine | E5: Ostvareno u izvještajnom razdoblju tekuće godine
A6: 6 | B6: PRIHODI POSLOVANJA (šifre 631+632+638+639+671) | C6: 6 | D6: =+D7+D14+D19+D30+D35 -> 0 | E6: =+E7+E14+E19+E30+E35 -> 0
A7: 631 | B7: Pomoći od inozemnih vlada (šifre 6311+6312) | C7: 631 | D7: =D8+D11 -> 0 | E7: =E8+E11 -> 0
A8: 6311 | B8: Tekuće pomoći od inozemnih vlada (šifre 63111+63112) | C8: 6311 | D8: =SUM(D9:D10) -> 0 | E8: =SUM(E9:E10) -> 0
A9: 63111 | B9: Tekuće pomoći od inozemnih vlada u EU | C9: 63111
A10: 63112 | B10: Tekuće pomoći od inozemnih vlada izvan EU | C10: 63112
A11: 6312 | B11: Kapitalne pomoći od inozemnih vlada (šifre 63121+63122) | C11: 6312 | D11: =SUM(D12:D13) -> 0 | E11: =SUM(E12:E13) -> 0
A12: 63121 | B12: Kapitalne pomoći od inozemnih vlada u EU | C12: 63121
A13: 63122 | B13: Kapitalne pomoći od inozemnih vlada izvan EU | C13: 63122
A14: 632 | B14: Pomoći od međunarodnih organizacija te institucija i tijela EU (šifre 6321 do 6324) | C14: 632 | D14: =SUM(D15:D18) -> 0 | E14: =SUM(E15:E18) -> 0
A15: 6321 | B15: Tekuće pomoći od međunarodnih organizacija | C15: 6321
A16: 6322 | B16: Kapitalne pomoći od međunarodnih organizacija | C16: 6322
A17: 6323 | B17: Tekuće pomoći od institucija i tijela EU | C17: 6323
A18: 6324 | B18: Kapitalne pomoći od institucija i tijela EU | C18: 6324
A19: 638 | B19: Pomoći temeljem prijenosa EU sredstava (šifre 6381+6382) | C19: 638 | D19: =D20+D25 -> 0 | E19: =E20+E25 -> 0
A20: 6381 | B20: Tekuće pomoći temeljem prijenosa EU sredstava (šifre 63811 do 63814) | C20: 6381 | D20: =SUM(D21:D24) -> 0 | E20: =SUM(E21:E24) -> 0
A21: 63811 | B21: Tekuće pomoći iz državnog proračuna temeljem prijenosa EU sredstava | C21: 63811
A22: 63812 | B22: Tekuće pomoći iz proračuna JLP(R)S temeljem prijenosa EU sredstava | C22: 63812
A23: 63813 | B23: Tekuće pomoći od proračunskog korisnika drugog proračuna temeljem prijenosa EU sredstava | C23: 63813
A24: 63814 | B24: Tekuće pomoći od izvaproračunskog korisnika temeljem prijenosa EU sredstava | C24: 63814
A25: 6382 | B25: Kapitalne pomoći temeljem prijenosa EU sredstava (šifre 63821 do 63824) | C25: 6382 | D25: =SUM(D26:D29) -> 0 | E25: =SUM(E26:E29) -> 0
A26: 63821 | B26: Kapitalne pomoći iz državnog proračuna temeljem prijenosa EU sredstava | C26: 63821
A27: 63822 | B27: Kapitalne pomoći iz proračuna JLP(R)S temeljem prijenosa EU sredstava | C27: 63822
A28: 63823 | B28: Kapitalne pomoći od proračunskog korisnika drugog proračuna temeljem prijenosa EU sredstava | C28: 63823
A29: 63824 | B29: Kapitalne pomoći od izvaproračunskog korisnika temeljem prijenosa EU sredstava | C29: 63824
A30: 639 | B30: Prijenosi između proračunskih korisnika istog proračuna (šifre 6391 do 6394) | C30: 639 | D30: =SUM(D31:D34) -> 0 | E30: =SUM(E31:E34) -> 0
A31: 6391 | B31: Tekući prijenosi između proračunskih korisnika istog proračuna | C31: 6391
A32: 6392 | B32: Kapitalni prijenosi između proračunskih korisnika istog proračuna | C32: 6392
A33: 6393 | B33: Tekući prijenosi između proračunskih korisnika istog proračuna temeljem prijenosa EU sredstava | C33: 6393
A34: 6394 | B34: Kapitalni prijenosi između proračunskih korisnika istog proračuna temeljem prijenosa EU sredstava | C34: 6394
A35: 671 | B35: Prihodi iz nadležnog proračuna za financiranje redovne djelatnosti proračunskih korisnika (šifre 6711 do 6714) | C35: 671 | D35: =SUM(D36:D38) -> 0 | E35: =SUM(E36:E38) -> 0
A36: 6711 | B36: Prihodi iz nadležnog proračuna za financiranje rashoda poslovanja | C36: 6711
A37: 6712 | B37: Prihodi iz nadležnog proračuna za financiranje rashoda za nabavu nefinancijske imovine | C37: 6712
A38: 6714 | B38: Prihodi iz nadležnog proračuna za financiranje izdataka za financijsku imovinu i otplatu zajmova | C38: 6714
A39: 8 | B39: PRIMICI OD FINANCIJSKE IMOVINE I ZADUŽIVANJA (šifra 841) | C39: 8 | D39: =D40 -> 0 | E39: =E40 -> 0
A40: 841 | B40: Primljeni krediti i zajmovi od međunarodnih organizacija, institucija i tijela EU te inozemnih vlada (šifre 8413+8414) | C40: 841 | D40: =SUM(D41:D42) -> 0 | E40: =SUM(E41:E42) -> 0
A41: 8413 | B41: Primljeni zajmovi od međunarodnih organizacija | C41: 8413
A42: 8414 | B42: Primljeni krediti i zajmovi od institucija i tijela EU | C42: 8414
A43: RASHODI I IZDACI | D43: Ostvareno u izvještajnom razdoblju prethodne godine | E43: Ostvareno u izvještajnom razdoblju tekuće godine
A44: 3 | B44: RASHODI POSLOVANJA (šifre 31+32+34+35+36+37+38) | C44: 3 | D44: =D45+D56+D94+D113+D122+D154+D165 -> 0 | E44: =E45+E56+E94+E113+E122+E154+E165 -> 0
A45: 31 | B45: Rashodi za zaposlene (šifre 311+312+313) | C45: 31 | D45: =D46+D51+D52 -> 0 | E45: =E46+E51+E52 -> 0
A46: 311 | B46: Plaće (bruto) (šifre 3111 do 3114) | C46: 311 | D46: =SUM(D47:D50) -> 0 | E46: =SUM(E47:E50) -> 0
A47: 3111 | B47: Plaće za redovan rad | C47: 3111
A48: 3112 | B48: Plaće u naravi | C48: 3112
A49: 3113 | B49: Plaće za prekovremeni rad | C49: 3113
A50: 3114 | B50: Plaće za posebne uvjete rada | C50: 3114
A51: 312 | B51: Ostali rashodi za zaposlene | C51: 312
A52: 313 | B52: Doprinosi na plaće (šifre 3131 do 3133) | C52: 313 | D52: =SUM(D53:D55) -> 0 | E52: =SUM(E53:E55) -> 0
A53: 3131 | B53: Doprinosi za mirovinsko osiguranje za staž s povećanim trajanjem | C53: 3131
A54: 3132 | B54: Doprinosi za obvezno zdravstveno osiguranje | C54: 3132
A55: 3133 | B55: Doprinosi za obvezno osiguranje u slučaju nezaposlenosti | C55: 3133
A56: 32 | B56: Materijalni rashodi (šifre 321+322+323+324+325+329) | C56: 32 | D56: =D57+D62+D70+D80+D81+D86 -> 0 | E56: =E57+E62+E70+E80+E81+E86 -> 0
A57: 321 | B57: Naknade troškova zaposlenima (šifre 3211 do 3214) | C57: 321 | D57: =SUM(D58:D61) -> 0 | E57: =SUM(E58:E61) -> 0
A58: 3211 | B58: Službena putovanja | C58: 3211
A59: 3212 | B59: Naknade za prijevoz, za rad na terenu i odvojeni život | C59: 3212
A60: 3213 | B60: Stručno usavršavanje zaposlenika | C60: 3213
A61: 3214 | B61: Ostale naknade troškova zaposlenima | C61: 3214
A62: 322 | B62: Rashodi za materijal i energiju (šifre 3221 do 3227) | C62: 322 | D62: =SUM(D63:D69) -> 0 | E62: =SUM(E63:E69) -> 0
A63: 3221 | B63: Uredski materijal i ostali materijalni rashodi | C63: 3221
A64: 3222 | B64: Materijal i sirovine | C64: 3222
A65: 3223 | B65: Energija | C65: 3223
A66: 3224 | B66: Materijal i dijelovi za tekuće i investicijsko održavanje | C66: 3224
A67: 3225 | B67: Sitni inventar i autogume | C67: 3225
A68: 3226 | B68: Vojna sredstva za jednokratnu upotrebu | C68: 3226
A69: 3227 | B69: Službena, radna i zaštitna odjeća i obuća | C69: 3227
A70: 323 | B70: Rashodi za usluge (šifre 3231 do 3239) | C70: 323 | D70: =SUM(D71:D79) -> 0 | E70: =SUM(E71:E79) -> 0
A71: 3231 | B71: Usluge telefona, interneta, pošte i prijevoza | C71: 3231
A72: 3232 | B72: Usluge tekućeg i investicijskog održavanja | C72: 3232
A73: 3233 | B73: Usluge promidžbe i informiranja | C73: 3233
A74: 3234 | B74: Komunalne usluge | C74: 3234
A75: 3235 | B75: Zakupnine i najamnine | C75: 3235
A76: 3236 | B76: Zdravstvene i veterinarske usluge | C76: 3236
A77: 3237 | B77: Intelektualne i osobne usluge | C77: 3237
A78: 3238 | B78: Računalne usluge | C78: 3238
A79: 3239 | B79: Ostale usluge | C79: 3239
A80: 324 | B80: Naknade troškova osobama izvan radnog odnosa | C80: 324
A81: 325 | B81: Rashodi lijekova i potrošnog medicinskog materijala kod zdravstvenih ustanova (šifre 3251 do 3254) | C81: 325 | D81: =SUM(D82:D85) -> 0 | E81: =SUM(E82:E85) -> 0
A82: 3251 | B82: Rashodi po osnovi utroška lijekova i potrošnog medicinskog materijala | C82: 3251
A83: 3252 | B83: Rashodi po osnovi otpisa lijekova i potrošnog medicinskog materijala | C83: 3252
A84: 3253 | B84: Rashodi po osnovi donacije lijekova i potrošnog medicinskog materijala | C84: 3253
A85: 3254 | B85: Rashodi po osnovi prodaje lijekova i potrošnog medicinskog materijala | C85: 3254
A86: 329 | B86: Ostali nespomenuti rashodi poslovanja (šifre 3291 do 3299) | C86: 329 | D86: =SUM(D87:D93) -> 0 | E86: =SUM(E87:E93) -> 0
A87: 3291 | B87: Naknade za rad predstavničkih i izvršnih tijela, povjerenstava i slično | C87: 3291
A88: 3292 | B88: Premije osiguranja | C88: 3292
A89: 3293 | B89: Reprezentacija | C89: 3293
A90: 3294 | B90: Članarine i norme | C90: 3294
A91: 3295 | B91: Pristojbe i naknade | C91: 3295
A92: 3296 | B92: Troškovi sudskih postupaka | C92: 3296
A93: 3299 | B93: Ostali nespomenuti rashodi poslovanja | C93: 3299
A94: 34 | B94: Financijski rashodi (šifre 341+342+343) | C94: 34 | D94: =D95+D100+D108 -> 0 | E94: =E95+E100+E108 -> 0
A95: 341 | B95: Kamate za izdane vrijednosne papire (šifre 3411 do 3419) | C95: 341 | D95: =SUM(D96:D99) -> 0 | E95: =SUM(E96:E99) -> 0
A96: 3411 | B96: Kamate za izdane trezorske zapise | C96: 3411
A97: 3412 | B97: Kamate za izdane mjenice | C97: 3412
A98: 3413 | B98: Kamate za izdane obveznice | C98: 3413
A99: 3419 | B99: Kamate za ostale vrijednosne papire | C99: 3419
A100: 342 | B100: Kamate za primljene kredite i zajmove (šifre 3421 do 3428) | C100: 342 | D100: =SUM(D101:D107) -> 0 | E100: =SUM(E101:E107) -> 0
...

Sheet 581
A1: Obveznik: | B1: OPĆINA DONJA MOTIČINA | C1: Razina: | D1: 22 | E1: Razdoblje: | F1: 2026-09
A2: EU IZVJEŠTAJ PO IZVORIMA FINANCIRANJA - 581 MEHANIZAM ZA OPORAVAK I OTPORNOST - BESPOVRATNA SREDSTVA
A3: Račun iz Rač. plana | B3: Opis stavke | C3: Šifra | D3: Izvor financiranja za praćenje EU sredstava
A4: 1 | B4: 2 | C4: 3 | D4: 4 | E4: 5
A5: PRIHODI I PRIMICI | D5: Ostvareno u izvještajnom razdoblju prethodne godine | E5: Ostvareno u izvještajnom razdoblju tekuće godine
A6: 6 | B6: PRIHODI POSLOVANJA (šifre 631+632+638+639+671) | C6: 6 | D6: =+D7+D14+D19+D30+D35 -> 0 | E6: =+E7+E14+E19+E30+E35 -> 224061.53
A7: 631 | B7: Pomoći od inozemnih vlada (šifre 6311+6312) | C7: 631 | D7: =D8+D11 -> 0 | E7: =E8+E11 -> 0
A8: 6311 | B8: Tekuće pomoći od inozemnih vlada (šifre 63111+63112) | C8: 6311 | D8: =SUM(D9:D10) -> 0 | E8: =SUM(E9:E10) -> 0
A9: 63111 | B9: Tekuće pomoći od inozemnih vlada u EU | C9: 63111
A10: 63112 | B10: Tekuće pomoći od inozemnih vlada izvan EU | C10: 63112
A11: 6312 | B11: Kapitalne pomoći od inozemnih vlada (šifre 63121+63122) | C11: 6312 | D11: =SUM(D12:D13) -> 0 | E11: =SUM(E12:E13) -> 0
A12: 63121 | B12: Kapitalne pomoći od inozemnih vlada u EU | C12: 63121
A13: 63122 | B13: Kapitalne pomoći od inozemnih vlada izvan EU | C13: 63122
A14: 632 | B14: Pomoći od međunarodnih organizacija te institucija i tijela EU (šifre 6321 do 6324) | C14: 632 | D14: =SUM(D15:D18) -> 0 | E14: =SUM(E15:E18) -> 0
A15: 6321 | B15: Tekuće pomoći od međunarodnih organizacija | C15: 6321
A16: 6322 | B16: Kapitalne pomoći od međunarodnih organizacija | C16: 6322
A17: 6323 | B17: Tekuće pomoći od institucija i tijela EU | C17: 6323
A18: 6324 | B18: Kapitalne pomoći od institucija i tijela EU | C18: 6324
A19: 638 | B19: Pomoći temeljem prijenosa EU sredstava (šifre 6381+6382) | C19: 638 | D19: =D20+D25 -> 0 | E19: =E20+E25 -> 224061.53
A20: 6381 | B20: Tekuće pomoći temeljem prijenosa EU sredstava (šifre 63811 do 63814) | C20: 6381 | D20: =SUM(D21:D24) -> 0 | E20: =SUM(E21:E24) -> 224061.53
A21: 63811 | B21: Tekuće pomoći iz državnog proračuna temeljem prijenosa EU sredstava | C21: 63811 | E21: 224061.53
A22: 63812 | B22: Tekuće pomoći iz proračuna JLP(R)S temeljem prijenosa EU sredstava | C22: 63812
A23: 63813 | B23: Tekuće pomoći od proračunskog korisnika drugog proračuna temeljem prijenosa EU sredstava | C23: 63813
A24: 63814 | B24: Tekuće pomoći od izvaproračunskog korisnika temeljem prijenosa EU sredstava | C24: 63814
A25: 6382 | B25: Kapitalne pomoći temeljem prijenosa EU sredstava (šifre 63821 do 63824) | C25: 6382 | D25: =SUM(D26:D29) -> 0 | E25: =SUM(E26:E29) -> 0
A26: 63821 | B26: Kapitalne pomoći iz državnog proračuna temeljem prijenosa EU sredstava | C26: 63821
A27: 63822 | B27: Kapitalne pomoći iz proračuna JLP(R)S temeljem prijenosa EU sredstava | C27: 63822
A28: 63823 | B28: Kapitalne pomoći od proračunskog korisnika drugog proračuna temeljem prijenosa EU sredstava | C28: 63823
A29: 63824 | B29: Kapitalne pomoći od izvaproračunskog korisnika temeljem prijenosa EU sredstava | C29: 63824
A30: 639 | B30: Prijenosi između proračunskih korisnika istog proračuna (šifre 6391 do 6394) | C30: 639 | D30: =SUM(D31:D34) -> 0 | E30: =SUM(E31:E34) -> 0
A31: 6391 | B31: Tekući prijenosi između proračunskih korisnika istog proračuna | C31: 6391
A32: 6392 | B32: Kapitalni prijenosi između proračunskih korisnika istog proračuna | C32: 6392
A33: 6393 | B33: Tekući prijenosi između proračunskih korisnika istog proračuna temeljem prijenosa EU sredstava | C33: 6393
A34: 6394 | B34: Kapitalni prijenosi između proračunskih korisnika istog proračuna temeljem prijenosa EU sredstava | C34: 6394
A35: 671 | B35: Prihodi iz nadležnog proračuna za financiranje redovne djelatnosti proračunskih korisnika (šifre 6711 do 6714) | C35: 671 | D35: =SUM(D36:D38) -> 0 | E35: =SUM(E36:E38) -> 0
A36: 6711 | B36: Prihodi iz nadležnog proračuna za financiranje rashoda poslovanja | C36: 6711
A37: 6712 | B37: Prihodi iz nadležnog proračuna za financiranje rashoda za nabavu nefinancijske imovine | C37: 6712
A38: 6714 | B38: Prihodi iz nadležnog proračuna za financiranje izdataka za financijsku imovinu i otplatu zajmova | C38: 6714
A39: 8 | B39: PRIMICI OD FINANCIJSKE IMOVINE I ZADUŽIVANJA (šifra 841) | C39: 8 | D39: =D40 -> 0 | E39: =E40 -> 0
A40: 841 | B40: Primljeni krediti i zajmovi od međunarodnih organizacija, institucija i tijela EU te inozemnih vlada (šifre 8413+8414) | C40: 841 | D40: =SUM(D41:D42) -> 0 | E40: =SUM(E41:E42) -> 0
A41: 8413 | B41: Primljeni zajmovi od međunarodnih organizacija | C41: 8413
A42: 8414 | B42: Primljeni krediti i zajmovi od institucija i tijela EU | C42: 8414
A43: RASHODI I IZDACI | D43: Ostvareno u izvještajnom razdoblju prethodne godine | E43: Ostvareno u izvještajnom razdoblju tekuće godine
A44: 3 | B44: RASHODI POSLOVANJA (šifre 31+32+34+35+36+37+38) | C44: 3 | D44: =D45+D56+D94+D113+D122+D154+D165 -> 0 | E44: =E45+E56+E94+E113+E122+E154+E165 -> 0
A45: 31 | B45: Rashodi za zaposlene (šifre 311+312+313) | C45: 31 | D45: =D46+D51+D52 -> 0 | E45: =E46+E51+E52 -> 0
A46: 311 | B46: Plaće (bruto) (šifre 3111 do 3114) | C46: 311 | D46: =SUM(D47:D50) -> 0 | E46: =SUM(E47:E50) -> 0
A47: 3111 | B47: Plaće za redovan rad | C47: 3111
A48: 3112 | B48: Plaće u naravi | C48: 3112
A49: 3113 | B49: Plaće za prekovremeni rad | C49: 3113
A50: 3114 | B50: Plaće za posebne uvjete rada | C50: 3114
A51: 312 | B51: Ostali rashodi za zaposlene | C51: 312
A52: 313 | B52: Doprinosi na plaće (šifre 3131 do 3133) | C52: 313 | D52: =SUM(D53:D55) -> 0 | E52: =SUM(E53:E55) -> 0
A53: 3131 | B53: Doprinosi za mirovinsko osiguranje za staž s povećanim trajanjem | C53: 3131
A54: 3132 | B54: Doprinosi za obvezno zdravstveno osiguranje | C54: 3132
A55: 3133 | B55: Doprinosi za obvezno osiguranje u slučaju nezaposlenosti | C55: 3133
A56: 32 | B56: Materijalni rashodi (šifre 321+322+323+324+325+329) | C56: 32 | D56: =D57+D62+D70+D80+D81+D86 -> 0 | E56: =E57+E62+E70+E80+E81+E86 -> 0
A57: 321 | B57: Naknade troškova zaposlenima (šifre 3211 do 3214) | C57: 321 | D57: =SUM(D58:D61) -> 0 | E57: =SUM(E58:E61) -> 0
A58: 3211 | B58: Službena putovanja | C58: 3211
A59: 3212 | B59: Naknade za prijevoz, za rad na terenu i odvojeni život | C59: 3212
A60: 3213 | B60: Stručno usavršavanje zaposlenika | C60: 3213
A61: 3214 | B61: Ostale naknade troškova zaposlenima | C61: 3214
A62: 322 | B62: Rashodi za materijal i energiju (šifre 3221 do 3227) | C62: 322 | D62: =SUM(D63:D69) -> 0 | E62: =SUM(E63:E69) -> 0
A63: 3221 | B63: Uredski materijal i ostali materijalni rashodi | C63: 3221
A64: 3222 | B64: Materijal i sirovine | C64: 3222
A65: 3223 | B65: Energija | C65: 3223
A66: 3224 | B66: Materijal i dijelovi za tekuće i investicijsko održavanje | C66: 3224
A67: 3225 | B67: Sitni inventar i autogume | C67: 3225
A68: 3226 | B68: Vojna sredstva za jednokratnu upotrebu | C68: 3226
A69: 3227 | B69: Službena, radna i zaštitna odjeća i obuća | C69: 3227
A70: 323 | B70: Rashodi za usluge (šifre 3231 do 3239) | C70: 323 | D70: =SUM(D71:D79) -> 0 | E70: =SUM(E71:E79) -> 0
A71: 3231 | B71: Usluge telefona, interneta, pošte i prijevoza | C71: 3231
A72: 3232 | B72: Usluge tekućeg i investicijskog održavanja | C72: 3232
A73: 3233 | B73: Usluge promidžbe i informiranja | C73: 3233
A74: 3234 | B74: Komunalne usluge | C74: 3234
A75: 3235 | B75: Zakupnine i najamnine | C75: 3235
A76: 3236 | B76: Zdravstvene i veterinarske usluge | C76: 3236
A77: 3237 | B77: Intelektualne i osobne usluge | C77: 3237
A78: 3238 | B78: Računalne usluge | C78: 3238
A79: 3239 | B79: Ostale usluge | C79: 3239
A80: 324 | B80: Naknade troškova osobama izvan radnog odnosa | C80: 324
A81: 325 | B81: Rashodi lijekova i potrošnog medicinskog materijala kod zdravstvenih ustanova (šifre 3251 do 3254) | C81: 325 | D81: =SUM(D82:D85) -> 0 | E81: =SUM(E82:E85) -> 0
A82: 3251 | B82: Rashodi po osnovi utroška lijekova i potrošnog medicinskog materijala | C82: 3251
A83: 3252 | B83: Rashodi po osnovi otpisa lijekova i potrošnog medicinskog materijala | C83: 3252
A84: 3253 | B84: Rashodi po osnovi donacije lijekova i potrošnog medicinskog materijala | C84: 3253
A85: 3254 | B85: Rashodi po osnovi prodaje lijekova i potrošnog medicinskog materijala | C85: 3254
A86: 329 | B86: Ostali nespomenuti rashodi poslovanja (šifre 3291 do 3299) | C86: 329 | D86: =SUM(D87:D93) -> 0 | E86: =SUM(E87:E93) -> 0
A87: 3291 | B87: Naknade za rad predstavničkih i izvršnih tijela, povjerenstava i slično | C87: 3291
A88: 3292 | B88: Premije osiguranja | C88: 3292
A89: 3293 | B89: Reprezentacija | C89: 3293
A90: 3294 | B90: Članarine i norme | C90: 3294
A91: 3295 | B91: Pristojbe i naknade | C91: 3295
A92: 3296 | B92: Troškovi sudskih postupaka | C92: 3296
A93: 3299 | B93: Ostali nespomenuti rashodi poslovanja | C93: 3299
A94: 34 | B94: Financijski rashodi (šifre 341+342+343) | C94: 34 | D94: =D95+D100+D108 -> 0 | E94: =E95+E100+E108 -> 0
A95: 341 | B95: Kamate za izdane vrijednosne papire (šifre 3411 do 3419) | C95: 341 | D95: =SUM(D96:D99) -> 0 | E95: =SUM(E96:E99) -> 0
A96: 3411 | B96: Kamate za izdane trezorske zapise | C96: 3411
A97: 3412 | B97: Kamate za izdane mjenice | C97: 3412
A98: 3413 | B98: Kamate za izdane obveznice | C98: 3413
A99: 3419 | B99: Kamate za ostale vrijednosne papire | C99: 3419
A100: 342 | B100: Kamate za primljene kredite i zajmove (šifre 3421 do 3428) | C100: 342 | D100: =SUM(D101:D107) -> 0 | E100: =SUM(E101:E107) -> 0
...

Sheet 815
A1: Obveznik: | B1: OPĆINA DONJA MOTIČINA | C1: Razina: | D1: 22 | E1: Razdoblje: | F1: 2026-09
A2: EU IZVJEŠTAJ PO IZVORIMA FINANCIRANJA - 815 MEHANIZAM ZA OPORAVAK I OTPORNOST (NPOO - ZAJAM)
A3: Račun iz Rač. plana | B3: Opis stavke | C3: Šifra | D3: Izvor financiranja za praćenje EU sredstava
A4: 1 | B4: 2 | C4: 3 | D4: 4 | E4: 5
A5: PRIHODI I PRIMICI | D5: Ostvareno u izvještajnom razdoblju prethodne godine | E5: Ostvareno u izvještajnom razdoblju tekuće godine
A6: 6 | B6: PRIHODI POSLOVANJA (šifre 631+632+638+639+671) | C6: 6 | D6: =+D7+D14+D19+D30+D35 -> 0 | E6: =+E7+E14+E19+E30+E35 -> 0
A7: 631 | B7: Pomoći od inozemnih vlada (šifre 6311+6312) | C7: 631 | D7: =D8+D11 -> 0 | E7: =E8+E11 -> 0
A8: 6311 | B8: Tekuće pomoći od inozemnih vlada (šifre 63111+63112) | C8: 6311 | D8: =SUM(D9:D10) -> 0 | E8: =SUM(E9:E10) -> 0
A9: 63111 | B9: Tekuće pomoći od inozemnih vlada u EU | C9: 63111
A10: 63112 | B10: Tekuće pomoći od inozemnih vlada izvan EU | C10: 63112
A11: 6312 | B11: Kapitalne pomoći od inozemnih vlada (šifre 63121+63122) | C11: 6312 | D11: =SUM(D12:D13) -> 0 | E11: =SUM(E12:E13) -> 0
A12: 63121 | B12: Kapitalne pomoći od inozemnih vlada u EU | C12: 63121
A13: 63122 | B13: Kapitalne pomoći od inozemnih vlada izvan EU | C13: 63122
A14: 632 | B14: Pomoći od međunarodnih organizacija te institucija i tijela EU (šifre 6321 do 6324) | C14: 632 | D14: =SUM(D15:D18) -> 0 | E14: =SUM(E15:E18) -> 0
A15: 6321 | B15: Tekuće pomoći od međunarodnih organizacija | C15: 6321
A16: 6322 | B16: Kapitalne pomoći od međunarodnih organizacija | C16: 6322
A17: 6323 | B17: Tekuće pomoći od institucija i tijela EU | C17: 6323
A18: 6324 | B18: Kapitalne pomoći od institucija i tijela EU | C18: 6324
A19: 638 | B19: Pomoći temeljem prijenosa EU sredstava (šifre 6381+6382) | C19: 638 | D19: =D20+D25 -> 0 | E19: =E20+E25 -> 0
A20: 6381 | B20: Tekuće pomoći temeljem prijenosa EU sredstava (šifre 63811 do 63814) | C20: 6381 | D20: =SUM(D21:D24) -> 0 | E20: =SUM(E21:E24) -> 0
A21: 63811 | B21: Tekuće pomoći iz državnog proračuna temeljem prijenosa EU sredstava | C21: 63811
A22: 63812 | B22: Tekuće pomoći iz proračuna JLP(R)S temeljem prijenosa EU sredstava | C22: 63812
A23: 63813 | B23: Tekuće pomoći od proračunskog korisnika drugog proračuna temeljem prijenosa EU sredstava | C23: 63813
A24: 63814 | B24: Tekuće pomoći od izvaproračunskog korisnika temeljem prijenosa EU sredstava | C24: 63814
A25: 6382 | B25: Kapitalne pomoći temeljem prijenosa EU sredstava (šifre 63821 do 63824) | C25: 6382 | D25: =SUM(D26:D29) -> 0 | E25: =SUM(E26:E29) -> 0
A26: 63821 | B26: Kapitalne pomoći iz državnog proračuna temeljem prijenosa EU sredstava | C26: 63821
A27: 63822 | B27: Kapitalne pomoći iz proračuna JLP(R)S temeljem prijenosa EU sredstava | C27: 63822
A28: 63823 | B28: Kapitalne pomoći od proračunskog korisnika drugog proračuna temeljem prijenosa EU sredstava | C28: 63823
A29: 63824 | B29: Kapitalne pomoći od izvaproračunskog korisnika temeljem prijenosa EU sredstava | C29: 63824
A30: 639 | B30: Prijenosi između proračunskih korisnika istog proračuna (šifre 6391 do 6394) | C30: 639 | D30: =SUM(D31:D34) -> 0 | E30: =SUM(E31:E34) -> 0
A31: 6391 | B31: Tekući prijenosi između proračunskih korisnika istog proračuna | C31: 6391
A32: 6392 | B32: Kapitalni prijenosi između proračunskih korisnika istog proračuna | C32: 6392
A33: 6393 | B33: Tekući prijenosi između proračunskih korisnika istog proračuna temeljem prijenosa EU sredstava | C33: 6393
A34: 6394 | B34: Kapitalni prijenosi između proračunskih korisnika istog proračuna temeljem prijenosa EU sredstava | C34: 6394
A35: 671 | B35: Prihodi iz nadležnog proračuna za financiranje redovne djelatnosti proračunskih korisnika (šifre 6711 do 6714) | C35: 671 | D35: =SUM(D36:D38) -> 0 | E35: =SUM(E36:E38) -> 0
A36: 6711 | B36: Prihodi iz nadležnog proračuna za financiranje rashoda poslovanja | C36: 6711
A37: 6712 | B37: Prihodi iz nadležnog proračuna za financiranje rashoda za nabavu nefinancijske imovine | C37: 6712
A38: 6714 | B38: Prihodi iz nadležnog proračuna za financiranje izdataka za financijsku imovinu i otplatu zajmova | C38: 6714
A39: 8 | B39: PRIMICI OD FINANCIJSKE IMOVINE I ZADUŽIVANJA (šifra 841) | C39: 8 | D39: =D40 -> 0 | E39: =E40 -> 0
A40: 841 | B40: Primljeni krediti i zajmovi od međunarodnih organizacija, institucija i tijela EU te inozemnih vlada (šifre 8413+8414) | C40: 841 | D40: =SUM(D41:D42) -> 0 | E40: =SUM(E41:E42) -> 0
A41: 8413 | B41: Primljeni zajmovi od međunarodnih organizacija | C41: 8413
A42: 8414 | B42: Primljeni krediti i zajmovi od institucija i tijela EU | C42: 8414
A43: RASHODI I IZDACI | D43: Ostvareno u izvještajnom razdoblju prethodne godine | E43: Ostvareno u izvještajnom razdoblju tekuće godine
A44: 3 | B44: RASHODI POSLOVANJA (šifre 31+32+34+35+36+37+38) | C44: 3 | D44: =D45+D56+D94+D113+D122+D154+D165 -> 0 | E44: =E45+E56+E94+E113+E122+E154+E165 -> 0
A45: 31 | B45: Rashodi za zaposlene (šifre 311+312+313) | C45: 31 | D45: =D46+D51+D52 -> 0 | E45: =E46+E51+E52 -> 0
A46: 311 | B46: Plaće (bruto) (šifre 3111 do 3114) | C46: 311 | D46: =SUM(D47:D50) -> 0 | E46: =SUM(E47:E50) -> 0
A47: 3111 | B47: Plaće za redovan rad | C47: 3111
A48: 3112 | B48: Plaće u naravi | C48: 3112
A49: 3113 | B49: Plaće za prekovremeni rad | C49: 3113
A50: 3114 | B50: Plaće za posebne uvjete rada | C50: 3114
A51: 312 | B51: Ostali rashodi za zaposlene | C51: 312
A52: 313 | B52: Doprinosi na plaće (šifre 3131 do 3133) | C52: 313 | D52: =SUM(D53:D55) -> 0 | E52: =SUM(E53:E55) -> 0
A53: 3131 | B53: Doprinosi za mirovinsko osiguranje za staž s povećanim trajanjem | C53: 3131
A54: 3132 | B54: Doprinosi za obvezno zdravstveno osiguranje | C54: 3132
A55: 3133 | B55: Doprinosi za obvezno osiguranje u slučaju nezaposlenosti | C55: 3133
A56: 32 | B56: Materijalni rashodi (šifre 321+322+323+324+325+329) | C56: 32 | D56: =D57+D62+D70+D80+D81+D86 -> 0 | E56: =E57+E62+E70+E80+E81+E86 -> 0
A57: 321 | B57: Naknade troškova zaposlenima (šifre 3211 do 3214) | C57: 321 | D57: =SUM(D58:D61) -> 0 | E57: =SUM(E58:E61) -> 0
A58: 3211 | B58: Službena putovanja | C58: 3211
A59: 3212 | B59: Naknade za prijevoz, za rad na terenu i odvojeni život | C59: 3212
A60: 3213 | B60: Stručno usavršavanje zaposlenika | C60: 3213
A61: 3214 | B61: Ostale naknade troškova zaposlenima | C61: 3214
A62: 322 | B62: Rashodi za materijal i energiju (šifre 3221 do 3227) | C62: 322 | D62: =SUM(D63:D69) -> 0 | E62: =SUM(E63:E69) -> 0
A63: 3221 | B63: Uredski materijal i ostali materijalni rashodi | C63: 3221
A64: 3222 | B64: Materijal i sirovine | C64: 3222
A65: 3223 | B65: Energija | C65: 3223
A66: 3224 | B66: Materijal i dijelovi za tekuće i investicijsko održavanje | C66: 3224
A67: 3225 | B67: Sitni inventar i autogume | C67: 3225
A68: 3226 | B68: Vojna sredstva za jednokratnu upotrebu | C68: 3226
A69: 3227 | B69: Službena, radna i zaštitna odjeća i obuća | C69: 3227
A70: 323 | B70: Rashodi za usluge (šifre 3231 do 3239) | C70: 323 | D70: =SUM(D71:D79) -> 0 | E70: =SUM(E71:E79) -> 0
A71: 3231 | B71: Usluge telefona, interneta, pošte i prijevoza | C71: 3231
A72: 3232 | B72: Usluge tekućeg i investicijskog održavanja | C72: 3232
A73: 3233 | B73: Usluge promidžbe i informiranja | C73: 3233
A74: 3234 | B74: Komunalne usluge | C74: 3234
A75: 3235 | B75: Zakupnine i najamnine | C75: 3235
A76: 3236 | B76: Zdravstvene i veterinarske usluge | C76: 3236
A77: 3237 | B77: Intelektualne i osobne usluge | C77: 3237
A78: 3238 | B78: Računalne usluge | C78: 3238
A79: 3239 | B79: Ostale usluge | C79: 3239
A80: 324 | B80: Naknade troškova osobama izvan radnog odnosa | C80: 324
A81: 325 | B81: Rashodi lijekova i potrošnog medicinskog materijala kod zdravstvenih ustanova (šifre 3251 do 3254) | C81: 325 | D81: =SUM(D82:D85) -> 0 | E81: =SUM(E82:E85) -> 0
A82: 3251 | B82: Rashodi po osnovi utroška lijekova i potrošnog medicinskog materijala | C82: 3251
A83: 3252 | B83: Rashodi po osnovi otpisa lijekova i potrošnog medicinskog materijala | C83: 3252
A84: 3253 | B84: Rashodi po osnovi donacije lijekova i potrošnog medicinskog materijala | C84: 3253
A85: 3254 | B85: Rashodi po osnovi prodaje lijekova i potrošnog medicinskog materijala | C85: 3254
A86: 329 | B86: Ostali nespomenuti rashodi poslovanja (šifre 3291 do 3299) | C86: 329 | D86: =SUM(D87:D93) -> 0 | E86: =SUM(E87:E93) -> 0
A87: 3291 | B87: Naknade za rad predstavničkih i izvršnih tijela, povjerenstava i slično | C87: 3291
A88: 3292 | B88: Premije osiguranja | C88: 3292
A89: 3293 | B89: Reprezentacija | C89: 3293
A90: 3294 | B90: Članarine i norme | C90: 3294
A91: 3295 | B91: Pristojbe i naknade | C91: 3295
A92: 3296 | B92: Troškovi sudskih postupaka | C92: 3296
A93: 3299 | B93: Ostali nespomenuti rashodi poslovanja | C93: 3299
A94: 34 | B94: Financijski rashodi (šifre 341+342+343) | C94: 34 | D94: =D95+D100+D108 -> 0 | E94: =E95+E100+E108 -> 0
A95: 341 | B95: Kamate za izdane vrijednosne papire (šifre 3411 do 3419) | C95: 341 | D95: =SUM(D96:D99) -> 0 | E95: =SUM(E96:E99) -> 0
A96: 3411 | B96: Kamate za izdane trezorske zapise | C96: 3411
A97: 3412 | B97: Kamate za izdane mjenice | C97: 3412
A98: 3413 | B98: Kamate za izdane obveznice | C98: 3413
A99: 3419 | B99: Kamate za ostale vrijednosne papire | C99: 3419
A100: 342 | B100: Kamate za primljene kredite i zajmove (šifre 3421 do 3428) | C100: 342 | D100: =SUM(D101:D107) -> 0 | E100: =SUM(E101:E107) -> 0
...

Sheet 816
A1: Obveznik: | B1: OPĆINA DONJA MOTIČINA | C1: Razina: | D1: 22 | E1: Razdoblje: | F1: 2026-09
A2: EU IZVJEŠTAJ PO IZVORIMA FINANCIRANJA - 816 SIGURNOSNA AKCIJA ZA EUROPU (SAFE - ZAJAM)
A3: Račun iz Rač. plana | B3: Opis stavke | C3: Šifra | D3: Izvor financiranja za praćenje EU sredstava
A4: 1 | B4: 2 | C4: 3 | D4: 4 | E4: 5
A5: PRIHODI I PRIMICI | D5: Ostvareno u izvještajnom razdoblju prethodne godine | E5: Ostvareno u izvještajnom razdoblju tekuće godine
A6: 6 | B6: PRIHODI POSLOVANJA (šifre 631+632+638+639+671) | C6: 6 | D6: =+D7+D14+D19+D30+D35 -> 0 | E6: =+E7+E14+E19+E30+E35 -> 0
A7: 631 | B7: Pomoći od inozemnih vlada (šifre 6311+6312) | C7: 631 | D7: =D8+D11 -> 0 | E7: =E8+E11 -> 0
A8: 6311 | B8: Tekuće pomoći od inozemnih vlada (šifre 63111+63112) | C8: 6311 | D8: =SUM(D9:D10) -> 0 | E8: =SUM(E9:E10) -> 0
A9: 63111 | B9: Tekuće pomoći od inozemnih vlada u EU | C9: 63111
A10: 63112 | B10: Tekuće pomoći od inozemnih vlada izvan EU | C10: 63112
A11: 6312 | B11: Kapitalne pomoći od inozemnih vlada (šifre 63121+63122) | C11: 6312 | D11: =SUM(D12:D13) -> 0 | E11: =SUM(E12:E13) -> 0
A12: 63121 | B12: Kapitalne pomoći od inozemnih vlada u EU | C12: 63121
A13: 63122 | B13: Kapitalne pomoći od inozemnih vlada izvan EU | C13: 63122
A14: 632 | B14: Pomoći od međunarodnih organizacija te institucija i tijela EU (šifre 6321 do 6324) | C14: 632 | D14: =SUM(D15:D18) -> 0 | E14: =SUM(E15:E18) -> 0
A15: 6321 | B15: Tekuće pomoći od međunarodnih organizacija | C15: 6321
A16: 6322 | B16: Kapitalne pomoći od međunarodnih organizacija | C16: 6322
A17: 6323 | B17: Tekuće pomoći od institucija i tijela EU | C17: 6323
A18: 6324 | B18: Kapitalne pomoći od institucija i tijela EU | C18: 6324
A19: 638 | B19: Pomoći temeljem prijenosa EU sredstava (šifre 6381+6382) | C19: 638 | D19: =D20+D25 -> 0 | E19: =E20+E25 -> 0
A20: 6381 | B20: Tekuće pomoći temeljem prijenosa EU sredstava (šifre 63811 do 63814) | C20: 6381 | D20: =SUM(D21:D24) -> 0 | E20: =SUM(E21:E24) -> 0
A21: 63811 | B21: Tekuće pomoći iz državnog proračuna temeljem prijenosa EU sredstava | C21: 63811
A22: 63812 | B22: Tekuće pomoći iz proračuna JLP(R)S temeljem prijenosa EU sredstava | C22: 63812
A23: 63813 | B23: Tekuće pomoći od proračunskog korisnika drugog proračuna temeljem prijenosa EU sredstava | C23: 63813
A24: 63814 | B24: Tekuće pomoći od izvaproračunskog korisnika temeljem prijenosa EU sredstava | C24: 63814
A25: 6382 | B25: Kapitalne pomoći temeljem prijenosa EU sredstava (šifre 63821 do 63824) | C25: 6382 | D25: =SUM(D26:D29) -> 0 | E25: =SUM(E26:E29) -> 0
A26: 63821 | B26: Kapitalne pomoći iz državnog proračuna temeljem prijenosa EU sredstava | C26: 63821
A27: 63822 | B27: Kapitalne pomoći iz proračuna JLP(R)S temeljem prijenosa EU sredstava | C27: 63822
A28: 63823 | B28: Kapitalne pomoći od proračunskog korisnika drugog proračuna temeljem prijenosa EU sredstava | C28: 63823
A29: 63824 | B29: Kapitalne pomoći od izvaproračunskog korisnika temeljem prijenosa EU sredstava | C29: 63824
A30: 639 | B30: Prijenosi između proračunskih korisnika istog proračuna (šifre 6391 do 6394) | C30: 639 | D30: =SUM(D31:D34) -> 0 | E30: =SUM(E31:E34) -> 0
A31: 6391 | B31: Tekući prijenosi između proračunskih korisnika istog proračuna | C31: 6391
A32: 6392 | B32: Kapitalni prijenosi između proračunskih korisnika istog proračuna | C32: 6392
A33: 6393 | B33: Tekući prijenosi između proračunskih korisnika istog proračuna temeljem prijenosa EU sredstava | C33: 6393
A34: 6394 | B34: Kapitalni prijenosi između proračunskih korisnika istog proračuna temeljem prijenosa EU sredstava | C34: 6394
A35: 671 | B35: Prihodi iz nadležnog proračuna za financiranje redovne djelatnosti proračunskih korisnika (šifre 6711 do 6714) | C35: 671 | D35: =SUM(D36:D38) -> 0 | E35: =SUM(E36:E38) -> 0
A36: 6711 | B36: Prihodi iz nadležnog proračuna za financiranje rashoda poslovanja | C36: 6711
A37: 6712 | B37: Prihodi iz nadležnog proračuna za financiranje rashoda za nabavu nefinancijske imovine | C37: 6712
A38: 6714 | B38: Prihodi iz nadležnog proračuna za financiranje izdataka za financijsku imovinu i otplatu zajmova | C38: 6714
A39: 8 | B39: PRIMICI OD FINANCIJSKE IMOVINE I ZADUŽIVANJA (šifra 841) | C39: 8 | D39: =D40 -> 0 | E39: =E40 -> 0
A40: 841 | B40: Primljeni krediti i zajmovi od međunarodnih organizacija, institucija i tijela EU te inozemnih vlada (šifre 8413+8414) | C40: 841 | D40: =SUM(D41:D42) -> 0 | E40: =SUM(E41:E42) -> 0
A41: 8413 | B41: Primljeni zajmovi od međunarodnih organizacija | C41: 8413
A42: 8414 | B42: Primljeni krediti i zajmovi od institucija i tijela EU | C42: 8414
A43: RASHODI I IZDACI | D43: Ostvareno u izvještajnom razdoblju prethodne godine | E43: Ostvareno u izvještajnom razdoblju tekuće godine
A44: 3 | B44: RASHODI POSLOVANJA (šifre 31+32+34+35+36+37+38) | C44: 3 | D44: =D45+D56+D94+D113+D122+D154+D165 -> 0 | E44: =E45+E56+E94+E113+E122+E154+E165 -> 0
A45: 31 | B45: Rashodi za zaposlene (šifre 311+312+313) | C45: 31 | D45: =D46+D51+D52 -> 0 | E45: =E46+E51+E52 -> 0
A46: 311 | B46: Plaće (bruto) (šifre 3111 do 3114) | C46: 311 | D46: =SUM(D47:D50) -> 0 | E46: =SUM(E47:E50) -> 0
A47: 3111 | B47: Plaće za redovan rad | C47: 3111
A48: 3112 | B48: Plaće u naravi | C48: 3112
A49: 3113 | B49: Plaće za prekovremeni rad | C49: 3113
A50: 3114 | B50: Plaće za posebne uvjete rada | C50: 3114
A51: 312 | B51: Ostali rashodi za zaposlene | C51: 312
A52: 313 | B52: Doprinosi na plaće (šifre 3131 do 3133) | C52: 313 | D52: =SUM(D53:D55) -> 0 | E52: =SUM(E53:E55) -> 0
A53: 3131 | B53: Doprinosi za mirovinsko osiguranje za staž s povećanim trajanjem | C53: 3131
A54: 3132 | B54: Doprinosi za obvezno zdravstveno osiguranje | C54: 3132
A55: 3133 | B55: Doprinosi za obvezno osiguranje u slučaju nezaposlenosti | C55: 3133
A56: 32 | B56: Materijalni rashodi (šifre 321+322+323+324+325+329) | C56: 32 | D56: =D57+D62+D70+D80+D81+D86 -> 0 | E56: =E57+E62+E70+E80+E81+E86 -> 0
A57: 321 | B57: Naknade troškova zaposlenima (šifre 3211 do 3214) | C57: 321 | D57: =SUM(D58:D61) -> 0 | E57: =SUM(E58:E61) -> 0
A58: 3211 | B58: Službena putovanja | C58: 3211
A59: 3212 | B59: Naknade za prijevoz, za rad na terenu i odvojeni život | C59: 3212
A60: 3213 | B60: Stručno usavršavanje zaposlenika | C60: 3213
A61: 3214 | B61: Ostale naknade troškova zaposlenima | C61: 3214
A62: 322 | B62: Rashodi za materijal i energiju (šifre 3221 do 3227) | C62: 322 | D62: =SUM(D63:D69) -> 0 | E62: =SUM(E63:E69) -> 0
A63: 3221 | B63: Uredski materijal i ostali materijalni rashodi | C63: 3221
A64: 3222 | B64: Materijal i sirovine | C64: 3222
A65: 3223 | B65: Energija | C65: 3223
A66: 3224 | B66: Materijal i dijelovi za tekuće i investicijsko održavanje | C66: 3224
A67: 3225 | B67: Sitni inventar i autogume | C67: 3225
A68: 3226 | B68: Vojna sredstva za jednokratnu upotrebu | C68: 3226
A69: 3227 | B69: Službena, radna i zaštitna odjeća i obuća | C69: 3227
A70: 323 | B70: Rashodi za usluge (šifre 3231 do 3239) | C70: 323 | D70: =SUM(D71:D79) -> 0 | E70: =SUM(E71:E79) -> 0
A71: 3231 | B71: Usluge telefona, interneta, pošte i prijevoza | C71: 3231
A72: 3232 | B72: Usluge tekućeg i investicijskog održavanja | C72: 3232
A73: 3233 | B73: Usluge promidžbe i informiranja | C73: 3233
A74: 3234 | B74: Komunalne usluge | C74: 3234
A75: 3235 | B75: Zakupnine i najamnine | C75: 3235
A76: 3236 | B76: Zdravstvene i veterinarske usluge | C76: 3236
A77: 3237 | B77: Intelektualne i osobne usluge | C77: 3237
A78: 3238 | B78: Računalne usluge | C78: 3238
A79: 3239 | B79: Ostale usluge | C79: 3239
A80: 324 | B80: Naknade troškova osobama izvan radnog odnosa | C80: 324
A81: 325 | B81: Rashodi lijekova i potrošnog medicinskog materijala kod zdravstvenih ustanova (šifre 3251 do 3254) | C81: 325 | D81: =SUM(D82:D85) -> 0 | E81: =SUM(E82:E85) -> 0
A82: 3251 | B82: Rashodi po osnovi utroška lijekova i potrošnog medicinskog materijala | C82: 3251
A83: 3252 | B83: Rashodi po osnovi otpisa lijekova i potrošnog medicinskog materijala | C83: 3252
A84: 3253 | B84: Rashodi po osnovi donacije lijekova i potrošnog medicinskog materijala | C84: 3253
A85: 3254 | B85: Rashodi po osnovi prodaje lijekova i potrošnog medicinskog materijala | C85: 3254
A86: 329 | B86: Ostali nespomenuti rashodi poslovanja (šifre 3291 do 3299) | C86: 329 | D86: =SUM(D87:D93) -> 0 | E86: =SUM(E87:E93) -> 0
A87: 3291 | B87: Naknade za rad predstavničkih i izvršnih tijela, povjerenstava i slično | C87: 3291
A88: 3292 | B88: Premije osiguranja | C88: 3292
A89: 3293 | B89: Reprezentacija | C89: 3293
A90: 3294 | B90: Članarine i norme | C90: 3294
A91: 3295 | B91: Pristojbe i naknade | C91: 3295
A92: 3296 | B92: Troškovi sudskih postupaka | C92: 3296
A93: 3299 | B93: Ostali nespomenuti rashodi poslovanja | C93: 3299
A94: 34 | B94: Financijski rashodi (šifre 341+342+343) | C94: 34 | D94: =D95+D100+D108 -> 0 | E94: =E95+E100+E108 -> 0
A95: 341 | B95: Kamate za izdane vrijednosne papire (šifre 3411 do 3419) | C95: 341 | D95: =SUM(D96:D99) -> 0 | E95: =SUM(E96:E99) -> 0
A96: 3411 | B96: Kamate za izdane trezorske zapise | C96: 3411
A97: 3412 | B97: Kamate za izdane mjenice | C97: 3412
A98: 3413 | B98: Kamate za izdane obveznice | C98: 3413
A99: 3419 | B99: Kamate za ostale vrijednosne papire | C99: 3419
A100: 342 | B100: Kamate za primljene kredite i zajmove (šifre 3421 do 3428) | C100: 342 | D100: =SUM(D101:D107) -> 0 | E100: =SUM(E101:E107) -> 0
...
