Workbook

Sheet Izvori financiranja
A2: JEDINSTVENE OZNAKE IZVORA FINANCIRANJA ZA PRAĆENJE EU SREDSTAVA
A3: Brojčana oznaka | B3: Naziv fonda/programa
A4: 510 | B4: Programi Unije
A5: 561 | B5: Europski socijalni fond plus
A6: 562 | B6: Kohezijski fond
A7: 563 | B7: Europski fond za regionalni razvoj
A8: 564 | B8: Fond za pomorstvo, ribarstvo i akvakulturu
A9: 565 | B9: Europski poljoprivredni fond za ruralni razvoj
A10: 566 | B10: Modernizacijski fond
A11: 567 | B11: Socijalni fond za klimatsku politiku
A12: 575 | B12: Fond za azil, migracije i integraciju
A13: 577 | B13: Fond za pravednu tranziciju
A14: 578 | B14: Fond za unutarnju sigurnost
A15: 579 | B15: Fond za integrirano upravljanje granicama
... A18: 816 | B18: Sigurnosna akcija za Europu (SAFE - zajam)

Sheet Ukupno
A1: Obveznik: | B1: OPĆINA DONJA MOTIČINA | C1: Razina: | D1: 22 | H1: Razdoblje: | I1: 2026-09
A2: EU IZVJEŠTAJ PO IZVORIMA FINANCIRANJA
A3: Račun iz Rač. plana | B3: Opis stavke | C3: Šifra | D3: Ukupno izvor financiranja za praćenje EU sredstava | F3: Nacionalno sufinanciranje | H3: Ukupno | J3: Indeks (8/9)
A4: 1 | B4: 2 | C4: 3 | D4: 4 | E4: 5 | F4: 6 | G4: 7 | H4: 8=4+6 | I4: 9=5+7 | J4: 10
A5: PRIHODI I PRIMICI | D5: Ostvareno u izvještajnom razdoblju prethodne godine | E5: Ostvareno u izvještajnom razdoblju tekuće godine | F5: Ostvareno u izvještajnom razdoblju prethodne godine | G5: Ostvareno u izvještajnom razdoblju tekuće godine | H5: Ostvareno u izvještajnom razdoblju prethodne godine | I5: Ostvareno u izvještajnom razdoblju tekuće godine
A6: 6 | B6: PRIHODI POSLOVANJA (šifre 631+632+638+639+671) | C6: 6 | D6: =+D7+D14+D19+D30+D35 -> 0 | E6: =+E7+E14+E19+E30+E35 -> 475122.36 | F6: =+F7+F14+F19+F30+F35 -> 0 | G6: =+G7+G14+G19+G30+G35 -> 62765.21 | H6: =+H7+H14+H19+H30+H35 -> 0 | I6: =+I7+I14+I19+I30+I35 -> 537887.57 | J6: =IF(H6<>0,IF(I6/H6>=100,">>100",I6/H6*100),"-") -> -
A7: 631 | B7: Pomoći od inozemnih vlada (šifre 6311+6312) | C7: 631 | D7: =D8+D11 -> 0 | E7: =E8+E11 -> 0 | F7: =F8+F11 -> 0 | G7: =G8+G11 -> 0 | H7: =H8+H11 -> 0 | I7: =I8+I11 -> 0 | J7: =IF(H7<>0,IF(I7/H7>=100,">>100",I7/H7*100),"-") -> -
A8: 6311 | B8: Tekuće pomoći od inozemnih vlada (šifre 63111+63112) | C8: 6311 | D8: =SUM(D9:D10) -> 0 | E8: =SUM(E9:E10) -> 0 | F8: =SUM(F9:F10) -> 0 | G8: =SUM(G9:G10) -> 0 | H8: =SUM(H9:H10) -> 0 | I8: =SUM(I9:I10) -> 0 | J8: =IF(H8<>0,IF(I8/H8>=100,">>100",I8/H8*100),"-") -> -
A9: 63111 | B9: Tekuće pomoći od inozemnih vlada u EU | C9: 63111 | D9: =SUM('510:816'!D9) -> 0 | E9: =SUM('510:816'!E9) -> 0 | F9: ='Nacionalno sufinanciranje'!D9 -> 0 | G9: ='Nacionalno sufinanciranje'!E9 -> 0 | H9: =D9+F9 -> 0 | I9: =E9+G9 -> 0 | J9: =IF(H9<>0,IF(I9/H9>=100,">>100",I9/H9*100),"-") -> -
A10: 63112 | B10: Tekuće pomoći od inozemnih vlada izvan EU | C10: 63112 | D10: =SUM('510:816'!D10) -> 0 | E10: =SUM('510:816'!E10) -> 0 | F10: ='Nacionalno sufinanciranje'!D10 -> 0 | G10: ='Nacionalno sufinanciranje'!E10 -> 0 | H10: =D10+F10 -> 0 | I10: =E10+G10 -> 0 | J10: =IF(H10<>0,IF(I10/H10>=100,">>100",I10/H10*100),"-") -> -
A11: 6312 | B11: Kapitalne pomoći od inozemnih vlada (šifre 63121+63122) | C11: 6312 | D11: =SUM(D12:D13) -> 0 | E11: =SUM(E12:E13) -> 0 | F11: =SUM(F12:F13) -> 0 | G11: =SUM(G12:G13) -> 0 | H11: =SUM(H12:H13) -> 0 | I11: =SUM(I12:I13) -> 0 | J11: =IF(H11<>0,IF(I11/H11>=100,">>100",I11/H11*100),"-") -> -
A12: 63121 | B12: Kapitalne pomoći od inozemnih vlada u EU | C12: 63121 | D12: =SUM('510:816'!D12) -> 0 | E12: =SUM('510:816'!E12) -> 0 | F12: ='Nacionalno sufinanciranje'!D12 -> 0 | G12: ='Nacionalno sufinanciranje'!E12 -> 0 | H12: =D12+F12 -> 0 | I12: =E12+G12 -> 0 | J12: =IF(H12<>0,IF(I12/H12>=100,">>100",I12/H12*100),"-") -> -
A13: 63122 | B13: Kapitalne pomoći od inozemnih vlada izvan EU | C13: 63122 | D13: =SUM('510:816'!D13) -> 0 | E13: =SUM('510:816'!E13) -> 0 | F13: ='Nacionalno sufinanciranje'!D13 -> 0 | G13: ='Nacionalno sufinanciranje'!E13 -> 0 | H13: =D13+F13 -> 0 | I13: =E13+G13 -> 0 | J13: =IF(H13<>0,IF(I13/H13>=100,">>100",I13/H13*100),"-") -> -
A14: 632 | B14: Pomoći od međunarodnih organizacija te institucija i tijela EU (šifre 6321 do 6324) | C14: 632 | D14: =SUM(D15:D18) -> 0 | E14: =SUM(E15:E18) -> 0 | F14: =SUM(F15:F18) -> 0 | G14: =SUM(G15:G18) -> 0 | H14: =SUM(H15:H18) -> 0 | I14: =SUM(I15:I18) -> 0 | J14: =IF(H14<>0,IF(I14/H14>=100,">>100",I14/H14*100),"-") -> -
A15: 6321 | B15: Tekuće pomoći od međunarodnih organizacija | C15: 6321 | D15: =SUM('510:816'!D15) -> 0 | E15: =SUM('510:816'!E15) -> 0 | F15: ='Nacionalno sufinanciranje'!D15 -> 0 | G15: ='Nacionalno sufinanciranje'!E15 -> 0 | H15: =D15+F15 -> 0 | I15: =E15+G15 -> 0 | J15: =IF(H15<>0,IF(I15/H15>=100,">>100",I15/H15*100),"-") -> -
A16: 6322 | B16: Kapitalne pomoći od međunarodnih organizacija | C16: 6322 | D16: =SUM('510:816'!D16) -> 0 | E16: =SUM('510:816'!E16) -> 0 | F16: ='Nacionalno sufinanciranje'!D16 -> 0 | G16: ='Nacionalno sufinanciranje'!E16 -> 0 | H16: =D16+F16 -> 0 | I16: =E16+G16 -> 0 | J16: =IF(H16<>0,IF(I16/H16>=100,">>100",I16/H16*100),"-") -> -
A17: 6323 | B17: Tekuće pomoći od institucija i tijela EU | C17: 6323 | D17: =SUM('510:816'!D17) -> 0 | E17: =SUM('510:816'!E17) -> 0 | F17: ='Nacionalno sufinanciranje'!D17 -> 0 | G17: ='Nacionalno sufinanciranje'!E17 -> 0 | H17: =D17+F17 -> 0 | I17: =E17+G17 -> 0 | J17: =IF(H17<>0,IF(I17/H17>=100,">>100",I17/H17*100),"-") -> -
A18: 6324 | B18: Kapitalne pomoći od institucija i tijela EU | C18: 6324 | D18: =SUM('510:816'!D18) -> 0 | E18: =SUM('510:816'!E18) -> 0 | F18: ='Nacionalno sufinanciranje'!D18 -> 0 | G18: ='Nacionalno sufinanciranje'!E18 -> 0 | H18: =D18+F18 -> 0 | I18: =E18+G18 -> 0 | J18: =IF(H18<>0,IF(I18/H18>=100,">>100",I18/H18*100),"-") -> -
A19: 638 | B19: Pomoći temeljem prijenosa EU sredstava (šifre 6381+6382) | C19: 638 | D19: =D20+D25 -> 0 | E19: =E20+E25 -> 475122.36 | F19: =F20+F25 -> 0 | G19: =G20+G25 -> 62765.21 | H19: =H20+H25 -> 0 | I19: =I20+I25 -> 537887.57 | J19: =IF(H19<>0,IF(I19/H19>=100,">>100",I19/H19*100),"-") -> -
A20: 6381 | B20: Tekuće pomoći temeljem prijenosa EU sredstava (šifre 63811 do 63814) | C20: 6381 | D20: =SUM(D21:D24) -> 0 | E20: =SUM(E21:E24) -> 475122.36 | F20: =SUM(F21:F24) -> 0 | G20: =SUM(G21:G24) -> 62765.21 | H20: =SUM(H21:H24) -> 0 | I20: =SUM(I21:I24) -> 537887.57 | J20: =IF(H20<>0,IF(I20/H20>=100,">>100",I20/H20*100),"-") -> -
A21: 63811 | B21: Tekuće pomoći iz državnog proračuna temeljem prijenosa EU sredstava | C21: 63811 | D21: =SUM('510:816'!D21) -> 0 | E21: =SUM('510:816'!E21) -> 475122.36 | F21: ='Nacionalno sufinanciranje'!D21 -> 0 | G21: ='Nacionalno sufinanciranje'!E21 -> 62765.21 | H21: =D21+F21 -> 0 | I21: =E21+G21 -> 537887.57 | J21: =IF(H21<>0,IF(I21/H21>=100,">>100",I21/H21*100),"-") -> -
A22: 63812 | B22: Tekuće pomoći iz proračuna JLP(R)S temeljem prijenosa EU sredstava | C22: 63812 | D22: =SUM('510:816'!D22) -> 0 | E22: =SUM('510:816'!E22) -> 0 | F22: ='Nacionalno sufinanciranje'!D22 -> 0 | G22: ='Nacionalno sufinanciranje'!E22 -> 0 | H22: =D22+F22 -> 0 | I22: =E22+G22 -> 0 | J22: =IF(H22<>0,IF(I22/H22>=100,">>100",I22/H22*100),"-") -> -
A23: 63813 | B23: Tekuće pomoći od proračunskog korisnika drugog proračuna temeljem prijenosa EU sredstava | C23: 63813 | D23: =SUM('510:816'!D23) -> 0 | E23: =SUM('510:816'!E23) -> 0 | F23: ='Nacionalno sufinanciranje'!D23 -> 0 | G23: ='Nacionalno sufinanciranje'!E23 -> 0 | H23: =D23+F23 -> 0 | I23: =E23+G23 -> 0 | J23: =IF(H23<>0,IF(I23/H23>=100,">>100",I23/H23*100),"-") -> -
A24: 63814 | B24: Tekuće pomoći od izvaproračunskog korisnika temeljem prijenosa EU sredstava | C24: 63814 | D24: =SUM('510:816'!D24) -> 0 | E24: =SUM('510:816'!E24) -> 0 | F24: ='Nacionalno sufinanciranje'!D24 -> 0 | G24: ='Nacionalno sufinanciranje'!E24 -> 0 | H24: =D24+F24 -> 0 | I24: =E24+G24 -> 0 | J24: =IF(H24<>0,IF(I24/H24>=100,">>100",I24/H24*100),"-") -> -
A25: 6382 | B25: Kapitalne pomoći temeljem prijenosa EU sredstava (šifre 63821 do 63824) | C25: 6382 | D25: =SUM(D26:D29) -> 0 | E25: =SUM(E26:E29) -> 0 | F25: =SUM(F26:F29) -> 0 | G25: =SUM(G26:G29) -> 0 | H25: =SUM(H26:H29) -> 0 | I25: =SUM(I26:I29) -> 0 | J25: =IF(H25<>0,IF(I25/H25>=100,">>100",I25/H25*100),"-") -> -
A26: 63821 | B26: Kapitalne pomoći iz državnog proračuna temeljem prijenosa EU sredstava | C26: 63821 | D26: =SUM('510:816'!D26) -> 0 | E26: =SUM('510:816'!E26) -> 0 | F26: ='Nacionalno sufinanciranje'!D26 -> 0 | G26: ='Nacionalno sufinanciranje'!E26 -> 0 | H26: =D26+F26 -> 0 | I26: =E26+G26 -> 0 | J26: =IF(H26<>0,IF(I26/H26>=100,">>100",I26/H26*100),"-") -> -
A27: 63822 | B27: Kapitalne pomoći iz proračuna JLP(R)S temeljem prijenosa EU sredstava | C27: 63822 | D27: =SUM('510:816'!D27) -> 0 | E27: =SUM('510:816'!E27) -> 0 | F27: ='Nacionalno sufinanciranje'!D27 -> 0 | G27: ='Nacionalno sufinanciranje'!E27 -> 0 | H27: =D27+F27 -> 0 | I27: =E27+G27 -> 0 | J27: =IF(H27<>0,IF(I27/H27>=100,">>100",I27/H27*100),"-") -> -
A28: 63823 | B28: Kapitalne pomoći od proračunskog korisnika drugog proračuna temeljem prijenosa EU sredstava | C28: 63823 | D28: =SUM('510:816'!D28) -> 0 | E28: =SUM('510:816'!E28) -> 0 | F28: ='Nacionalno sufinanciranje'!D28 -> 0 | G28: ='Nacionalno sufinanciranje'!E28 -> 0 | H28: =D28+F28 -> 0 | I28: =E28+G28 -> 0 | J28: =IF(H28<>0,IF(I28/H28>=100,">>100",I28/H28*100),"-") -> -
A29: 63824 | B29: Kapitalne pomoći od izvaproračunskog korisnika temeljem prijenosa EU sredstava | C29: 63824 | D29: =SUM('510:816'!D29) -> 0 | E29: =SUM('510:816'!E29) -> 0 | F29: ='Nacionalno sufinanciranje'!D29 -> 0 | G29: ='Nacionalno sufinanciranje'!E29 -> 0 | H29: =D29+F29 -> 0 | I29: =E29+G29 -> 0 | J29: =IF(H29<>0,IF(I29/H29>=100,">>100",I29/H29*100),"-") -> -
A30: 639 | B30: Prijenosi između proračunskih korisnika istog proračuna (šifre 6391 do 6394) | C30: 639 | D30: =SUM(D31:D34) -> 0 | E30: =SUM(E31:E34) -> 0 | F30: =SUM(F31:F34) -> 0 | G30: =SUM(G31:G34) -> 0 | H30: =SUM(H31:H34) -> 0 | I30: =SUM(I31:I34) -> 0 | J30: =IF(H30<>0,IF(I30/H30>=100,">>100",I30/H30*100),"-") -> -
A31: 6391 | B31: Tekući prijenosi između proračunskih korisnika istog proračuna | C31: 6391 | D31: =SUM('510:816'!D31) -> 0 | E31: =SUM('510:816'!E31) -> 0 | F31: ='Nacionalno sufinanciranje'!D31 -> 0 | G31: ='Nacionalno sufinanciranje'!E31 -> 0 | H31: =D31+F31 -> 0 | I31: =E31+G31 -> 0 | J31: =IF(H31<>0,IF(I31/H31>=100,">>100",I31/H31*100),"-") -> -
A32: 6392 | B32: Kapitalni prijenosi između proračunskih korisnika istog proračuna | C32: 6392 | D32: =SUM('510:816'!D32) -> 0 | E32: =SUM('510:816'!E32) -> 0 | F32: ='Nacionalno sufinanciranje'!D32 -> 0 | G32: ='Nacionalno sufinanciranje'!E32 -> 0 | H32: =D32+F32 -> 0 | I32: =E32+G32 -> 0 | J32: =IF(H32<>0,IF(I32/H32>=100,">>100",I32/H32*100),"-") -> -
A33: 6393 | B33: Tekući prijenosi između proračunskih korisnika istog proračuna temeljem prijenosa EU sredstava | C33: 6393 | D33: =SUM('510:816'!D33) -> 0 | E33: =SUM('510:816'!E33) -> 0 | F33: ='Nacionalno sufinanciranje'!D33 -> 0 | G33: ='Nacionalno sufinanciranje'!E33 -> 0 | H33: =D33+F33 -> 0 | I33: =E33+G33 -> 0 | J33: =IF(H33<>0,IF(I33/H33>=100,">>100",I33/H33*100),"-") -> -
A34: 6394 | B34: Kapitalni prijenosi između proračunskih korisnika istog proračuna temeljem prijenosa EU sredstava | C34: 6394 | D34: =SUM('510:816'!D34) -> 0 | E34: =SUM('510:816'!E34) -> 0 | F34: ='Nacionalno sufinanciranje'!D34 -> 0 | G34: ='Nacionalno sufinanciranje'!E34 -> 0 | H34: =D34+F34 -> 0 | I34: =E34+G34 -> 0 | J34: =IF(H34<>0,IF(I34/H34>=100,">>100",I34/H34*100),"-") -> -
A35: 671 | B35: Prihodi iz nadležnog proračuna za financiranje redovne djelatnosti proračunskih korisnika (šifre 6711 do 6714) | C35: 671 | D35: =SUM(D36:D38) -> 0 | E35: =SUM(E36:E38) -> 0 | F35: =SUM(F36:F38) -> 0 | G35: =SUM(G36:G38) -> 0 | H35: =SUM(H36:H38) -> 0 | I35: =SUM(I36:I38) -> 0 | J35: =IF(H35<>0,IF(I35/H35>=100,">>100",I35/H35*100),"-") -> -
A36: 6711 | B36: Prihodi iz nadležnog proračuna za financiranje rashoda poslovanja | C36: 6711 | D36: =SUM('510:816'!D36) -> 0 | E36: =SUM('510:816'!E36) -> 0 | F36: ='Nacionalno sufinanciranje'!D36 -> 0 | G36: ='Nacionalno sufinanciranje'!E36 -> 0 | H36: =D36+F36 -> 0 | I36: =E36+G36 -> 0 | J36: =IF(H36<>0,IF(I36/H36>=100,">>100",I36/H36*100),"-") -> -
A37: 6712 | B37: Prihodi iz nadležnog proračuna za financiranje rashoda za nabavu nefinancijske imovine | C37: 6712 | D37: =SUM('510:816'!D37) -> 0 | E37: =SUM('510:816'!E37) -> 0 | F37: ='Nacionalno sufinanciranje'!D37 -> 0 | G37: ='Nacionalno sufinanciranje'!E37 -> 0 | H37: =D37+F37 -> 0 | I37: =E37+G37 -> 0 | J37: =IF(H37<>0,IF(I37/H37>=100,">>100",I37/H37*100),"-") -> -
A38: 6714 | B38: Prihodi iz nadležnog proračuna za financiranje izdataka za financijsku imovinu i otplatu zajmova | C38: 6714 | D38: =SUM('510:816'!D38) -> 0 | E38: =SUM('510:816'!E38) -> 0 | F38: ='Nacionalno sufinanciranje'!D38 -> 0 | G38: ='Nacionalno sufinanciranje'!E38 -> 0 | H38: =D38+F38 -> 0 | I38: =E38+G38 -> 0 | J38: =IF(H38<>0,IF(I38/H38>=100,">>100",I38/H38*100),"-") -> -
A39: 8 | B39: PRIMICI OD FINANCIJSKE IMOVINE I ZADUŽIVANJA (šifra 841) | C39: 8 | D39: =D40 -> 0 | E39: =E40 -> 0 | F39: =F40 -> 0 | G39: =G40 -> 0 | H39: =+D39+F39 -> 0 | I39: =+E39+G39 -> 0 | J39: =IF(H39<>0,IF(I39/H39>=100,">>100",I39/H39*100),"-") -> -
A40: 841 | B40: Primljeni krediti i zajmovi od međunarodnih organizacija, institucija i tijela EU te inozemnih vlada (šifre 8413+8414) | C40: 841 | D40: =SUM(D41:D42) -> 0 | E40: =SUM(E41:E42) -> 0 | F40: =SUM(F41:F42) -> 0 | G40: =SUM(G41:G42) -> 0 | H40: =SUM(H41:H42) -> 0 | I40: =SUM(I41:I42) -> 0 | J40: =IF(H40<>0,IF(I40/H40>=100,">>100",I40/H40*100),"-") -> -
...

Sheet Nacionalno sufinanciranje
A1: Obveznik: | B1: OPĆINA DONJA MOTIČINA | C1: Razina: | D1: 22 | E1: Razdoblje: | F1: 2026-09
A2: EU IZVJEŠTAJ PO IZVORIMA FINANCIRANJA - NACIONALNO SUFINANCIRANJE
A3: Račun iz Rač. plana | B3: Opis stavke | C3: Šifra | D3: Nacionalno sufinanciranje
A4: 1 | B4: 2 | C4: 3 | D4: 6 | E4: 7
A5: PRIHODI I PRIMICI | D5: Ostvareno u izvještajnom razdoblju prethodne godine | E5: Ostvareno u izvještajnom razdoblju tekuće godine
A6: 6 | B6: PRIHODI POSLOVANJA (šifre 631+632+638+639+671) | C6: 6 | D6: =+D7+D14+D19+D30+D35 -> 0 | E6: =+E7+E14+E19+E30+E35 -> 62765.21
A7: 631 | B7: Pomoći od inozemnih vlada (šifre 6311+6312) | C7: 631 | D7: =D8+D11 -> 0 | E7: =E8+E11 -> 0
A8: 6311 | B8: Tekuće pomoći od inozemnih vlada (šifre 63111+63112) | C8: 6311 | D8: =SUM(D9:D10) -> 0 | E8: =SUM(E9:E10) -> 0
A9: 63111 | B9: Tekuće pomoći od inozemnih vlada u EU | C9: 63111
A10: 63112 | B10: Tekuće pomoći od inozemnih vlada izvan EU | C10: 63112
A11: 6312 | B11: Kapitalne pomoći od inozemnih vlada (šifre 63121+63122) | C11: 6312 | D11: =SUM(D12:D13) -> 0 | E11: =SUM(E12:E13) -> 0
A12: 63121 | B12: Kapitalne pomoći od inozemnih vlada u EU | C12: 63121
A13: 63122 | B13: Kapitalne pomoći od inozemnih vlada izvan EU | C13: 63122
A14: 632 | B14: Pomoći od međunarodnih organizacija te institucija i tijela EU (šifre 6321 do 6324) | C14: 632 | D14: =SUM(D15:D18) -> 0 | E14: =SUM(E15:E18) -> 0
A15: 6321 | B15: Tekuće pomoći od međunarodnih organizacija | C15: 6321
A16: 6322 | B16: Kapitalne pomoći od međunarodnih organizacija | C16: 6322
A17: 6323 | B17: Tekuće pomoći od institucija i tijela EU | C17: 6323
A18: 6324 | B18: Kapitalne pomoći od institucija i tijela EU | C18: 6324
A19: 638 | B19: Pomoći temeljem prijenosa EU sredstava (šifre 6381+6382) | C19: 638 | D19: =D20+D25 -> 0 | E19: =E20+E25 -> 62765.21
A20: 6381 | B20: Tekuće pomoći temeljem prijenosa EU sredstava (šifre 63811 do 63814) | C20: 6381 | D20: =SUM(D21:D24) -> 0 | E20: =SUM(E21:E24) -> 62765.21
A21: 63811 | B21: Tekuće pomoći iz državnog proračuna temeljem prijenosa EU sredstava | C21: 63811 | E21: 62765.21
A22: 63812 | B22: Tekuće pomoći iz proračuna JLP(R)S temeljem prijenosa EU sredstava | C22: 63812
A23: 63813 | B23: Tekuće pomoći od proračunskog korisnika drugog proračuna temeljem prijenosa EU sredstava | C23: 63813
A24: 63814 | B24: Tekuće pomoći od izvaproračunskog korisnika temeljem prijenosa EU sredstava | C24: 63814
A25: 6382 | B25: Kapitalne pomoći temeljem prijenosa EU sredstava (šifre 63821 do 63824) | C25: 6382 | D25: =SUM(D26:D29) -> 0 | E25: =SUM(E26:E29) -> 0
A26: 63821 | B26: Kapitalne pomoći iz državnog proračuna temeljem prijenosa EU sredstava | C26: 63821
A27: 63822 | B27: Kapitalne pomoći iz proračuna JLP(R)S temeljem prijenosa EU sredstava | C27: 63822
A28: 63823 | B28: Kapitalne pomoći od proračunskog korisnika drugog proračuna temeljem prijenosa EU sredstava | C28: 63823
A29: 63824 | B29: Kapitalne pomoći od izvaproračunskog korisnika temeljem prijenosa EU sredstava | C29: 63824
A30: 639 | B30: Prijenosi između proračunskih korisnika istog proračuna (šifre 6391 do 6394) | C30: 639 | D30: =SUM(D31:D34) -> 0 | E30: =SUM(E31:E34) -> 0
A31: 6391 | B31: Tekući prijenosi između proračunskih korisnika istog proračuna | C31: 6391
A32: 6392 | B32: Kapitalni prijenosi između proračunskih korisnika istog proračuna | C32: 6392
A33: 6393 | B33: Tekući prijenosi između proračunskih korisnika istog proračuna temeljem prijenosa EU sredstava | C33: 6393
A34: 6394 | B34: Kapitalni prijenosi između proračunskih korisnika istog proračuna temeljem prijenosa EU sredstava | C34: 6394
A35: 671 | B35: Prihodi iz nadležnog proračuna za financiranje redovne djelatnosti proračunskih korisnika (šifre 6711 do 6714) | C35: 671 | D35: =SUM(D36:D38) -> 0 | E35: =SUM(E36:E38) -> 0
A36: 6711 | B36: Prihodi iz nadležnog proračuna za financiranje rashoda poslovanja | C36: 6711
A37: 6712 | B37: Prihodi iz nadležnog proračuna za financiranje rashoda za nabavu nefinancijske imovine | C37: 6712
A38: 6714 | B38: Prihodi iz nadležnog proračuna za financiranje izdataka za financijsku imovinu i otplatu zajmova | C38: 6714
A39: 8 | B39: PRIMICI OD FINANCIJSKE IMOVINE I ZADUŽIVANJA (šifra 841) | C39: 8 | D39: =D40 -> 0 | E39: =E40 -> 0
A40: 841 | B40: Primljeni krediti i zajmovi od međunarodnih organizacija, institucija i tijela EU te inozemnih vlada (šifre 8413+8414) | C40: 841 | D40: =SUM(D41:D42) -> 0 | E40: =SUM(E41:E42) -> 0
...

Sheet 510
A1: Obveznik: | B1: OPĆINA DONJA MOTIČINA | C1: Razina: | D1: 22 | E1: Razdoblje: | F1: 2026-09
A2: EU IZVJEŠTAJ PO IZVORIMA FINANCIRANJA - 510 PROGRAMI UNIJE
A3: Račun iz Rač. plana | B3: Opis stavke | C3: Šifra | D3: Izvor financiranja za praćenje EU sredstava
A4: 1 | B4: 2 | C4: 3 | D4: 4 | E4: 5
A5: PRIHODI I PRIMICI | D5: Ostvareno u izvještajnom razdoblju prethodne godine | E5: Ostvareno u izvještajnom razdoblju tekuće godine
A6: 6 | B6: PRIHODI POSLOVANJA (šifre 631+632+638+639+671) | C6: 6 | D6: =+D7+D14+D19+D30+D35 -> 0 | E6: =+E7+E14+E19+E30+E35 -> 0
A7: 631 | B7: Pomoći od inozemnih vlada (šifre 6311+6312) | C7: 631 | D7: =D8+D11 -> 0 | E7: =E8+E11 -> 0
A8: 6311 | B8: Tekuće pomoći od inozemnih vlada (šifre 63111+63112) | C8: 6311 | D8: =SUM(D9:D10) -> 0 | E8: =SUM(E9:E10) -> 0
A9: 63111 | B9: Tekuće pomoći od inozemnih vlada u EU | C9: 63111
A10: 63112 | B10: Tekuće pomoći od inozemnih vlada izvan EU | C10: 63112
A11: 6312 | B11: Kapitalne pomoći od inozemnih vlada (šifre 63121+63122) | C11: 6312 | D11: =SUM(D12:D13) -> 0 | E11: =SUM(E12:E13) -> 0
A12: 63121 | B12: Kapitalne pomoći od inozemnih vlada u EU | C12: 63121
A13: 63122 | B13: Kapitalne pomoći od inozemnih vlada izvan EU | C13: 63122
A14: 632 | B14: Pomoći od međunarodnih organizacija te institucija i tijela EU (šifre 6321 do 6324) | C14: 632 | D14: =SUM(D15:D18) -> 0 | E14: =SUM(E15:E18) -> 0
A15: 6321 | B15: Tekuće pomoći od međunarodnih organizacija | C15: 6321
A16: 6322 | B16: Kapitalne pomoći od međunarodnih organizacija | C16: 6322
A17: 6323 | B17: Tekuće pomoći od institucija i tijela EU | C17: 6323
A18: 6324 | B18: Kapitalne pomoći od institucija i tijela EU | C18: 6324
A19: 638 | B19: Pomoći temeljem prijenosa EU sredstava (šifre 6381+6382) | C19: 638 | D19: =D20+D25 -> 0 | E19: =E20+E25 -> 0
A20: 6381 | B20: Tekuće pomoći temeljem prijenosa EU sredstava (šifre 63811 do 63814) | C20: 6381 | D20: =SUM(D21:D24) -> 0 | E20: =SUM(E21:E24) -> 0
A21: 63811 | B21: Tekuće pomoći iz državnog proračuna temeljem prijenosa EU sredstava | C21: 63811
A22: 63812 | B22: Tekuće pomoći iz proračuna JLP(R)S temeljem prijenosa EU sredstava | C22: 63812
A23: 63813 | B23: Tekuće pomoći od proračunskog korisnika drugog proračuna temeljem prijenosa EU sredstava | C23: 63813
A24: 63814 | B24: Tekuće pomoći od izvaproračunskog korisnika temeljem prijenosa EU sredstava | C24: 63814
A25: 6382 | B25: Kapitalne pomoći temeljem prijenosa EU sredstava (šifre 63821 do 63824) | C25: 6382 | D25: =SUM(D26:D29) -> 0 | E25: =SUM(E26:E29) -> 0
A26: 63821 | B26: Kapitalne pomoći iz državnog proračuna temeljem prijenosa EU sredstava | C26: 63821
A27: 63822 | B27: Kapitalne pomoći iz proračuna JLP(R)S temeljem prijenosa EU sredstava | C27: 63822
A28: 63823 | B28: Kapitalne pomoći od proračunskog korisnika drugog proračuna temeljem prijenosa EU sredstava | C28: 63823
A29: 63824 | B29: Kapitalne pomoći od izvaproračunskog korisnika temeljem prijenosa EU sredstava | C29: 63824
A30: 639 | B30: Prijenosi između proračunskih korisnika istog proračuna (šifre 6391 do 6394) | C30: 639 | D30: =SUM(D31:D34) -> 0 | E30: =SUM(E31:E34) -> 0
A31: 6391 | B31: Tekući prijenosi između proračunskih korisnika istog proračuna | C31: 6391
A32: 6392 | B32: Kapitalni prijenosi između proračunskih korisnika istog proračuna | C32: 6392
A33: 6393 | B33: Tekući prijenosi između proračunskih korisnika istog proračuna temeljem prijenosa EU sredstava | C33: 6393
A34: 6394 | B34: Kapitalni prijenosi između proračunskih korisnika istog proračuna temeljem prijenosa EU sredstava | C34: 6394
A35: 671 | B35: Prihodi iz nadležnog proračuna za financiranje redovne djelatnosti proračunskih korisnika (šifre 6711 do 6714) | C35: 671 | D35: =SUM(D36:D38) -> 0 | E35: =SUM(E36:E38) -> 0
A36: 6711 | B36: Prihodi iz nadležnog proračuna za financiranje rashoda poslovanja | C36: 6711
A37: 6712 | B37: Prihodi iz nadležnog proračuna za financiranje rashoda za nabavu nefinancijske imovine | C37: 6712
A38: 6714 | B38: Prihodi iz nadležnog proračuna za financiranje izdataka za financijsku imovinu i otplatu zajmova | C38: 6714
A39: 8 | B39: PRIMICI OD FINANCIJSKE IMOVINE I ZADUŽIVANJA (šifra 841) | C39: 8 | D39: =D40 -> 0 | E39: =E40 -> 0
A40: 841 | B40: Primljeni krediti i zajmovi od međunarodnih organizacija, institucija i tijela EU te inozemnih vlada (šifre 8413+8414) | C40: 841 | D40: =SUM(D41:D42) -> 0 | E40: =SUM(E41:E42) -> 0
...

Sheet 561
A1: Obveznik: | B1: OPĆINA DONJA MOTIČINA | C1: Razina: | D1: 22 | E1: Razdoblje: | F1: 2026-09
A2: EU IZVJEŠTAJ PO IZVORIMA FINANCIRANJA - 561 EUROPSKI SOCIJALNI FOND PLUS
A3: Račun iz Rač. plana | B3: Opis stavke | C3: Šifra | D3: Izvor financiranja za praćenje EU sredstava
A4: 1 | B4: 2 | C4: 3 | D4: 4 | E4: 5
A5: PRIHODI I PRIMICI | D5: Ostvareno u izvještajnom razdoblju prethodne godine | E5: Ostvareno u izvještajnom razdoblju tekuće godine
A6: 6 | B6: PRIHODI POSLOVANJA (šifre 631+632+638+639+671) | C6: 6 | D6: =+D7+D14+D19+D30+D35 -> 0 | E6: =+E7+E14+E19+E30+E35 -> 251060.83
A7: 631 | B7: Pomoći od inozemnih vlada (šifre 6311+6312) | C7: 631 | D7: =D8+D11 -> 0 | E7: =E8+E11 -> 0
A8: 6311 | B8: Tekuće pomoći od inozemnih vlada (šifre 63111+63112) | C8: 6311 | D8: =SUM(D9:D10) -> 0 | E8: =SUM(E9:E10) -> 0
A9: 63111 | B9: Tekuće pomoći od inozemnih vlada u EU | C9: 63111
A10: 63112 | B10: Tekuće pomoći od inozemnih vlada izvan EU | C10: 63112
A11: 6312 | B11: Kapitalne pomoći od inozemnih vlada (šifre 63121+63122) | C11: 6312 | D11: =SUM(D12:D13) -> 0 | E11: =SUM(E12:E13) -> 0
A12: 63121 | B12: Kapitalne pomoći od inozemnih vlada u EU | C12: 63121
A13: 63122 | B13: Kapitalne pomoći od inozemnih vlada izvan EU | C13: 63122
A14: 632 | B14: Pomoći od međunarodnih organizacija te institucija i tijela EU (šifre 6321 do 6324) | C14: 632 | D14: =SUM(D15:D18) -> 0 | E14: =SUM(E15:E18) -> 0
A15: 6321 | B15: Tekuće pomoći od međunarodnih organizacija | C15: 6321
A16: 6322 | B16: Kapitalne pomoći od međunarodnih organizacija | C16: 6322
A17: 6323 | B17: Tekuće pomoći od institucija i tijela EU | C17: 6323
A18: 6324 | B18: Kapitalne pomoći od institucija i tijela EU | C18: 6324
A19: 638 | B19: Pomoći temeljem prijenosa EU sredstava (šifre 6381+6382) | C19: 638 | D19: =D20+D25 -> 0 | E19: =E20+E25 -> 251060.83
A20: 6381 | B20: Tekuće pomoći temeljem prijenosa EU sredstava (šifre 63811 do 63814) | C20: 6381 | D20: =SUM(D21:D24) -> 0 | E20: =SUM(E21:E24) -> 251060.83
A21: 63811 | B21: Tekuće pomoći iz državnog proračuna temeljem prijenosa EU sredstava | C21: 63811 | E21: 251060.83
A22: 63812 | B22: Tekuće pomoći iz proračuna JLP(R)S temeljem prijenosa EU sredstava | C22: 63812
A23: 63813 | B23: Tekuće pomoći od proračunskog korisnika drugog proračuna temeljem prijenosa EU sredstava | C23: 63813
A24: 63814 | B24: Tekuće pomoći od izvaproračunskog korisnika temeljem prijenosa EU sredstava | C24: 63814
A25: 6382 | B25: Kapitalne pomoći temeljem prijenosa EU sredstava (šifre 63821 do 63824) | C25: 6382 | D25: =SUM(D26:D29) -> 0 | E25: =SUM(E26:E29) -> 0
A26: 63821 | B26: Kapitalne pomoći iz državnog proračuna temeljem prijenosa EU sredstava | C26: 63821
A27: 63822 | B27: Kapitalne pomoći iz proračuna JLP(R)S temeljem prijenosa EU sredstava | C27: 63822
A28: 63823 | B28: Kapitalne pomoći od proračunskog korisnika drugog proračuna temeljem prijenosa EU sredstava | C28: 63823
A29: 63824 | B29: Kapitalne pomoći od izvaproračunskog korisnika temeljem prijenosa EU sredstava | C29: 63824
A30: 639 | B30: Prijenosi između proračunskih korisnika istog proračuna (šifre 6391 do 6394) | C30: 639 | D30: =SUM(D31:D34) -> 0 | E30: =SUM(E31:E34) -> 0
A31: 6391 | B31: Tekući prijenosi između proračunskih korisnika istog proračuna | C31: 6391
A32: 6392 | B32: Kapitalni prijenosi između proračunskih korisnika istog proračuna | C32: 6392
A33: 6393 | B33: Tekući prijenosi između proračunskih korisnika istog proračuna temeljem prijenosa EU sredstava | C33: 6393
A34: 6394 | B34: Kapitalni prijenosi između proračunskih korisnika istog proračuna temeljem prijenosa EU sredstava | C34: 6394
A35: 671 | B35: Prihodi iz nadležnog proračuna za financiranje redovne djelatnosti proračunskih korisnika (šifre 6711 do 6714) | C35: 671 | D35: =SUM(D36:D38) -> 0 | E35: =SUM(E36:E38) -> 0
A36: 6711 | B36: Prihodi iz nadležnog proračuna za financiranje rashoda poslovanja | C36: 6711
A37: 6712 | B37: Prihodi iz nadležnog proračuna za financiranje rashoda za nabavu nefinancijske imovine | C37: 6712
A38: 6714 | B38: Prihodi iz nadležnog proračuna za financiranje izdataka za financijsku imovinu i otplatu zajmova | C38: 6714
A39: 8 | B39: PRIMICI OD FINANCIJSKE IMOVINE I ZADUŽIVANJA (šifra 841) | C39: 8 | D39: =D40 -> 0 | E39: =E40 -> 0
A40: 841 | B40: Primljeni krediti i zajmovi od međunarodnih organizacija, institucija i tijela EU te inozemnih vlada (šifre 8413+8414) | C40: 841 | D40: =SUM(D41:D42) -> 0 | E40: =SUM(E41:E42) -> 0
...

Sheet 562
A1: Obveznik: | B1: OPĆINA DONJA MOTIČINA | C1: Razina: | D1: 22 | E1: Razdoblje: | F1: 2026-09
A2: EU IZVJEŠTAJ PO IZVORIMA FINANCIRANJA - 562 KOHEZIJSKI FOND
A3: Račun iz Rač. plana | B3: Opis stavke | C3: Šifra | D3: Izvor financiranja za praćenje EU sredstava
A4: 1 | B4: 2 | C4: 3 | D4: 4 | E4: 5
A5: PRIHODI I PRIMICI | D5: Ostvareno u izvještajnom razdoblju prethodne godine | E5: Ostvareno u izvještajnom razdoblju tekuće godine
A6: 6 | B6: PRIHODI POSLOVANJA (šifre 631+632+638+639+671) | C6: 6 | D6: =+D7+D14+D19+D30+D35 -> 0 | E6: =+E7+E14+E19+E30+E35 -> 0
A7: 631 | B7: Pomoći od inozemnih vlada (šifre 6311+6312) | C7: 631 | D7: =D8+D11 -> 0 | E7: =E8+E11 -> 0
A8: 6311 | B8: Tekuće pomoći od inozemnih vlada (šifre 63111+63112) | C8: 6311 | D8: =SUM(D9:D10) -> 0 | E8: =SUM(E9:E10) -> 0
A9: 63111 | B9: Tekuće pomoći od inozemnih vlada u EU | C9: 63111
A10: 63112 | B10: Tekuće pomoći od inozemnih vlada izvan EU | C10: 63112
A11: 6312 | B11: Kapitalne pomoći od inozemnih vlada (šifre 63121+63122) | C11: 6312 | D11: =SUM(D12:D13) -> 0 | E11: =SUM(E12:E13) -> 0
A12: 63121 | B12: Kapitalne pomoći od inozemnih vlada u EU | C12: 63121
A13: 63122 | B13: Kapitalne pomoći od inozemnih vlada izvan EU | C13: 63122
A14: 632 | B14: Pomoći od međunarodnih organizacija te institucija i tijela EU (šifre 6321 do 6324) | C14: 632 | D14: =SUM(D15:D18) -> 0 | E14: =SUM(E15:E18) -> 0
A15: 6321 | B15: Tekuće pomoći od međunarodnih organizacija | C15: 6321
A16: 6322 | B16: Kapitalne pomoći od međunarodnih organizacija | C16: 6322
A17: 6323 | B17: Tekuće pomoći od institucija i tijela EU | C17: 6323
A18: 6324 | B18: Kapitalne pomoći od institucija i tijela EU | C18: 6324
A19: 638 | B19: Pomoći temeljem prijenosa EU sredstava (šifre 6381+6382) | C19: 638 | D19: =D20+D25 -> 0 | E19: =E20+E25 -> 0
A20: 6381 | B20: Tekuće pomoći temeljem prijenosa EU sredstava (šifre 63811 do 63814) | C20: 6381 | D20: =SUM(D21:D24) -> 0 | E20: =SUM(E21:E24) -> 0
A21: 63811 | B21: Tekuće pomoći iz državnog proračuna temeljem prijenosa EU sredstava | C21: 63811
A22: 63812 | B22: Tekuće pomoći iz proračuna JLP(R)S temeljem prijenosa EU sredstava | C22: 63812
A23: 63813 | B23: Tekuće pomoći od proračunskog korisnika drugog proračuna temeljem prijenosa EU sredstava | C23: 63813
A24: 63814 | B24: Tekuće pomoći od izvaproračunskog korisnika temeljem prijenosa EU sredstava | C24: 63814
A25: 6382 | B25: Kapitalne pomoći temeljem prijenosa EU sredstava (šifre 63821 do 63824) | C25: 6382 | D25: =SUM(D26:D29) -> 0 | E25: =SUM(E26:E29) -> 0
A26: 63821 | B26: Kapitalne pomoći iz državnog proračuna temeljem prijenosa EU sredstava | C26: 63821
A27: 63822 | B27: Kapitalne pomoći iz proračuna JLP(R)S temeljem prijenosa EU sredstava | C27: 63822
A28: 63823 | B28: Kapitalne pomoći od proračunskog korisnika drugog proračuna temeljem prijenosa EU sredstava | C28: 63823
A29: 63824 | B29: Kapitalne pomoći od izvaproračunskog korisnika temeljem prijenosa EU sredstava | C29: 63824
A30: 639 | B30: Prijenosi između proračunskih korisnika istog proračuna (šifre 6391 do 6394) | C30: 639 | D30: =SUM(D31:D34) -> 0 | E30: =SUM(E31:E34) -> 0
A31: 6391 | B31: Tekući prijenosi između proračunskih korisnika istog proračuna | C31: 6391
A32: 6392 | B32: Kapitalni prijenosi između proračunskih korisnika istog proračuna | C32: 6392
A33: 6393 | B33: Tekući prijenosi između proračunskih korisnika istog proračuna temeljem prijenosa EU sredstava | C33: 6393
A34: 6394 | B34: Kapitalni prijenosi između proračunskih korisnika istog proračuna temeljem prijenosa EU sredstava | C34: 6394
A35: 671 | B35: Prihodi iz nadležnog proračuna za financiranje redovne djelatnosti proračunskih korisnika (šifre 6711 do 6714) | C35: 671 | D35: =SUM(D36:D38) -> 0 | E35: =SUM(E36:E38) -> 0
A36: 6711 | B36: Prihodi iz nadležnog proračuna za financiranje rashoda poslovanja | C36: 6711
A37: 6712 | B37: Prihodi iz nadležnog proračuna za financiranje rashoda za nabavu nefinancijske imovine | C37: 6712
A38: 6714 | B38: Prihodi iz nadležnog proračuna za financiranje izdataka za financijsku imovinu i otplatu zajmova | C38: 6714
A39: 8 | B39: PRIMICI OD FINANCIJSKE IMOVINE I ZADUŽIVANJA (šifra 841) | C39: 8 | D39: =D40 -> 0 | E39: =E40 -> 0
A40: 841 | B40: Primljeni krediti i zajmovi od međunarodnih organizacija, institucija i tijela EU te inozemnih vlada (šifre 8413+8414) | C40: 841 | D40: =SUM(D41:D42) -> 0 | E40: =SUM(E41:E42) -> 0
...

Sheet 563
A1: Obveznik: | B1: OPĆINA DONJA MOTIČINA | C1: Razina: | D1: 22 | E1: Razdoblje: | F1: 2026-09
A2: EU IZVJEŠTAJ PO IZVORIMA FINANCIRANJA - 563 EUROPSKI FOND ZA REGIONALNI RAZVOJ
A3: Račun iz Rač. plana | B3: Opis stavke | C3: Šifra | D3: Izvor financiranja za praćenje EU sredstava
A4: 1 | B4: 2 | C4: 3 | D4: 4 | E4: 5
A5: PRIHODI I PRIMICI | D5: Ostvareno u izvještajnom razdoblju prethodne godine | E5: Ostvareno u izvještajnom razdoblju tekuće godine
A6: 6 | B6: PRIHODI POSLOVANJA (šifre 631+632+638+639+671) | C6: 6 | D6: =+D7+D14+D19+D30+D35 -> 0 | E6: =+E7+E14+E19+E30+E35 -> 0
A7: 631 | B7: Pomoći od inozemnih vlada (šifre 6311+6312) | C7: 631 | D7: =D8+D11 -> 0 | E7: =E8+E11 -> 0
A8: 6311 | B8: Tekuće pomoći od inozemnih vlada (šifre 63111+63112) | C8: 6311 | D8: =SUM(D9:D10) -> 0 | E8: =SUM(E9:E10) -> 0
A9: 63111 | B9: Tekuće pomoći od inozemnih vlada u EU | C9: 63111
A10: 63112 | B10: Tekuće pomoći od inozemnih vlada izvan EU | C10: 63112
A11: 6312 | B11: Kapitalne pomoći od inozemnih vlada (šifre 63121+63122) | C11: 6312 | D11: =SUM(D12:D13) -> 0 | E11: =SUM(E12:E13) -> 0
A12: 63121 | B12: Kapitalne pomoći od inozemnih vlada u EU | C12: 63121
A13: 63122 | B13: Kapitalne pomoći od inozemnih vlada izvan EU | C13: 63122
A14: 632 | B14: Pomoći od međunarodnih organizacija te institucija i tijela EU (šifre 6321 do 6324) | C14: 632 | D14: =SUM(D15:D18) -> 0 | E14: =SUM(E15:E18) -> 0
A15: 6321 | B15: Tekuće pomoći od međunarodnih organizacija | C15: 6321
A16: 6322 | B16: Kapitalne pomoći od međunarodnih organizacija | C16: 6322
A17: 6323 | B17: Tekuće pomoći od institucija i tijela EU | C17: 6323
A18: 6324 | B18: Kapitalne pomoći od institucija i tijela EU | C18: 6324
A19: 638 | B19: Pomoći temeljem prijenosa EU sredstava (šifre 6381+6382) | C19: 638 | D19: =D20+D25 -> 0 | E19: =E20+E25 -> 0
A20: 6381 | B20: Tekuće pomoći temeljem prijenosa EU sredstava (šifre 63811 do 63814) | C20: 6381 | D20: =SUM(D21:D24) -> 0 | E20: =SUM(E21:E24) -> 0
A21: 63811 | B21: Tekuće pomoći iz državnog proračuna temeljem prijenosa EU sredstava | C21: 63811
A22: 63812 | B22: Tekuće pomoći iz proračuna JLP(R)S temeljem prijenosa EU sredstava | C22: 63812
A23: 63813 | B23: Tekuće pomoći od proračunskog korisnika drugog proračuna temeljem prijenosa EU sredstava | C23: 63813
A24: 63814 | B24: Tekuće pomoći od izvaproračunskog korisnika temeljem prijenosa EU sredstava | C24: 63814
A25: 6382 | B25: Kapitalne pomoći temeljem prijenosa EU sredstava (šifre 63821 do 63824) | C25: 6382 | D25: =SUM(D26:D29) -> 0 | E25: =SUM(E26:E29) -> 0
A26: 63821 | B26: Kapitalne pomoći iz državnog proračuna temeljem prijenosa EU sredstava | C26: 63821
A27: 63822 | B27: Kapitalne pomoći iz proračuna JLP(R)S temeljem prijenosa EU sredstava | C27: 63822
A28: 63823 | B28: Kapitalne pomoći od proračunskog korisnika drugog proračuna temeljem prijenosa EU sredstava | C28: 63823
A29: 63824 | B29: Kapitalne pomoći od izvaproračunskog korisnika temeljem prijenosa EU sredstava | C29: 63824
A30: 639 | B30: Prijenosi između proračunskih korisnika istog proračuna (šifre 6391 do 6394) | C30: 639 | D30: =SUM(D31:D34) -> 0 | E30: =SUM(E31:E34) -> 0
A31: 6391 | B31: Tekući prijenosi između proračunskih korisnika istog proračuna | C31: 6391
A32: 6392 | B32: Kapitalni prijenosi između proračunskih korisnika istog proračuna | C32: 6392
A33: 6393 | B33: Tekući prijenosi između proračunskih korisnika istog proračuna temeljem prijenosa EU sredstava | C33: 6393
A34: 6394 | B34: Kapitalni prijenosi između proračunskih korisnika istog proračuna temeljem prijenosa EU sredstava | C34: 6394
A35: 671 | B35: Prihodi iz nadležnog proračuna za financiranje redovne djelatnosti proračunskih korisnika (šifre 6711 do 6714) | C35: 671 | D35: =SUM(D36:D38) -> 0 | E35: =SUM(E36:E38) -> 0
A36: 6711 | B36: Prihodi iz nadležnog proračuna za financiranje rashoda poslovanja | C36: 6711
A37: 6712 | B37: Prihodi iz nadležnog proračuna za financiranje rashoda za nabavu nefinancijske imovine | C37: 6712
A38: 6714 | B38: Prihodi iz nadležnog proračuna za financiranje izdataka za financijsku imovinu i otplatu zajmova | C38: 6714
A39: 8 | B39: PRIMICI OD FINANCIJSKE IMOVINE I ZADUŽIVANJA (šifra 841) | C39: 8 | D39: =D40 -> 0 | E39: =E40 -> 0
A40: 841 | B40: Primljeni krediti i zajmovi od međunarodnih organizacija, institucija i tijela EU te inozemnih vlada (šifre 8413+8414) | C40: 841 | D40: =SUM(D41:D42) -> 0 | E40: =SUM(E41:E42) -> 0
...

Sheet 564
A1: Obveznik: | B1: OPĆINA DONJA MOTIČINA | C1: Razina: | D1: 22 | E1: Razdoblje: | F1: 2026-09
A2: EU IZVJEŠTAJ PO IZVORIMA FINANCIRANJA - 564 FOND ZA POMORSTVO, RIBARSTVO I AKVAKULTURU
A3: Račun iz Rač. plana | B3: Opis stavke | C3: Šifra | D3: Izvor financiranja za praćenje EU sredstava
A4: 1 | B4: 2 | C4: 3 | D4: 4 | E4: 5
A5: PRIHODI I PRIMICI | D5: Ostvareno u izvještajnom razdoblju prethodne godine | E5: Ostvareno u izvještajnom razdoblju tekuće godine
A6: 6 | B6: PRIHODI POSLOVANJA (šifre 631+632+638+639+671) | C6: 6 | D6: =+D7+D14+D19+D30+D35 -> 0 | E6: =+E7+E14+E19+E30+E35 -> 0
A7: 631 | B7: Pomoći od inozemnih vlada (šifre 6311+6312) | C7: 631 | D7: =D8+D11 -> 0 | E7: =E8+E11 -> 0
A8: 6311 | B8: Tekuće pomoći od inozemnih vlada (šifre 63111+63112) | C8: 6311 | D8: =SUM(D9:D10) -> 0 | E8: =SUM(E9:E10) -> 0
A9: 63111 | B9: Tekuće pomoći od inozemnih vlada u EU | C9: 63111
A10: 63112 | B10: Tekuće pomoći od inozemnih vlada izvan EU | C10: 63112
A11: 6312 | B11: Kapitalne pomoći od inozemnih vlada (šifre 63121+63122) | C11: 6312 | D11: =SUM(D12:D13) -> 0 | E11: =SUM(E12:E13) -> 0
A12: 63121 | B12: Kapitalne pomoći od inozemnih vlada u EU | C12: 63121
A13: 63122 | B13: Kapitalne pomoći od inozemnih vlada izvan EU | C13: 63122
A14: 632 | B14: Pomoći od međunarodnih organizacija te institucija i tijela EU (šifre 6321 do 6324) | C14: 632 | D14: =SUM(D15:D18) -> 0 | E14: =SUM(E15:E18) -> 0
A15: 6321 | B15: Tekuće pomoći od međunarodnih organizacija | C15: 6321
A16: 6322 | B16: Kapitalne pomoći od međunarodnih organizacija | C16: 6322
A17: 6323 | B17: Tekuće pomoći od institucija i tijela EU | C17: 6323
A18: 6324 | B18: Kapitalne pomoći od institucija i tijela EU | C18: 6324
A19: 638 | B19: Pomoći temeljem prijenosa EU sredstava (šifre 6381+6382) | C19: 638 | D19: =D20+D25 -> 0 | E19: =E20+E25 -> 0
A20: 6381 | B20: Tekuće pomoći temeljem prijenosa EU sredstava (šifre 63811 do 63814) | C20: 6381 | D20: =SUM(D21:D24) -> 0 | E20: =SUM(E21:E24) -> 0
A21: 63811 | B21: Tekuće pomoći iz državnog proračuna temeljem prijenosa EU sredstava | C21: 63811
A22: 63812 | B22: Tekuće pomoći iz proračuna JLP(R)S temeljem prijenosa EU sredstava | C22: 63812
A23: 63813 | B23: Tekuće pomoći od proračunskog korisnika drugog proračuna temeljem prijenosa EU sredstava | C23: 63813
A24: 63814 | B24: Tekuće pomoći od izvaproračunskog korisnika temeljem prijenosa EU sredstava | C24: 63814
A25: 6382 | B25: Kapitalne pomoći temeljem prijenosa EU sredstava (šifre 63821 do 63824) | C25: 6382 | D25: =SUM(D26:D29) -> 0 | E25: =SUM(E26:E29) -> 0
A26: 63821 | B26: Kapitalne pomoći iz državnog proračuna temeljem prijenosa EU sredstava | C26: 63821
A27: 63822 | B27: Kapitalne pomoći iz proračuna JLP(R)S temeljem prijenosa EU sredstava | C27: 63822
A28: 63823 | B28: Kapitalne pomoći od proračunskog korisnika drugog proračuna temeljem prijenosa EU sredstava | C28: 63823
A29: 63824 | B29: Kapitalne pomoći od izvaproračunskog korisnika temeljem prijenosa EU sredstava | C29: 63824
A30: 639 | B30: Prijenosi između proračunskih korisnika istog proračuna (šifre 6391 do 6394) | C30: 639 | D30: =SUM(D31:D34) -> 0 | E30: =SUM(E31:E34) -> 0
A31: 6391 | B31: Tekući prijenosi između proračunskih korisnika istog proračuna | C31: 6391
A32: 6392 | B32: Kapitalni prijenosi između proračunskih korisnika istog proračuna | C32: 6392
A33: 6393 | B33: Tekući prijenosi između proračunskih korisnika istog proračuna temeljem prijenosa EU sredstava | C33: 6393
A34: 6394 | B34: Kapitalni prijenosi između proračunskih korisnika istog proračuna temeljem prijenosa EU sredstava | C34: 6394
A35: 671 | B35: Prihodi iz nadležnog proračuna za financiranje redovne djelatnosti proračunskih korisnika (šifre 6711 do 6714) | C35: 671 | D35: =SUM(D36:D38) -> 0 | E35: =SUM(E36:E38) -> 0
A36: 6711 | B36: Prihodi iz nadležnog proračuna za financiranje rashoda poslovanja | C36: 6711
A37: 6712 | B37: Prihodi iz nadležnog proračuna za financiranje rashoda za nabavu nefinancijske imovine | C37: 6712
A38: 6714 | B38: Prihodi iz nadležnog proračuna za financiranje izdataka za financijsku imovinu i otplatu zajmova | C38: 6714
A39: 8 | B39: PRIMICI OD FINANCIJSKE IMOVINE I ZADUŽIVANJA (šifra 841) | C39: 8 | D39: =D40 -> 0 | E39: =E40 -> 0
A40: 841 | B40: Primljeni krediti i zajmovi od međunarodnih organizacija, institucija i tijela EU te inozemnih vlada (šifre 8413+8414) | C40: 841 | D40: =SUM(D41:D42) -> 0 | E40: =SUM(E41:E42) -> 0
...

Sheet 565
A1: Obveznik: | B1: OPĆINA DONJA MOTIČINA | C1: Razina: | D1: 22 | E1: Razdoblje: | F1: 2026-09
A2: EU IZVJEŠTAJ PO IZVORIMA FINANCIRANJA - 565 EUROPSKI POLJOPRIVREDNI FOND ZA RURALNI RAZVOJ
A3: Račun iz Rač. plana | B3: Opis stavke | C3: Šifra | D3: Izvor financiranja za praćenje EU sredstava
A4: 1 | B4: 2 | C4: 3 | D4: 4 | E4: 5
A5: PRIHODI I PRIMICI | D5: Ostvareno u izvještajnom razdoblju prethodne godine | E5: Ostvareno u izvještajnom razdoblju tekuće godine
A6: 6 | B6: PRIHODI POSLOVANJA (šifre 631+632+638+639+671) | C6: 6 | D6: =+D7+D14+D19+D30+D35 -> 0 | E6: =+E7+E14+E19+E30+E35 -> 0
A7: 631 | B7: Pomoći od inozemnih vlada (šifre 6311+6312) | C7: 631 | D7: =D8+D11 -> 0 | E7: =E8+E11 -> 0
A8: 6311 | B8: Tekuće pomoći od inozemnih vlada (šifre 63111+63112) | C8: 6311 | D8: =SUM(D9:D10) -> 0 | E8: =SUM(E9:E10) -> 0
A9: 63111 | B9: Tekuće pomoći od inozemnih vlada u EU | C9: 63111
A10: 63112 | B10: Tekuće pomoći od inozemnih vlada izvan EU | C10: 63112
A11: 6312 | B11: Kapitalne pomoći od inozemnih vlada (šifre 63121+63122) | C11: 6312 | D11: =SUM(D12:D13) -> 0 | E11: =SUM(E12:E13) -> 0
A12: 63121 | B12: Kapitalne pomoći od inozemnih vlada u EU | C12: 63121
A13: 63122 | B13: Kapitalne pomoći od inozemnih vlada izvan EU | C13: 63122
A14: 632 | B14: Pomoći od međunarodnih organizacija te institucija i tijela EU (šifre 6321 do 6324) | C14: 632 | D14: =SUM(D15:D18) -> 0 | E14: =SUM(E15:E18) -> 0
A15: 6321 | B15: Tekuće pomoći od međunarodnih organizacija | C15: 6321
A16: 6322 | B16: Kapitalne pomoći od međunarodnih organizacija | C16: 6322
A17: 6323 | B17: Tekuće pomoći od institucija i tijela EU | C17: 6323
A18: 6324 | B18: Kapitalne pomoći od institucija i tijela EU | C18: 6324
A19: 638 | B19: Pomoći temeljem prijenosa EU sredstava (šifre 6381+6382) | C19: 638 | D19: =D20+D25 -> 0 | E19: =E20+E25 -> 0
A20: 6381 | B20: Tekuće pomoći temeljem prijenosa EU sredstava (šifre 63811 do 63814) | C20: 6381 | D20: =SUM(D21:D24) -> 0 | E20: =SUM(E21:E24) -> 0
A21: 63811 | B21: Tekuće pomoći iz državnog proračuna temeljem prijenosa EU sredstava | C21: 63811
A22: 63812 | B22: Tekuće pomoći iz proračuna JLP(R)S temeljem prijenosa EU sredstava | C22: 63812
A23: 63813 | B23: Tekuće pomoći od proračunskog korisnika drugog proračuna temeljem prijenosa EU sredstava | C23: 63813
A24: 63814 | B24: Tekuće pomoći od izvaproračunskog korisnika temeljem prijenosa EU sredstava | C24: 63814
A25: 6382 | B25: Kapitalne pomoći temeljem prijenosa EU sredstava (šifre 63821 do 63824) | C25: 6382 | D25: =SUM(D26:D29) -> 0 | E25: =SUM(E26:E29) -> 0
A26: 63821 | B26: Kapitalne pomoći iz državnog proračuna temeljem prijenosa EU sredstava | C26: 63821
A27: 63822 | B27: Kapitalne pomoći iz proračuna JLP(R)S temeljem prijenosa EU sredstava | C27: 63822
A28: 63823 | B28: Kapitalne pomoći od proračunskog korisnika drugog proračuna temeljem prijenosa EU sredstava | C28: 63823
A29: 63824 | B29: Kapitalne pomoći od izvaproračunskog korisnika temeljem prijenosa EU sredstava | C29: 63824
A30: 639 | B30: Prijenosi između proračunskih korisnika istog proračuna (šifre 6391 do 6394) | C30: 639 | D30: =SUM(D31:D34) -> 0 | E30: =SUM(E31:E34) -> 0
A31: 6391 | B31: Tekući prijenosi između proračunskih korisnika istog proračuna | C31: 6391
A32: 6392 | B32: Kapitalni prijenosi između proračunskih korisnika istog proračuna | C32: 6392
A33: 6393 | B33: Tekući prijenosi između proračunskih korisnika istog proračuna temeljem prijenosa EU sredstava | C33: 6393
A34: 6394 | B34: Kapitalni prijenosi između proračunskih korisnika istog proračuna temeljem prijenosa EU sredstava | C34: 6394
A35: 671 | B35: Prihodi iz nadležnog proračuna za financiranje redovne djelatnosti proračunskih korisnika (šifre 6711 do 6714) | C35: 671 | D35: =SUM(D36:D38) -> 0 | E35: =SUM(E36:E38) -> 0
A36: 6711 | B36: Prihodi iz nadležnog proračuna za financiranje rashoda poslovanja | C36: 6711
A37: 6712 | B37: Prihodi iz nadležnog proračuna za financiranje rashoda za nabavu nefinancijske imovine | C37: 6712
A38: 6714 | B38: Prihodi iz nadležnog proračuna za financiranje izdataka za financijsku imovinu i otplatu zajmova | C38: 6714
A39: 8 | B39: PRIMICI OD FINANCIJSKE IMOVINE I ZADUŽIVANJA (šifra 841) | C39: 8 | D39: =D40 -> 0 | E39: =E40 -> 0
A40: 841 | B40: Primljeni krediti i zajmovi od međunarodnih organizacija, institucija i tijela EU te inozemnih vlada (šifre 8413+8414) | C40: 841 | D40: =SUM(D41:D42) -> 0 | E40: =SUM(E41:E42) -> 0
...

Sheet 566
A1: Obveznik: | B1: OPĆINA DONJA MOTIČINA | C1: Razina: | D1: 22 | E1: Razdoblje: | F1: 2026-09
A2: EU IZVJEŠTAJ PO IZVORIMA FINANCIRANJA - 566 MODERNIZACIJSKI FOND
A3: Račun iz Rač. plana | B3: Opis stavke | C3: Šifra | D3: Izvor financiranja za praćenje EU sredstava
A4: 1 | B4: 2 | C4: 3 | D4: 4 | E4: 5
A5: PRIHODI I PRIMICI | D5: Ostvareno u izvještajnom razdoblju prethodne godine | E5: Ostvareno u izvještajnom razdoblju tekuće godine
A6: 6 | B6: PRIHODI POSLOVANJA (šifre 631+632+638+639+671) | C6: 6 | D6: =+D7+D14+D19+D30+D35 -> 0 | E6: =+E7+E14+E19+E30+E35 -> 0
A7: 631 | B7: Pomoći od inozemnih vlada (šifre 6311+6312) | C7: 631 | D7: =D8+D11 -> 0 | E7: =E8+E11 -> 0
A8: 6311 | B8: Tekuće pomoći od inozemnih vlada (šifre 63111+63112) | C8: 6311 | D8: =SUM(D9:D10) -> 0 | E8: =SUM(E9:E10) -> 0
A9: 63111 | B9: Tekuće pomoći od inozemnih vlada u EU | C9: 63111
A10: 63112 | B10: Tekuće pomoći od inozemnih vlada izvan EU | C10: 63112
A11: 6312 | B11: Kapitalne pomoći od inozemnih vlada (šifre 63121+63122) | C11: 6312 | D11: =SUM(D12:D13) -> 0 | E11: =SUM(E12:E13) -> 0
A12: 63121 | B12: Kapitalne pomoći od inozemnih vlada u EU | C12: 63121
A13: 63122 | B13: Kapitalne pomoći od inozemnih vlada izvan EU | C13: 63122
A14: 632 | B14: Pomoći od međunarodnih organizacija te institucija i tijela EU (šifre 6321 do 6324) | C14: 632 | D14: =SUM(D15:D18) -> 0 | E14: =SUM(E15:E18) -> 0
A15: 6321 | B15: Tekuće pomoći od međunarodnih organizacija | C15: 6321
A16: 6322 | B16: Kapitalne pomoći od međunarodnih organizacija | C16: 6322
A17: 6323 | B17: Tekuće pomoći od institucija i tijela EU | C17: 6323
A18: 6324 | B18: Kapitalne pomoći od institucija i tijela EU | C18: 6324
A19: 638 | B19: Pomoći temeljem prijenosa EU sredstava (šifre 6381+6382) | C19: 638 | D19: =D20+D25 -> 0 | E19: =E20+E25 -> 0
A20: 6381 | B20: Tekuće pomoći temeljem prijenosa EU sredstava (šifre 63811 do 63814) | C20: 6381 | D20: =SUM(D21:D24) -> 0 | E20: =SUM(E21:E24) -> 0
A21: 63811 | B21: Tekuće pomoći iz državnog proračuna temeljem prijenosa EU sredstava | C21: 63811
A22: 63812 | B22: Tekuće pomoći iz proračuna JLP(R)S temeljem prijenosa EU sredstava | C22: 63812
A23: 63813 | B23: Tekuće pomoći od proračunskog korisnika drugog proračuna temeljem prijenosa EU sredstava | C23: 63813
A24: 63814 | B24: Tekuće pomoći od izvaproračunskog korisnika temeljem prijenosa EU sredstava | C24: 63814
A25: 6382 | B25: Kapitalne pomoći temeljem prijenosa EU sredstava (šifre 63821 do 63824) | C25: 6382 | D25: =SUM(D26:D29) -> 0 | E25: =SUM(E26:E29) -> 0
A26: 63821 | B26: Kapitalne pomoći iz državnog proračuna temeljem prijenosa EU sredstava | C26: 63821
A27: 63822 | B27: Kapitalne pomoći iz proračuna JLP(R)S temeljem prijenosa EU sredstava | C27: 63822
A28: 63823 | B28: Kapitalne pomoći od proračunskog korisnika drugog proračuna temeljem prijenosa EU sredstava | C28: 63823
A29: 63824 | B29: Kapitalne pomoći od izvaproračunskog korisnika temeljem prijenosa EU sredstava | C29: 63824
A30: 639 | B30: Prijenosi između proračunskih korisnika istog proračuna (šifre 6391 do 6394) | C30: 639 | D30: =SUM(D31:D34) -> 0 | E30: =SUM(E31:E34) -> 0
A31: 6391 | B31: Tekući prijenosi između proračunskih korisnika istog proračuna | C31: 6391
A32: 6392 | B32: Kapitalni prijenosi između proračunskih korisnika istog proračuna | C32: 6392
A33: 6393 | B33: Tekući prijenosi između proračunskih korisnika istog proračuna temeljem prijenosa EU sredstava | C33: 6393
A34: 6394 | B34: Kapitalni prijenosi između proračunskih korisnika istog proračuna temeljem prijenosa EU sredstava | C34: 6394
A35: 671 | B35: Prihodi iz nadležnog proračuna za financiranje redovne djelatnosti proračunskih korisnika (šifre 6711 do 6714) | C35: 671 | D35: =SUM(D36:D38) -> 0 | E35: =SUM(E36:E38) -> 0
A36: 6711 | B36: Prihodi iz nadležnog proračuna za financiranje rashoda poslovanja | C36: 6711
A37: 6712 | B37: Prihodi iz nadležnog proračuna za financiranje rashoda za nabavu nefinancijske imovine | C37: 6712
A38: 6714 | B38: Prihodi iz nadležnog proračuna za financiranje izdataka za financijsku imovinu i otplatu zajmova | C38: 6714
A39: 8 | B39: PRIMICI OD FINANCIJSKE IMOVINE I ZADUŽIVANJA (šifra 841) | C39: 8 | D39: =D40 -> 0 | E39: =E40 -> 0
A40: 841 | B40: Primljeni krediti i zajmovi od međunarodnih organizacija, institucija i tijela EU te inozemnih vlada (šifre 8413+8414) | C40: 841 | D40: =SUM(D41:D42) -> 0 | E40: =SUM(E41:E42) -> 0
...

Sheet 567
A1: Obveznik: | B1: OPĆINA DONJA MOTIČINA | C1: Razina: | D1: 22 | E1: Razdoblje: | F1: 2026-09
A2: EU IZVJEŠTAJ PO IZVORIMA FINANCIRANJA - 567 SOCIJALNI FOND ZA KLIMATSKU POLITIKU
A3: Račun iz Rač. plana | B3: Opis stavke | C3: Šifra | D3: Izvor financiranja za praćenje EU sredstava
A4: 1 | B4: 2 | C4: 3 | D4: 4 | E4: 5
A5: PRIHODI I PRIMICI | D5: Ostvareno u izvještajnom razdoblju prethodne godine | E5: Ostvareno u izvještajnom razdoblju tekuće godine
A6: 6 | B6: PRIHODI POSLOVANJA (šifre 631+632+638+639+671) | C6: 6 | D6: =+D7+D14+D19+D30+D35 -> 0 | E6: =+E7+E14+E19+E30+E35 -> 0
A7: 631 | B7: Pomoći od inozemnih vlada (šifre 6311+6312) | C7: 631 | D7: =D8+D11 -> 0 | E7: =E8+E11 -> 0
A8: 6311 | B8: Tekuće pomoći od inozemnih vlada (šifre 63111+63112) | C8: 6311 | D8: =SUM(D9:D10) -> 0 | E8: =SUM(E9:E10) -> 0
A9: 63111 | B9: Tekuće pomoći od inozemnih vlada u EU | C9: 63111
A10: 63112 | B10: Tekuće pomoći od inozemnih vlada izvan EU | C10: 63112
A11: 6312 | B11: Kapitalne pomoći od inozemnih vlada (šifre 63121+63122) | C11: 6312 | D11: =SUM(D12:D13) -> 0 | E11: =SUM(E12:E13) -> 0
A12: 63121 | B12: Kapitalne pomoći od inozemnih vlada u EU | C12: 63121
A13: 63122 | B13: Kapitalne pomoći od inozemnih vlada izvan EU | C13: 63122
A14: 632 | B14: Pomoći od međunarodnih organizacija te institucija i tijela EU (šifre 6321 do 6324) | C14: 632 | D14: =SUM(D15:D18) -> 0 | E14: =SUM(E15:E18) -> 0
A15: 6321 | B15: Tekuće pomoći od međunarodnih organizacija | C15: 6321
A16: 6322 | B16: Kapitalne pomoći od međunarodnih organizacija | C16: 6322
A17: 6323 | B17: Tekuće pomoći od institucija i tijela EU | C17: 6323
A18: 6324 | B18: Kapitalne pomoći od institucija i tijela EU | C18: 6324
A19: 638 | B19: Pomoći temeljem prijenosa EU sredstava (šifre 6381+6382) | C19: 638 | D19: =D20+D25 -> 0 | E19: =E20+E25 -> 0
A20: 6381 | B20: Tekuće pomoći temeljem prijenosa EU sredstava (šifre 63811 do 63814) | C20: 6381 | D20: =SUM(D21:D24) -> 0 | E20: =SUM(E21:E24) -> 0
A21: 63811 | B21: Tekuće pomoći iz državnog proračuna temeljem prijenosa EU sredstava | C21: 63811
A22: 63812 | B22: Tekuće pomoći iz proračuna JLP(R)S temeljem prijenosa EU sredstava | C22: 63812
A23: 63813 | B23: Tekuće pomoći od proračunskog korisnika drugog proračuna temeljem prijenosa EU sredstava | C23: 63813
A24: 63814 | B24: Tekuće pomoći od izvaproračunskog korisnika temeljem prijenosa EU sredstava | C24: 63814
A25: 6382 | B25: Kapitalne pomoći temeljem prijenosa EU sredstava (šifre 63821 do 63824) | C25: 6382 | D25: =SUM(D26:D29) -> 0 | E25: =SUM(E26:E29) -> 0
A26: 63821 | B26: Kapitalne pomoći iz državnog proračuna temeljem prijenosa EU sredstava | C26: 63821
A27: 63822 | B27: Kapitalne pomoći iz proračuna JLP(R)S temeljem prijenosa EU sredstava | C27: 63822
A28: 63823 | B28: Kapitalne pomoći od proračunskog korisnika drugog proračuna temeljem prijenosa EU sredstava | C28: 63823
A29: 63824 | B29: Kapitalne pomoći od izvaproračunskog korisnika temeljem prijenosa EU sredstava | C29: 63824
A30: 639 | B30: Prijenosi između proračunskih korisnika istog proračuna (šifre 6391 do 6394) | C30: 639 | D30: =SUM(D31:D34) -> 0 | E30: =SUM(E31:E34) -> 0
A31: 6391 | B31: Tekući prijenosi između proračunskih korisnika istog proračuna | C31: 6391
A32: 6392 | B32: Kapitalni prijenosi između proračunskih korisnika istog proračuna | C32: 6392
A33: 6393 | B33: Tekući prijenosi između proračunskih korisnika istog proračuna temeljem prijenosa EU sredstava | C33: 6393
A34: 6394 | B34: Kapitalni prijenosi između proračunskih korisnika istog proračuna temeljem prijenosa EU sredstava | C34: 6394
A35: 671 | B35: Prihodi iz nadležnog proračuna za financiranje redovne djelatnosti proračunskih korisnika (šifre 6711 do 6714) | C35: 671 | D35: =SUM(D36:D38) -> 0 | E35: =SUM(E36:E38) -> 0
A36: 6711 | B36: Prihodi iz nadležnog proračuna za financiranje rashoda poslovanja | C36: 6711
A37: 6712 | B37: Prihodi iz nadležnog proračuna za financiranje rashoda za nabavu nefinancijske imovine | C37: 6712
A38: 6714 | B38: Prihodi iz nadležnog proračuna za financiranje izdataka za financijsku imovinu i otplatu zajmova | C38: 6714
A39: 8 | B39: PRIMICI OD FINANCIJSKE IMOVINE I ZADUŽIVANJA (šifra 841) | C39: 8 | D39: =D40 -> 0 | E39: =E40 -> 0
A40: 841 | B40: Primljeni krediti i zajmovi od međunarodnih organizacija, institucija i tijela EU te inozemnih vlada (šifre 8413+8414) | C40: 841 | D40: =SUM(D41:D42) -> 0 | E40: =SUM(E41:E42) -> 0
...

Sheet 575
A1: Obveznik: | B1: OPĆINA DONJA MOTIČINA | C1: Razina: | D1: 22 | E1: Razdoblje: | F1: 2026-09
A2: EU IZVJEŠTAJ PO IZVORIMA FINANCIRANJA - 575 FOND ZA AZIL, MIGRACIJE I INTEGRACIJU
A3: Račun iz Rač. plana | B3: Opis stavke | C3: Šifra | D3: Izvor financiranja za praćenje EU sredstava
A4: 1 | B4: 2 | C4: 3 | D4: 4 | E4: 5
A5: PRIHODI I PRIMICI | D5: Ostvareno u izvještajnom razdoblju prethodne godine | E5: Ostvareno u izvještajnom razdoblju tekuće godine
A6: 6 | B6: PRIHODI POSLOVANJA (šifre 631+632+638+639+671) | C6: 6 | D6: =+D7+D14+D19+D30+D35 -> 0 | E6: =+E7+E14+E19+E30+E35 -> 0
A7: 631 | B7: Pomoći od inozemnih vlada (šifre 6311+6312) | C7: 631 | D7: =D8+D11 -> 0 | E7: =E8+E11 -> 0
A8: 6311 | B8: Tekuće pomoći od inozemnih vlada (šifre 63111+63112) | C8: 6311 | D8: =SUM(D9:D10) -> 0 | E8: =SUM(E9:E10) -> 0
A9: 63111 | B9: Tekuće pomoći od inozemnih vlada u EU | C9: 63111
A10: 63112 | B10: Tekuće pomoći od inozemnih vlada izvan EU | C10: 63112
A11: 6312 | B11: Kapitalne pomoći od inozemnih vlada (šifre 63121+63122) | C11: 6312 | D11: =SUM(D12:D13) -> 0 | E11: =SUM(E12:E13) -> 0
A12: 63121 | B12: Kapitalne pomoći od inozemnih vlada u EU | C12: 63121
A13: 63122 | B13: Kapitalne pomoći od inozemnih vlada izvan EU | C13: 63122
A14: 632 | B14: Pomoći od međunarodnih organizacija te institucija i tijela EU (šifre 6321 do 6324) | C14: 632 | D14: =SUM(D15:D18) -> 0 | E14: =SUM(E15:E18) -> 0
A15: 6321 | B15: Tekuće pomoći od međunarodnih organizacija | C15: 6321
A16: 6322 | B16: Kapitalne pomoći od međunarodnih organizacija | C16: 6322
A17: 6323 | B17: Tekuće pomoći od institucija i tijela EU | C17: 6323
A18: 6324 | B18: Kapitalne pomoći od institucija i tijela EU | C18: 6324
A19: 638 | B19: Pomoći temeljem prijenosa EU sredstava (šifre 6381+6382) | C19: 638 | D19: =D20+D25 -> 0 | E19: =E20+E25 -> 0
A20: 6381 | B20: Tekuće pomoći temeljem prijenosa EU sredstava (šifre 63811 do 63814) | C20: 6381 | D20: =SUM(D21:D24) -> 0 | E20: =SUM(E21:E24) -> 0
A21: 63811 | B21: Tekuće pomoći iz državnog proračuna temeljem prijenosa EU sredstava | C21: 63811
A22: 63812 | B22: Tekuće pomoći iz proračuna JLP(R)S temeljem prijenosa EU sredstava | C22: 63812
A23: 63813 | B23: Tekuće pomoći od proračunskog korisnika drugog proračuna temeljem prijenosa EU sredstava | C23: 63813
A24: 63814 | B24: Tekuće pomoći od izvaproračunskog korisnika temeljem prijenosa EU sredstava | C24: 63814
A25: 6382 | B25: Kapitalne pomoći temeljem prijenosa EU sredstava (šifre 63821 do 63824) | C25: 6382 | D25: =SUM(D26:D29) -> 0 | E25: =SUM(E26:E29) -> 0
A26: 63821 | B26: Kapitalne pomoći iz državnog proračuna temeljem prijenosa EU sredstava | C26: 63821
A27: 63822 | B27: Kapitalne pomoći iz proračuna JLP(R)S temeljem prijenosa EU sredstava | C27: 63822
A28: 63823 | B28: Kapitalne pomoći od proračunskog korisnika drugog proračuna temeljem prijenosa EU sredstava | C28: 63823
A29: 63824 | B29: Kapitalne pomoći od izvaproračunskog korisnika temeljem prijenosa EU sredstava | C29: 63824
A30: 639 | B30: Prijenosi između proračunskih korisnika istog proračuna (šifre 6391 do 6394) | C30: 639 | D30: =SUM(D31:D34) -> 0 | E30: =SUM(E31:E34) -> 0
A31: 6391 | B31: Tekući prijenosi između proračunskih korisnika istog proračuna | C31: 6391
A32: 6392 | B32: Kapitalni prijenosi između proračunskih korisnika istog proračuna | C32: 6392
A33: 6393 | B33: Tekući prijenosi između proračunskih korisnika istog proračuna temeljem prijenosa EU sredstava | C33: 6393
A34: 6394 | B34: Kapitalni prijenosi između proračunskih korisnika istog proračuna temeljem prijenosa EU sredstava | C34: 6394
A35: 671 | B35: Prihodi iz nadležnog proračuna za financiranje redovne djelatnosti proračunskih korisnika (šifre 6711 do 6714) | C35: 671 | D35: =SUM(D36:D38) -> 0 | E35: =SUM(E36:E38) -> 0
A36: 6711 | B36: Prihodi iz nadležnog proračuna za financiranje rashoda poslovanja | C36: 6711
A37: 6712 | B37: Prihodi iz nadležnog proračuna za financiranje rashoda za nabavu nefinancijske imovine | C37: 6712
A38: 6714 | B38: Prihodi iz nadležnog proračuna za financiranje izdataka za financijsku imovinu i otplatu zajmova | C38: 6714
A39: 8 | B39: PRIMICI OD FINANCIJSKE IMOVINE I ZADUŽIVANJA (šifra 841) | C39: 8 | D39: =D40 -> 0 | E39: =E40 -> 0
A40: 841 | B40: Primljeni krediti i zajmovi od međunarodnih organizacija, institucija i tijela EU te inozemnih vlada (šifre 8413+8414) | C40: 841 | D40: =SUM(D41:D42) -> 0 | E40: =SUM(E41:E42) -> 0
...

Sheet 577
A1: Obveznik: | B1: OPĆINA DONJA MOTIČINA | C1: Razina: | D1: 22 | E1: Razdoblje: | F1: 2026-09
A2: EU IZVJEŠTAJ PO IZVORIMA FINANCIRANJA - 577 FOND ZA PRAVEDNU TRANZICIJU
A3: Račun iz Rač. plana | B3: Opis stavke | C3: Šifra | D3: Izvor financiranja za praćenje EU sredstava
A4: 1 | B4: 2 | C4: 3 | D4: 4 | E4: 5
A5: PRIHODI I PRIMICI | D5: Ostvareno u izvještajnom razdoblju prethodne godine | E5: Ostvareno u izvještajnom razdoblju tekuće godine
A6: 6 | B6: PRIHODI POSLOVANJA (šifre 631+632+638+639+671) | C6: 6 | D6: =+D7+D14+D19+D30+D35 -> 0 | E6: =+E7+E14+E19+E30+E35 -> 0
A7: 631 | B7: Pomoći od inozemnih vlada (šifre 6311+6312) | C7: 631 | D7: =D8+D11 -> 0 | E7: =E8+E11 -> 0
A8: 6311 | B8: Tekuće pomoći od inozemnih vlada (šifre 63111+63112) | C8: 6311 | D8: =SUM(D9:D10) -> 0 | E8: =SUM(E9:E10) -> 0
A9: 63111 | B9: Tekuće pomoći od inozemnih vlada u EU | C9: 63111
A10: 63112 | B10: Tekuće pomoći od inozemnih vlada izvan EU | C10: 63112
A11: 6312 | B11: Kapitalne pomoći od inozemnih vlada (šifre 63121+63122) | C11: 6312 | D11: =SUM(D12:D13) -> 0 | E11: =SUM(E12:E13) -> 0
A12: 63121 | B12: Kapitalne pomoći od inozemnih vlada u EU | C12: 63121
A13: 63122 | B13: Kapitalne pomoći od inozemnih vlada izvan EU | C13: 63122
A14: 632 | B14: Pomoći od međunarodnih organizacija te institucija i tijela EU (šifre 6321 do 6324) | C14: 632 | D14: =SUM(D15:D18) -> 0 | E14: =SUM(E15:E18) -> 0
A15: 6321 | B15: Tekuće pomoći od međunarodnih organizacija | C15: 6321
A16: 6322 | B16: Kapitalne pomoći od međunarodnih organizacija | C16: 6322
A17: 6323 | B17: Tekuće pomoći od institucija i tijela EU | C17: 6323
A18: 6324 | B18: Kapitalne pomoći od institucija i tijela EU | C18: 6324
A19: 638 | B19: Pomoći temeljem prijenosa EU sredstava (šifre 6381+6382) | C19: 638 | D19: =D20+D25 -> 0 | E19: =E20+E25 -> 0
A20: 6381 | B20: Tekuće pomoći temeljem prijenosa EU sredstava (šifre 63811 do 63814) | C20: 6381 | D20: =SUM(D21:D24) -> 0 | E20: =SUM(E21:E24) -> 0
A21: 63811 | B21: Tekuće pomoći iz državnog proračuna temeljem prijenosa EU sredstava | C21: 63811
